BEGIN:VCALENDAR
VERSION:2.0
PRODID:-//This is Athens City Festival - ECPv6.12.0.1//NONSGML v1.0//EN
CALSCALE:GREGORIAN
METHOD:PUBLISH
X-ORIGINAL-URL:https://cityfestival.thisisathens.org/en/
X-WR-CALDESC:Events for This is Athens City Festival
REFRESH-INTERVAL;VALUE=DURATION:PT1H
X-Robots-Tag:noindex
X-PUBLISHED-TTL:PT1H
BEGIN:VTIMEZONE
TZID:Europe/Athens
BEGIN:DAYLIGHT
TZOFFSETFROM:+0200
TZOFFSETTO:+0300
TZNAME:EEST
DTSTART:20260329T010000
END:DAYLIGHT
BEGIN:STANDARD
TZOFFSETFROM:+0300
TZOFFSETTO:+0200
TZNAME:EET
DTSTART:20261025T010000
END:STANDARD
END:VTIMEZONE
BEGIN:VEVENT
DTSTART;TZID=Europe/Athens:20260520T180000
DTEND;TZID=Europe/Athens:20260520T193000
DTSTAMP:20260421T143651
CREATED:20260420T145009Z
LAST-MODIFIED:20260420T145132Z
UID:10005430-1779300000-1779305400@cityfestival.thisisathens.org
SUMMARY:The Revolution of Colours
DESCRIPTION:The National Gallery invites children and parents to an original encounter with history through the programme “The Revolution of Colours.” The heroes and heroines of 1821 “come to life” on paper through the eyes of children\, transforming collective memory into a creative experience.\n\nTaking the iconic works of the museum’s historical collection as a starting point and inspired by the beloved children’s book The Day the Crayons Quit by Drew Daywalt and Oliver Jeffers young visitors discover a primal connection with colours and textures. Students will reconstruct the image of the Revolution’s fighters\, creating their own colourful mosaic from scratch that bridges a storied past with the Greece of today.\n\nThis activity is only available in Greek.
URL:https://cityfestival.thisisathens.org/en/event/the-revolution-of-colours/
LOCATION:National Gallery – Alexandros Soutsos Museum\, 50 Vasileos Konstantinou\, Athens\, 116 34\, Greece
CATEGORIES:EXHIBITION,FOR KIDS,FREE,MUSEUM
ATTACH;FMTTYPE=image/jpeg:https://cityfestival.thisisathens.org/wp-content/uploads/2026/04/61352_2000_2000.jpg
GEO:37.975933789444;23.749294222899
X-APPLE-STRUCTURED-LOCATION;VALUE=URI;X-ADDRESS=National Gallery – Alexandros Soutsos Museum 50 Vasileos Konstantinou Athens 116 34 Greece;X-APPLE-RADIUS=500;X-TITLE=50 Vasileos Konstantinou:geo:23.749294222899,37.975933789444
END:VEVENT
END:VCALENDAR