BEGIN:VCALENDAR
VERSION:2.0
PRODID:-//This is Athens City Festival - ECPv6.12.0.1//NONSGML v1.0//EN
CALSCALE:GREGORIAN
METHOD:PUBLISH
X-WR-CALNAME:This is Athens City Festival
X-ORIGINAL-URL:https://cityfestival.thisisathens.org/en/
X-WR-CALDESC:Events for This is Athens City Festival
REFRESH-INTERVAL;VALUE=DURATION:PT1H
X-Robots-Tag:noindex
X-PUBLISHED-TTL:PT1H
BEGIN:VTIMEZONE
TZID:Europe/Athens
BEGIN:DAYLIGHT
TZOFFSETFROM:+0200
TZOFFSETTO:+0300
TZNAME:EEST
DTSTART:20260329T010000
END:DAYLIGHT
BEGIN:STANDARD
TZOFFSETFROM:+0300
TZOFFSETTO:+0200
TZNAME:EET
DTSTART:20261025T010000
END:STANDARD
END:VTIMEZONE
BEGIN:VEVENT
DTSTART;TZID=Europe/Athens:20260520T090000
DTEND;TZID=Europe/Athens:20260521T230000
DTSTAMP:20260423T013726
CREATED:20260331T130426Z
LAST-MODIFIED:20260331T130426Z
UID:10005006-1779267600-1779404400@cityfestival.thisisathens.org
SUMMARY:Algerian Cultural Days
DESCRIPTION:For two days\, Klafthmonos Square transforms into a vibrant crossroads of heritage\, as the Embassy of Algeria and the This is Athens City Festival invite us to experience the immense cultural wealth of Africa’s largest country. The heart of Athens will be filled with the sights\, scents\, and sounds of a tradition that is as deep and complex as it is vividly alive.\n\nVisitors will have the chance to wander through an impressive cultural showcase featuring authentic handicrafts\, exquisite Berber jewellery\, and traditional attire. The air will be thick with the aromas of Algerian cuisine\, where spices and local delicacies take centre stage. The two-day programme is rounded off with traditional music and dance\, alongside the “Study in Algeria” platform—an initiative fostering dialogue around education and research.\n\nThis is an open invitation to discover Algeria through its legendary hospitality\, its rhythms\, and its enduring traditions.
URL:https://cityfestival.thisisathens.org/en/event/algerian-cultural-days-2/2026-05-20/
LOCATION:Klafthmonos Square\, Klaftmonos Square\, Athens\, Athens\, 105 61\, Greece
CATEGORIES:EXHIBITION,FREE,GASTRONOMY,OUTDOOR ACTIVITY
ATTACH;FMTTYPE=image/jpeg:https://cityfestival.thisisathens.org/wp-content/uploads/2025/05/1000020509.jpg
END:VEVENT
BEGIN:VEVENT
DTSTART;TZID=Europe/Athens:20260521T080000
DTEND;TZID=Europe/Athens:20260521T170000
DTSTAMP:20260423T013726
CREATED:20260331T130426Z
LAST-MODIFIED:20260331T130426Z
UID:10004331-1779350400-1779382800@cityfestival.thisisathens.org
SUMMARY:Algerian Cultural Days
DESCRIPTION:For two days\, Klafthmonos Square transforms into a vibrant crossroads of heritage\, as the Embassy of Algeria and the This is Athens City Festival invite us to experience the immense cultural wealth of Africa’s largest country. The heart of Athens will be filled with the sights\, scents\, and sounds of a tradition that is as deep and complex as it is vividly alive.\n\nVisitors will have the chance to wander through an impressive cultural showcase featuring authentic handicrafts\, exquisite Berber jewellery\, and traditional attire. The air will be thick with the aromas of Algerian cuisine\, where spices and local delicacies take centre stage. The two-day programme is rounded off with traditional music and dance\, alongside the “Study in Algeria” platform—an initiative fostering dialogue around education and research.\n\nThis is an open invitation to discover Algeria through its legendary hospitality\, its rhythms\, and its enduring traditions.
URL:https://cityfestival.thisisathens.org/en/event/algerian-cultural-days-2/2026-05-21/
LOCATION:Klafthmonos Square\, Klaftmonos Square\, Athens\, Athens\, 105 61\, Greece
CATEGORIES:EXHIBITION,FREE,GASTRONOMY,OUTDOOR ACTIVITY
ATTACH;FMTTYPE=image/jpeg:https://cityfestival.thisisathens.org/wp-content/uploads/2025/05/1000020509.jpg
END:VEVENT
BEGIN:VEVENT
DTSTART;TZID=Europe/Athens:20260521T180000
DTEND;TZID=Europe/Athens:20260521T193000
DTSTAMP:20260423T013727
CREATED:20260421T132937Z
LAST-MODIFIED:20260421T133145Z
UID:10005495-1779386400-1779391800@cityfestival.thisisathens.org
SUMMARY:Cracks in the Narrative: A Performance Walk
DESCRIPTION:The students of the Athens Conservatoire Drama School\, under the guidance of Professor Antonis Volanakis\, invite us to rediscover the city centre through a subversive new lens. The iconic Athenian Trilogy (the Academy\, the University\, and the National Library)\, the Korai 4 Memorial\, and Klafthmonos Square are no longer monuments “frozen” in time. Instead\, they awaken and find a new voice through the bodies and performances of the city’s rising talent.\n\nIn this unique urban takeover\, the traditional guided tour makes way for a performance that seeks out the “cracks” in the official story of Athens. It’s an invitation to listen to the city itself as it speaks of knowledge\, forgetting\, and the living present. Moving between these historic urban stages\, the action unfolds in the open air\, proving that history is a living pulse\, not a museum piece. \n\nStudents: Agapi Theodoridou\, Angeliki Andreadaki\, Alexandros Kavrakos\, Antonis Lymperis\, Georgianna Zouganeli\, Giannis Bariamis\, Giannis Fountas\, Zoe Tsirouki\, Kleio Christopoulou\, Lefteris Argyros\, Manos Karanikolas\, Marlen Kypriotaki\, Markella Papadimitriou\, Panagiotis Regkas\, Stella Selpesi\, Tasos Bekyros\, Filemon Adamou\, Christos Kekridis\, Christina Karakosta\, Christina Mitrousia.
URL:https://cityfestival.thisisathens.org/en/event/cracks-in-the-narrative-a-performance-walk/
LOCATION:Athens Trilogy\, Panepistimiou 39\, Athens\, Athens\, 105 64\, Greece
CATEGORIES:DANCE,FREE,OUTDOOR ACTIVITY,THEATER
ATTACH;FMTTYPE=image/jpeg:https://cityfestival.thisisathens.org/wp-content/uploads/2026/04/IMG_1872.jpeg
END:VEVENT
BEGIN:VEVENT
DTSTART;TZID=Europe/Athens:20260521T190000
DTEND;TZID=Europe/Athens:20260521T230000
DTSTAMP:20260423T013727
CREATED:20260417T091520Z
LAST-MODIFIED:20260417T091520Z
UID:10004982-1779390000-1779404400@cityfestival.thisisathens.org
SUMMARY:Papazó
DESCRIPTION:The historic Dexameni Square\, with its old-school Athenian charm and the cool breeze of Lycabettus lingering in the air\, becomes the stage for a major musical takeover headlined by Papazó. Vassilis Papazotos\, songwriter\, music producer\, and medical doctor\, brings the vibrant energy and effortless connection that made his viral music videos and unexpected collaborations a local sensation.\nThe signature “musical salon” he built online is moving to the physical stage for an open-air concert featuring an incredible roster of guests. The night strikes a perfect balance between contemporary urban culture and the warmth of a massive parea (group of friends)\, breathing new life into beloved tracks and making the entire square feel like one big choir. It’s a spring stroll that evolves into one of the most soulful and electric musical highlights of this year’s festival.
URL:https://cityfestival.thisisathens.org/en/event/papazo/
LOCATION:Dexameni Square\, Dexameni Square\, Athens\, Athens\, 106 73\, Greece
CATEGORIES:CONCERT,ENTERTAINMENT,FREE,OUTDOOR ACTIVITY
ATTACH;FMTTYPE=image/jpeg:https://cityfestival.thisisathens.org/wp-content/uploads/2026/03/VGK_5160-scaled.jpg
END:VEVENT
END:VCALENDAR