BEGIN:VCALENDAR
VERSION:2.0
PRODID:-//This is Athens City Festival - ECPv6.12.0.1//NONSGML v1.0//EN
CALSCALE:GREGORIAN
METHOD:PUBLISH
X-WR-CALNAME:This is Athens City Festival
X-ORIGINAL-URL:https://cityfestival.thisisathens.org/en/
X-WR-CALDESC:Events for This is Athens City Festival
REFRESH-INTERVAL;VALUE=DURATION:PT1H
X-Robots-Tag:noindex
X-PUBLISHED-TTL:PT1H
BEGIN:VTIMEZONE
TZID:Europe/Athens
BEGIN:DAYLIGHT
TZOFFSETFROM:+0200
TZOFFSETTO:+0300
TZNAME:EEST
DTSTART:20260329T010000
END:DAYLIGHT
BEGIN:STANDARD
TZOFFSETFROM:+0300
TZOFFSETTO:+0200
TZNAME:EET
DTSTART:20261025T010000
END:STANDARD
END:VTIMEZONE
BEGIN:VEVENT
DTSTART;TZID=Europe/Athens:20260521T190000
DTEND;TZID=Europe/Athens:20260521T230000
DTSTAMP:20260423T013728
CREATED:20260417T091520Z
LAST-MODIFIED:20260417T091520Z
UID:10004982-1779390000-1779404400@cityfestival.thisisathens.org
SUMMARY:Papazó
DESCRIPTION:The historic Dexameni Square\, with its old-school Athenian charm and the cool breeze of Lycabettus lingering in the air\, becomes the stage for a major musical takeover headlined by Papazó. Vassilis Papazotos\, songwriter\, music producer\, and medical doctor\, brings the vibrant energy and effortless connection that made his viral music videos and unexpected collaborations a local sensation.\nThe signature “musical salon” he built online is moving to the physical stage for an open-air concert featuring an incredible roster of guests. The night strikes a perfect balance between contemporary urban culture and the warmth of a massive parea (group of friends)\, breathing new life into beloved tracks and making the entire square feel like one big choir. It’s a spring stroll that evolves into one of the most soulful and electric musical highlights of this year’s festival.
URL:https://cityfestival.thisisathens.org/en/event/papazo/
LOCATION:Dexameni Square\, Dexameni Square\, Athens\, Athens\, 106 73\, Greece
CATEGORIES:CONCERT,ENTERTAINMENT,FREE,OUTDOOR ACTIVITY
ATTACH;FMTTYPE=image/jpeg:https://cityfestival.thisisathens.org/wp-content/uploads/2026/03/VGK_5160-scaled.jpg
END:VEVENT
END:VCALENDAR