BEGIN:VCALENDAR
VERSION:2.0
PRODID:-//This is Athens City Festival - ECPv6.12.0.1//NONSGML v1.0//EN
CALSCALE:GREGORIAN
METHOD:PUBLISH
X-ORIGINAL-URL:https://cityfestival.thisisathens.org/en/
X-WR-CALDESC:Events for This is Athens City Festival
REFRESH-INTERVAL;VALUE=DURATION:PT1H
X-Robots-Tag:noindex
X-PUBLISHED-TTL:PT1H
BEGIN:VTIMEZONE
TZID:Europe/Athens
BEGIN:DAYLIGHT
TZOFFSETFROM:+0200
TZOFFSETTO:+0300
TZNAME:EEST
DTSTART:20260329T010000
END:DAYLIGHT
BEGIN:STANDARD
TZOFFSETFROM:+0300
TZOFFSETTO:+0200
TZNAME:EET
DTSTART:20261025T010000
END:STANDARD
END:VTIMEZONE
BEGIN:VEVENT
DTSTART;TZID=Europe/Athens:20260522T180000
DTEND;TZID=Europe/Athens:20260522T190000
DTSTAMP:20260421T165946
CREATED:20260402T105646Z
LAST-MODIFIED:20260402T140923Z
UID:10005030-1779472800-1779476400@cityfestival.thisisathens.org
SUMMARY:Guided Tour at The Maria Callas Museum
DESCRIPTION:The Maria Callas Museum invites us on a moving tour into the world of the 20th century’s leading soprano. Through a specially designed guided experience\, visitors have the unique opportunity to discover the most iconic moments of her career\, while exploring the unknown\, personal aspects of the journey that established her as a global opera icon.\n\nThe narrative brings her path to life beyond standard exhibition texts\, illuminating her artistic legacy and complex personality directly and experientially. This is an experience tailored to its audience\, offering a deep look at the woman and the artist who changed lyric theatre forever\, right in the heart of the city she loved so dearly.\n\nThis activity is only available in Greek.
URL:https://cityfestival.thisisathens.org/en/event/guided-tour-at-the-maria-callas-museum/2026-05-22/
LOCATION:Maria Callas Museum\, Mitropoleos 44\, Athens\, Athens\, 105 63\, Greece
CATEGORIES:EXHIBITION,FREE,MUSEUM,TOUR
ATTACH;FMTTYPE=image/jpeg:https://cityfestival.thisisathens.org/wp-content/uploads/2026/04/MARIACALLASMUSEUM_1-scaled.jpg
END:VEVENT
BEGIN:VEVENT
DTSTART;TZID=Europe/Athens:20260522T183000
DTEND;TZID=Europe/Athens:20260522T210000
DTSTAMP:20260421T165946
CREATED:20260402T143813Z
LAST-MODIFIED:20260402T143813Z
UID:10004341-1779474600-1779483600@cityfestival.thisisathens.org
SUMMARY:A Historical Walk with Dr. Iordanis Papadopoulos: Kypriadou
DESCRIPTION:On the fringes of Patisia\, where the urban density gives way to a different architectural rhythm and a quieter Athenian breath\, the City of Athens Festival invites us to discover the Kypriadou district. Guided by Dr. Iordanis Papadopoulos\, this walk unravels the history of a model neighbourhood\, Athens’ original “garden city” that set the blueprint for suburban areas like Psychiko and Nea Smyrni.\n\nAs we wander past grand villas\, hidden ateliers\, and streets that preserve the imprint of a different era\, we’ll trace the footsteps of the so-called “Kypriadis School\,” as the great artist Yannis Moralis once named it. From the architectural vision of Aristotelis Zachos to the homes of legends like Parthenis\, Kontoglou\, Pikionis\, and Argyros\, this neighbourhood emerges as a living canvas of the famed ’30s Generation and the Athenian intelligentsia. This tour connects modernism\, memory\, and everyday life\, illuminating a side of the city that remains charming\, unexpected\, and deeply Athenian.\n\nThis activity is only available in Greek.
URL:https://cityfestival.thisisathens.org/en/event/a-historical-walk-with-dr-iordanis-papadopoulos-kypriadou/
LOCATION:Athens
CATEGORIES:FREE,OUTDOOR ACTIVITY,TOUR
ATTACH;FMTTYPE=image/png:https://cityfestival.thisisathens.org/wp-content/uploads/2026/03/image-9.png
END:VEVENT
END:VCALENDAR