BEGIN:VCALENDAR
VERSION:2.0
PRODID:-//This is Athens City Festival - ECPv6.12.0.1//NONSGML v1.0//EN
CALSCALE:GREGORIAN
METHOD:PUBLISH
X-WR-CALNAME:This is Athens City Festival
X-ORIGINAL-URL:https://cityfestival.thisisathens.org/en/
X-WR-CALDESC:Events for This is Athens City Festival
REFRESH-INTERVAL;VALUE=DURATION:PT1H
X-Robots-Tag:noindex
X-PUBLISHED-TTL:PT1H
BEGIN:VTIMEZONE
TZID:Europe/Athens
BEGIN:DAYLIGHT
TZOFFSETFROM:+0200
TZOFFSETTO:+0300
TZNAME:EEST
DTSTART:20260329T010000
END:DAYLIGHT
BEGIN:STANDARD
TZOFFSETFROM:+0300
TZOFFSETTO:+0200
TZNAME:EET
DTSTART:20261025T010000
END:STANDARD
END:VTIMEZONE
BEGIN:VEVENT
DTSTART;TZID=Europe/Athens:20260523T210000
DTEND;TZID=Europe/Athens:20260523T210000
DTSTAMP:20260423T013720
CREATED:20260417T142923Z
LAST-MODIFIED:20260417T142923Z
UID:10004319-1779570000-1779570000@cityfestival.thisisathens.org
SUMMARY:En Lefko Spring Party
DESCRIPTION:Spring in Athens has been synonymous with one name for years: the En Lefko Spring Party. For the third consecutive year\, the team from En Lefko 87.7 is leaving the studio behind and heading to the heart of the city\, this time taking over the iconic Ω2 venue at the Athens Conservatoire.\n\nSet against the striking architecture of the Despotopoulos building\, the night immediately exudes a contemporary\, elegant\, and unapologetically dance-driven energy. En Lefko’s beloved radio producers bring their most subversive tracks\, signature picks\, and the creative flair that has made the station a byword for a certain Athenian je ne sais quoi. For a few hours\, the Conservatoire becomes a living\, breathing cell of celebration\, a space devoted to the city’s sound and our collective urge to dance into spring.
URL:https://cityfestival.thisisathens.org/en/event/en-lefko-spring-party-2/
LOCATION:Athens Conservatoire\, Vas. Georgiou Β΄ 17-19\, Athens\, Athens\, 106 75\, Greece
CATEGORIES:DJ SET,ENTERTAINMENT,FREE,PARTY
ATTACH;FMTTYPE=image/jpeg:https://cityfestival.thisisathens.org/wp-content/uploads/2026/03/230520_GMK_En_Lefko_Spring_Party_28-scaled.jpg
GEO:37.973423563659;23.743181774147
X-APPLE-STRUCTURED-LOCATION;VALUE=URI;X-ADDRESS=Athens Conservatoire Vas. Georgiou Β΄ 17-19 Athens Athens 106 75 Greece;X-APPLE-RADIUS=500;X-TITLE=Vas. Georgiou Β΄ 17-19:geo:23.743181774147,37.973423563659
END:VEVENT
END:VCALENDAR