BEGIN:VCALENDAR
VERSION:2.0
PRODID:-//This is Athens City Festival - ECPv6.12.0.1//NONSGML v1.0//EN
CALSCALE:GREGORIAN
METHOD:PUBLISH
X-ORIGINAL-URL:https://cityfestival.thisisathens.org/en/
X-WR-CALDESC:Events for This is Athens City Festival
REFRESH-INTERVAL;VALUE=DURATION:PT1H
X-Robots-Tag:noindex
X-PUBLISHED-TTL:PT1H
BEGIN:VTIMEZONE
TZID:Europe/Athens
BEGIN:DAYLIGHT
TZOFFSETFROM:+0200
TZOFFSETTO:+0300
TZNAME:EEST
DTSTART:20260329T010000
END:DAYLIGHT
BEGIN:STANDARD
TZOFFSETFROM:+0300
TZOFFSETTO:+0200
TZNAME:EET
DTSTART:20261025T010000
END:STANDARD
END:VTIMEZONE
BEGIN:VEVENT
DTSTART;TZID=Europe/Athens:20260523T113000
DTEND;TZID=Europe/Athens:20260523T123000
DTSTAMP:20260421T143711
CREATED:20260403T122937Z
LAST-MODIFIED:20260420T133502Z
UID:10005026-1779535800-1779539400@cityfestival.thisisathens.org
SUMMARY:Biscuits at the Museum!
DESCRIPTION:The Hellenic Children’s Museum is opening up its most delicious exhibit for a hands-on kitchen takeover. If you’re looking for a brilliant way to keep the kids entertained (and well-fed) this May\, “Kitchen: Discovering the World of the Biscuit” is exactly where you need to be.\n\nIn this “Biscuits at the Museum!” workshop\, our younger festival-goers get to swap the sketchbook for a rolling pin. It’s not just a baking lesson; it’s a magical journey into the world of pastry through the eyes of a museum.\n\nThis activity is only available in Greek.
URL:https://cityfestival.thisisathens.org/en/event/biscuits-at-the-museum/
LOCATION:Hellenic Children’s Museum\, Vas. Georgiou Β΄ 19\, Athens\, Athens\, 106 75\, Greece
CATEGORIES:EXHIBITION,FOR KIDS,FREE,MUSEUM
ATTACH;FMTTYPE=image/jpeg:https://cityfestival.thisisathens.org/wp-content/uploads/2026/04/Έκθεμα-Κουζίνα@ΠΜΑ-scaled.jpg
END:VEVENT
BEGIN:VEVENT
DTSTART;TZID=Europe/Athens:20260523T120000
DTEND;TZID=Europe/Athens:20260523T130000
DTSTAMP:20260421T143711
CREATED:20260331T130830Z
LAST-MODIFIED:20260401T081651Z
UID:10004197-1779537600-1779541200@cityfestival.thisisathens.org
SUMMARY:Guided Tour at the National Historical Museum
DESCRIPTION:Step inside the grand\, stately building with the bronze statue of Kolokotronis on horseback out front. It’s nothing less than the Old Parliament House\, the very heart of Greece’s early political acts\, and it is throwing open its doors for the This is Athens City Festival.\n\nThis isn’t just a wander through a dusty museum; it’s a guided journey through the National Historical Museum. You’ll be stepping into the original debating chamber where the big decisions that shaped modern Greece were hammered out. It’s an atmospheric spot that keeps history grounded in the centre of the city. Our guide will lead you through a stunning collection that charts the Greek story from the fall of Constantinople through to the 20th century. You’ll see personal heirlooms and everyday objects from the Greek Revolution\, intricate traditional costumes that are basically 19th-century high fashion\, historic weaponry\, and archival treasures that tell the story of a nation finding its feet.\n\nThis activity is only available in Greek.
URL:https://cityfestival.thisisathens.org/en/event/guided-tour-at-the-national-historical-museum/2026-05-23/
LOCATION:National Historical Museum\, Stadiou 13\, Athens\, Athens\, 105 61\, Greece
CATEGORIES:EXHIBITION,FREE,MUSEUM,TOUR
ATTACH;FMTTYPE=image/jpeg:https://cityfestival.thisisathens.org/wp-content/uploads/2026/03/φωτό-ξεναγήσεων.jpg
END:VEVENT
BEGIN:VEVENT
DTSTART;TZID=Europe/Athens:20260523T133000
DTEND;TZID=Europe/Athens:20260523T173000
DTSTAMP:20260421T143712
CREATED:20260421T093925Z
LAST-MODIFIED:20260421T094013Z
UID:10005474-1779543000-1779557400@cityfestival.thisisathens.org
SUMMARY:Guided Tours of the Cavafy Archive
DESCRIPTION:This year\, the This is Athens City Festival marks its fifth anniversary with a truly special collaboration. We’ve teamed up with the Onassis Foundation to invite you on a deeply personal journey through the life of one of the world’s most influential poets. For the first time as part of the festival\, we’re stepping inside a stunning 1910 listed building on Phrynichou Street. Since late 2023\, this spot in the heart of Plaka has become the new home of the Cavafy Archive\, and now\, its doors are opening for a series of exclusive guided tours.\n\nIt’s a rare chance to get up close and personal with the world of C.P. Cavafy by wandering through five specially curated rooms that recreate the atmosphere of his legendary home in Alexandria. Among the treasures\, you will find personal relics such as original furniture\, mementos\, and even the poet’s death mask\, alongside a remarkable collection of 966 surviving volumes in the library. The experience also showcases inspired art\, with works ranging from Theodore Ralli and Nikos Hadjikyriakos-Ghika to contemporary artists moved by his poetry. Perhaps most poignantly\, the tour reveals the universe of Cavafy’s Athens through personal diaries and glowing letters from literary greats like Angelos Sikelianos\, revealing the poet’s deep\, timeless connection to this city.\n\nTo celebrate this new partnership\, the Onassis Foundation is offering 20 free guided tours throughout the month for festival-goers. It’s a wonderful opportunity to dive deep into history\, memory\, and world-class art.\n\nThis activity is only available in Greek.
URL:https://cityfestival.thisisathens.org/en/event/guided-tours-of-the-cavafy-archive-3/
LOCATION:Cavafy Archive\, 16B Frynichou\, Plaka\, 105 58\, Greece
CATEGORIES:EXHIBITION,FREE,LITERATURE,MUSEUM,TOUR
ATTACH;FMTTYPE=image/jpeg:https://cityfestival.thisisathens.org/wp-content/uploads/2026/03/S9A1494_small.jpg
GEO:37.970139361328;23.730618794063
X-APPLE-STRUCTURED-LOCATION;VALUE=URI;X-ADDRESS=Cavafy Archive 16B Frynichou Plaka 105 58 Greece;X-APPLE-RADIUS=500;X-TITLE=16B Frynichou:geo:23.730618794063,37.970139361328
END:VEVENT
END:VCALENDAR