BEGIN:VCALENDAR
VERSION:2.0
PRODID:-//This is Athens City Festival - ECPv6.12.0.1//NONSGML v1.0//EN
CALSCALE:GREGORIAN
METHOD:PUBLISH
X-WR-CALNAME:This is Athens City Festival
X-ORIGINAL-URL:https://cityfestival.thisisathens.org/en/
X-WR-CALDESC:Events for This is Athens City Festival
REFRESH-INTERVAL;VALUE=DURATION:PT1H
X-Robots-Tag:noindex
X-PUBLISHED-TTL:PT1H
BEGIN:VTIMEZONE
TZID:Europe/Athens
BEGIN:DAYLIGHT
TZOFFSETFROM:+0200
TZOFFSETTO:+0300
TZNAME:EEST
DTSTART:20260329T010000
END:DAYLIGHT
BEGIN:STANDARD
TZOFFSETFROM:+0300
TZOFFSETTO:+0200
TZNAME:EET
DTSTART:20261025T010000
END:STANDARD
END:VTIMEZONE
BEGIN:VEVENT
DTSTART;TZID=Europe/Athens:20260527T173000
DTEND;TZID=Europe/Athens:20260527T190000
DTSTAMP:20260421T165857
CREATED:20260403T103523Z
LAST-MODIFIED:20260403T103523Z
UID:10005131-1779903000-1779908400@cityfestival.thisisathens.org
SUMMARY:Guided Tour: Nikolas Klironomos Retrospective "1985–2025"
DESCRIPTION:We invite you to a series of guided tours of the Nikolas Klironomos retrospective\, a tour covering forty years of continuous artistic creation. The tour highlights the creator’s dual nature as both painter and set designer\, revealing how he “stages” his canvas to transform images of the city and its people into poetic narratives.\n\nAs we navigate through his works\, we will discover how everyday life meets the dream and how the changing seasons are captured through bold colours and special materials that provide movement and vitality. This is an opportunity to delve into the unseen aspects of time and human existence\, understanding how Klironomos manages to give a monumental character to the small\, fragmentary moments of our lives. An experiential tour that speaks straight to the heart and memory\, offering a comprehensive look at the work of one of the most versatile creators on the contemporary Greek scene.\n\nThis activity is only available in Greek.
URL:https://cityfestival.thisisathens.org/en/event/guided-tour-nikolas-klironomos-retrospective-1985-2025/2026-05-27/
LOCATION:The City of Athens Gallery\, Municipal Gallery of Athens\, Athens\, Athens\, 104 36\, Greece
CATEGORIES:EXHIBITION,FREE,GALLERY,TOUR
ATTACH;FMTTYPE=image/jpeg:https://cityfestival.thisisathens.org/wp-content/uploads/2026/04/17.-Εργοτάξιο-ιδιωτ.-συλλογή-120Χ250-εκ-Λάδι-και-Ακρυλικό-σε-καμβά-Αθήνα-2012-scaled.jpg
END:VEVENT
END:VCALENDAR