BEGIN:VCALENDAR
VERSION:2.0
PRODID:-//This is Athens City Festival - ECPv6.12.0.1//NONSGML v1.0//EN
CALSCALE:GREGORIAN
METHOD:PUBLISH
X-WR-CALNAME:This is Athens City Festival
X-ORIGINAL-URL:https://cityfestival.thisisathens.org/en/
X-WR-CALDESC:Events for This is Athens City Festival
REFRESH-INTERVAL;VALUE=DURATION:PT1H
X-Robots-Tag:noindex
X-PUBLISHED-TTL:PT1H
BEGIN:VTIMEZONE
TZID:Europe/Athens
BEGIN:DAYLIGHT
TZOFFSETFROM:+0200
TZOFFSETTO:+0300
TZNAME:EEST
DTSTART:20260329T010000
END:DAYLIGHT
BEGIN:STANDARD
TZOFFSETFROM:+0300
TZOFFSETTO:+0200
TZNAME:EET
DTSTART:20261025T010000
END:STANDARD
END:VTIMEZONE
BEGIN:VEVENT
DTSTART;TZID=Europe/Athens:20260528T173000
DTEND;TZID=Europe/Athens:20260528T230000
DTSTAMP:20260423T013722
CREATED:20260406T101045Z
LAST-MODIFIED:20260406T101635Z
UID:10004978-1779989400-1780009200@cityfestival.thisisathens.org
SUMMARY:Nepenthe
DESCRIPTION:The Τhis is Athens City Festival welcomes Nepenthe\, a project that reimagines the dance floor by focusing on atmosphere\, detail\, and a deep connection to the city’s architecture. In Korai Square\, one of the most historic corners of the centre\, a curated musical “ritual” unfolds\, transforming public space into a living\, breathing stage.\n\nAs daylight fades into the Athenian dusk\, the steady pulse of house music echoes between the square’s iconic buildings\, striking a perfect balance between contemporary club culture and the city’s architectural memory.\n\nNepenthe is more than just a party; it’s an immersive experience of rhythm and togetherness. It is an invitation to pause in the heart of Athens and see it differently through sound\, light\, and the shared energy of a crowd dancing as one. Come and find your rhythm where the past meets the pulse of the present.
URL:https://cityfestival.thisisathens.org/en/event/nepenthe/
LOCATION:Korai Square\, Korai 1\, Athens\, Athens\, 105 64\, Greece
CATEGORIES:DJ SET,ENTERTAINMENT,FREE,OUTDOOR ACTIVITY,PARTY
ATTACH;FMTTYPE=image/jpeg:https://cityfestival.thisisathens.org/wp-content/uploads/2026/03/NEPENTHE_LYCABETTUS_3_YEARS_00362.jpg
END:VEVENT
BEGIN:VEVENT
DTSTART;TZID=Europe/Athens:20260528T180000
DTEND;TZID=Europe/Athens:20260528T200000
DTSTAMP:20260423T013722
CREATED:20260420T151034Z
LAST-MODIFIED:20260420T151308Z
UID:10005433-1779991200-1779998400@cityfestival.thisisathens.org
SUMMARY:It’s Story Time
DESCRIPTION:The This is Athens City Festival hosts a theatrical performance by the Athens Conservatoire Drama School titled “It’s Story Time” at Drakopoulou Park. Six short narratives\, inspired by iconic works of the classical and contemporary repertoire\, come to life under the direction of Sofia Paschou and Alexandros Chrysanthopoulos. With storytelling as the ultimate theatrical tool\, the performers explore different modes of expression\, alternating voices\, roles\, and perspectives.\n\nThe stage transforms into a living laboratory where the story is not simply presented\, but “built” in real-time before the eyes of the audience. This is a collective narrative exercise that bets on the power of presence and imagination\, offering a unique theatrical experience in the heart of the city.
URL:https://cityfestival.thisisathens.org/en/event/its-story-time/
LOCATION:Drakopoulos Park\, Lamprou Porfira 5\, Athens\, Athens\, 111 41\, Greece
CATEGORIES:FREE,OUTDOOR ACTIVITY,THEATER
ATTACH;FMTTYPE=image/png:https://cityfestival.thisisathens.org/wp-content/uploads/2026/04/Screenshot-2026-04-21-163409.png
END:VEVENT
BEGIN:VEVENT
DTSTART;TZID=Europe/Athens:20260528T183000
DTEND;TZID=Europe/Athens:20260528T213000
DTSTAMP:20260423T013722
CREATED:20260422T112625Z
LAST-MODIFIED:20260422T112758Z
UID:10005515-1779993000-1780003800@cityfestival.thisisathens.org
SUMMARY:Embassy of Hungary in Greece
DESCRIPTION:The Embassy of Hungary is teaming up with us for a Magyar pop-up in Pangrati’s Mesologgiou Square. From 18:30 to 21:00\, this tucked-away neighbourhood square becomes an open-air tasting room\, inviting locals and visitors to get stuck into traditional Hungarian delicacies and drinks that capture the authentic flavours of Central Europe.\n\nThe evening’s rhythm reaches its peak at 20:00\, when the dance troupe from the Hellenic Centre for Folklore Studies (EL.KE.LA.M) takes the stage. Expect a high-energy performance of traditional Hungarian dances that will awaken the square with the pulse of a different heritage right in the heart of Athens.
URL:https://cityfestival.thisisathens.org/en/event/embassy-of-hungary-in-greece/
LOCATION:Mesologgiou Square\, Mesologgiou Square\, Athens\, Athens\, 116 34\, Greece
CATEGORIES:DANCE,FREE,GASTRONOMY,OUTDOOR ACTIVITY
ATTACH;FMTTYPE=image/jpeg:https://cityfestival.thisisathens.org/wp-content/uploads/2026/04/image003-scaled.jpg
END:VEVENT
END:VCALENDAR