BEGIN:VCALENDAR
VERSION:2.0
PRODID:-//This is Athens City Festival - ECPv6.12.0.1//NONSGML v1.0//EN
CALSCALE:GREGORIAN
METHOD:PUBLISH
X-WR-CALNAME:This is Athens City Festival
X-ORIGINAL-URL:https://cityfestival.thisisathens.org/en/
X-WR-CALDESC:Events for This is Athens City Festival
REFRESH-INTERVAL;VALUE=DURATION:PT1H
X-Robots-Tag:noindex
X-PUBLISHED-TTL:PT1H
BEGIN:VTIMEZONE
TZID:Europe/Athens
BEGIN:DAYLIGHT
TZOFFSETFROM:+0200
TZOFFSETTO:+0300
TZNAME:EEST
DTSTART:20260329T010000
END:DAYLIGHT
BEGIN:STANDARD
TZOFFSETFROM:+0300
TZOFFSETTO:+0200
TZNAME:EET
DTSTART:20261025T010000
END:STANDARD
END:VTIMEZONE
BEGIN:VEVENT
DTSTART;TZID=Europe/Athens:20260529T060000
DTEND;TZID=Europe/Athens:20260529T233000
DTSTAMP:20260419T202723
CREATED:20260403T113108Z
LAST-MODIFIED:20260403T113421Z
UID:10005179-1780034400-1780097400@cityfestival.thisisathens.org
SUMMARY:Athens Photo World: The FIFA World Cup 1930 – 2026 by the Associated Press
DESCRIPTION:Athens Photo World is transforming the fence running around the National Garden into a stunning open-air gallery dedicated to the “king of sports.” This exhibition presents 50 iconic photographs from the historic archives of the Associated Press\, offering a fascinating journey through the evolution of the World Cup\, from the very first whistle in Uruguay in 1930 to the modern moments of glory currently unfolding on the pitches of the USA\, Canada\, and Mexico in 2026.\n\nIt is a true walk through sporting history along Vasilissis Sofias and Amalias Avenue\, where passers-by can pause before high-aesthetic images that capture the intensity\, passion\, and historic upsets that have shaken the planet for nearly a century. This visual timeline spans nearly 100 years of global football\, showcasing the work of world-leading photojournalists who were right there on the touchline. Set against one of the most beautiful walks in the city in the heart of springtime Athens\, it is a unique opportunity for photography enthusiasts and football fans alike to discover global sporting history through the eyes of the masters.
URL:https://cityfestival.thisisathens.org/en/event/athens-photo-world-the-fifa-world-cup-1930-2026-by-the-associated-press/2026-05-29/
LOCATION:National Garden\, Vas. Amalias 1\, Athens\, Athens\, 105 57\, Greece
CATEGORIES:EXHIBITION,FREE,OUTDOOR ACTIVITY,SPORTS & WELLNESS
ATTACH;FMTTYPE=image/jpeg:https://cityfestival.thisisathens.org/wp-content/uploads/2026/04/18-WCUP1970_18B_XLAT305.jpeg
END:VEVENT
BEGIN:VEVENT
DTSTART;TZID=Europe/Athens:20260529T060000
DTEND;TZID=Europe/Athens:20260529T233000
DTSTAMP:20260419T202723
CREATED:20260403T114848Z
LAST-MODIFIED:20260403T114927Z
UID:10005185-1780034400-1780097400@cityfestival.thisisathens.org
SUMMARY:Athens Photo World: Michalis Pappas – Mitos\, The Thread of Greece
DESCRIPTION:For the seventh consecutive year\, Athens Photo World returns to the perimeter of the Megaron Athens Concert Hall transforming it into a street gallery\, showing a different and deeply personal perspective on Greek identity. As part of the This is Athens City Festival 2026\, this year’s exhibition features 13 selected photographs from the broader work of Michalis Pappas\, titled “Mitos: The Thread of Greece”.\n\nMoving away from the usual landmarks\, Pappas’s lens focuses instead on traditional costumes worn by contemporary figures\, proving that tradition is not a fossilised relic of the past\, but a living\, evolving process that breathes within our daily lives. It is an evocative connection between yesterday and today\, inviting passers-by to discover the “thread” that links us to our roots right in the heart of the urban fabric.
URL:https://cityfestival.thisisathens.org/en/event/athens-photo-world-michalis-pappas-mitos-the-thread-of-greece/2026-05-29/
LOCATION:The Athens Concert Hall – Megaron\, Vas. Sofias & Kokkali\, Athens\, 115 21\, Greece
CATEGORIES:EXHIBITION,FREE,OUTDOOR ACTIVITY
ATTACH;FMTTYPE=image/jpeg:https://cityfestival.thisisathens.org/wp-content/uploads/2026/04/mp11_.jpeg
GEO:37.981301768117;23.754237429541
X-APPLE-STRUCTURED-LOCATION;VALUE=URI;X-ADDRESS=The Athens Concert Hall – Megaron Vas. Sofias & Kokkali Athens 115 21 Greece;X-APPLE-RADIUS=500;X-TITLE=Vas. Sofias & Kokkali:geo:23.754237429541,37.981301768117
END:VEVENT
BEGIN:VEVENT
DTSTART;TZID=Europe/Athens:20260529T200000
DTEND;TZID=Europe/Athens:20260529T220000
DTSTAMP:20260419T202723
CREATED:20260331T131258Z
LAST-MODIFIED:20260331T131258Z
UID:10004976-1780084800-1780092000@cityfestival.thisisathens.org
SUMMARY:SFERA pres. Marseaux LIVE
DESCRIPTION:For one night only\, the tranquil Pagrati Grove sheds its quiet daily routine to become the city’s most vibrant open-air dancefloor. Sfera 102.2 welcomes Marseaux for an explosive live set\, bringing cutting-edge urban pop culture into the lush\, green heart of Athens.\n\nAgainst a backdrop of towering pines and the familiar energy of the neighbourhood\, Marseaux takes the stage with the signature sound and fresh aesthetic that have made her a breakout star of the new generation. Expect trap rhythms\, infectious hooks\, and the kind of lyrics that have already become street anthems. This isn’t just a concert; it’s a seamless blend of a live show and an impromptu forest party.\n\nWhether you’ve followed her since her early days with the WNC crew or discovered her through “Hanomai” and her latest hits\, this is your chance to see her in a setting that fits her perfectly. It’s an evening that promises raw energy\, soaring rhythms\, and that unmistakable feeling that the entire city is dancing right there with you.
URL:https://cityfestival.thisisathens.org/en/event/sfera-pres-marseaux-live/
LOCATION:Pangrati Grove\, Pangrati Grove\, Athens\, Athens\, 116 35\, Greece
CATEGORIES:CONCERT,ENTERTAINMENT,FREE,OUTDOOR ACTIVITY
ATTACH;FMTTYPE=image/jpeg:https://cityfestival.thisisathens.org/wp-content/uploads/2026/03/imgi_2_619801680_18375543511086074_3917536430242255867_n.jpg
END:VEVENT
END:VCALENDAR