BEGIN:VCALENDAR
VERSION:2.0
PRODID:-//This is Athens City Festival - ECPv6.12.0.1//NONSGML v1.0//EN
CALSCALE:GREGORIAN
METHOD:PUBLISH
X-WR-CALNAME:This is Athens City Festival
X-ORIGINAL-URL:https://cityfestival.thisisathens.org/en/
X-WR-CALDESC:Events for This is Athens City Festival
REFRESH-INTERVAL;VALUE=DURATION:PT1H
X-Robots-Tag:noindex
X-PUBLISHED-TTL:PT1H
BEGIN:VTIMEZONE
TZID:Europe/Athens
BEGIN:DAYLIGHT
TZOFFSETFROM:+0200
TZOFFSETTO:+0300
TZNAME:EEST
DTSTART:20260329T010000
END:DAYLIGHT
BEGIN:STANDARD
TZOFFSETFROM:+0300
TZOFFSETTO:+0200
TZNAME:EET
DTSTART:20261025T010000
END:STANDARD
END:VTIMEZONE
BEGIN:VEVENT
DTSTART;TZID=Europe/Athens:20260530T060000
DTEND;TZID=Europe/Athens:20260530T233000
DTSTAMP:20260419T202722
CREATED:20260403T113108Z
LAST-MODIFIED:20260403T113421Z
UID:10005180-1780120800-1780183800@cityfestival.thisisathens.org
SUMMARY:Athens Photo World: The FIFA World Cup 1930 – 2026 by the Associated Press
DESCRIPTION:Athens Photo World is transforming the fence running around the National Garden into a stunning open-air gallery dedicated to the “king of sports.” This exhibition presents 50 iconic photographs from the historic archives of the Associated Press\, offering a fascinating journey through the evolution of the World Cup\, from the very first whistle in Uruguay in 1930 to the modern moments of glory currently unfolding on the pitches of the USA\, Canada\, and Mexico in 2026.\n\nIt is a true walk through sporting history along Vasilissis Sofias and Amalias Avenue\, where passers-by can pause before high-aesthetic images that capture the intensity\, passion\, and historic upsets that have shaken the planet for nearly a century. This visual timeline spans nearly 100 years of global football\, showcasing the work of world-leading photojournalists who were right there on the touchline. Set against one of the most beautiful walks in the city in the heart of springtime Athens\, it is a unique opportunity for photography enthusiasts and football fans alike to discover global sporting history through the eyes of the masters.
URL:https://cityfestival.thisisathens.org/en/event/athens-photo-world-the-fifa-world-cup-1930-2026-by-the-associated-press/2026-05-30/
LOCATION:National Garden\, Vas. Amalias 1\, Athens\, Athens\, 105 57\, Greece
CATEGORIES:EXHIBITION,FREE,OUTDOOR ACTIVITY,SPORTS & WELLNESS
ATTACH;FMTTYPE=image/jpeg:https://cityfestival.thisisathens.org/wp-content/uploads/2026/04/18-WCUP1970_18B_XLAT305.jpeg
END:VEVENT
BEGIN:VEVENT
DTSTART;TZID=Europe/Athens:20260530T060000
DTEND;TZID=Europe/Athens:20260530T233000
DTSTAMP:20260419T202722
CREATED:20260403T114848Z
LAST-MODIFIED:20260403T114927Z
UID:10005186-1780120800-1780183800@cityfestival.thisisathens.org
SUMMARY:Athens Photo World: Michalis Pappas – Mitos\, The Thread of Greece
DESCRIPTION:For the seventh consecutive year\, Athens Photo World returns to the perimeter of the Megaron Athens Concert Hall transforming it into a street gallery\, showing a different and deeply personal perspective on Greek identity. As part of the This is Athens City Festival 2026\, this year’s exhibition features 13 selected photographs from the broader work of Michalis Pappas\, titled “Mitos: The Thread of Greece”.\n\nMoving away from the usual landmarks\, Pappas’s lens focuses instead on traditional costumes worn by contemporary figures\, proving that tradition is not a fossilised relic of the past\, but a living\, evolving process that breathes within our daily lives. It is an evocative connection between yesterday and today\, inviting passers-by to discover the “thread” that links us to our roots right in the heart of the urban fabric.
URL:https://cityfestival.thisisathens.org/en/event/athens-photo-world-michalis-pappas-mitos-the-thread-of-greece/2026-05-30/
LOCATION:The Athens Concert Hall – Megaron\, Vas. Sofias & Kokkali\, Athens\, 115 21\, Greece
CATEGORIES:EXHIBITION,FREE,OUTDOOR ACTIVITY
ATTACH;FMTTYPE=image/jpeg:https://cityfestival.thisisathens.org/wp-content/uploads/2026/04/mp11_.jpeg
GEO:37.981301768117;23.754237429541
X-APPLE-STRUCTURED-LOCATION;VALUE=URI;X-ADDRESS=The Athens Concert Hall – Megaron Vas. Sofias & Kokkali Athens 115 21 Greece;X-APPLE-RADIUS=500;X-TITLE=Vas. Sofias & Kokkali:geo:23.754237429541,37.981301768117
END:VEVENT
BEGIN:VEVENT
DTSTART;TZID=Europe/Athens:20260530T170000
DTEND;TZID=Europe/Athens:20260530T190000
DTSTAMP:20260419T202722
CREATED:20260406T103528Z
LAST-MODIFIED:20260406T103528Z
UID:10004257-1780160400-1780167600@cityfestival.thisisathens.org
SUMMARY:First Cemetery of Athens: An Open-Air Sculpture Gallery II
DESCRIPTION:While Halepas’s “Sleeping Maiden” is undoubtedly the most iconic sculpture in Athens’ First Cemetery\, the beauty of this open-air museum goes far beyond its famous headline acts.\n\nAs part of the This is Athens City Festival 2026\, archaeologist and guide Michalis Giohalas invites us to step off the main path. We’ll be heading up the winding\, uphill trails to discover a lesser-known but equally breathtaking side of Modern Greek sculpture. Far from the usual tourist spots\, you’ll encounter imposing mausoleums and monuments where a grand passion for legacy meets a crushing\, powerful silence.\n\nIn this unique space\, the mortal world seems to hold a quiet conversation with the immortal. This tour shines a light on hidden masterpieces and the moving human stories behind them\, offering a deeply personal look at the artistic and historical heritage of Athens.\n\nMeeting Point: Main Entrance of the First Cemetery of Athens (at the end of Anapafseos Street).\n\nThis activity is only available in Greek.\n\n 
URL:https://cityfestival.thisisathens.org/en/event/first-cemetery-of-athens-an-open-air-sculpture-gallery-ii/2026-05-30/
LOCATION:First Cemetery of Athens\, Logginou 3\, Athens\, Athens\, 116 36\, Greece
CATEGORIES:FREE,OUTDOOR ACTIVITY,TOUR
ATTACH;FMTTYPE=image/jpeg:https://cityfestival.thisisathens.org/wp-content/uploads/2026/03/ΠΟΛ.65-Άγγελος-005-scaled.jpg
END:VEVENT
BEGIN:VEVENT
DTSTART;TZID=Europe/Athens:20260530T190000
DTEND;TZID=Europe/Athens:20260530T203000
DTSTAMP:20260419T202722
CREATED:20260403T131350Z
LAST-MODIFIED:20260403T131445Z
UID:10005191-1780167600-1780173000@cityfestival.thisisathens.org
SUMMARY:Krama Brass Band: Tradition Reimagined
DESCRIPTION:Coming all the way from Cyprus\, the Krama Brass Band arrives at the This is Athens City Festival 2026 with a fresh\, subversive musical take that completely redefines tradition. Founded in 2023 by musicians Andreas Theocharous and Nikolas Georgiou\, this eight-piece powerhouse\, featuring six brass instruments\, guitar\, and percussion\, joins forces to create an explosive\, contemporary sound.\n\nFor 70 minutes\, the audience will journey through original compositions and imaginative arrangements of traditional Cypriot songs. It’s a space where the familiar sounds of the Mediterranean meet the freedom of jazz and the structure of classical music.\n\nWith a multicultural identity that honours its roots while looking firmly toward the future\, the Krama Brass Band showcases Cypriot musical heritage as a vibrant and constantly evolving artistic language. They invite us to a celebration full of rhythm and emotion\, right in the heart of Athens.
URL:https://cityfestival.thisisathens.org/en/event/krama-brass-band-tradition-reimagined/
LOCATION:National Historical Museum\, Stadiou 13\, Athens\, Athens\, 105 61\, Greece
CATEGORIES:CONCERT,ENTERTAINMENT,FREE,OUTDOOR ACTIVITY
ATTACH;FMTTYPE=image/jpeg:https://cityfestival.thisisathens.org/wp-content/uploads/2026/04/51-Krama-Brass-Band-S1-02-02-26.jpeg
END:VEVENT
BEGIN:VEVENT
DTSTART;TZID=Europe/Athens:20260530T190000
DTEND;TZID=Europe/Athens:20260530T230000
DTSTAMP:20260419T202722
CREATED:20260403T132808Z
LAST-MODIFIED:20260403T132808Z
UID:10004777-1780167600-1780182000@cityfestival.thisisathens.org
SUMMARY:26 Years Athens DeeJay 95.2
DESCRIPTION:Athens DeeJay 95.2 and its creator\, Michalis Tsaousopoulos\, are celebrating a unique milestone: 25 years of continuous airwaves. These are 25 years packed with music\, countless hits\, thousands of happy listeners\, and some of the wildest parties the city has ever seen.\n\nAt the helm is the most recognisable voice in Greek radio\, Michalis Tsaousopoulos. Ever-active\, tireless\, and always bursting with fresh ideas\, he joins the Festival for the fourth consecutive year with one of his signature high-impact appearances. The date is set at the pedestrian junction of Ermou and Asomaton\, where the heart of Athens will beat to the freshest rhythms on the decks. Get ready for an explosive DJ set that fuses decades of experience with the latest global hits\, transforming Thiseio into a massive open-air celebration.
URL:https://cityfestival.thisisathens.org/en/event/26-years-athens-deejay-95-2/
LOCATION:Agion Asomaton Square\, Agion Asomaton Square\, Athens\, Athens\, 105 53\, Greece
CATEGORIES:DJ SET,ENTERTAINMENT,FREE,OUTDOOR ACTIVITY,PARTY
ATTACH;FMTTYPE=image/jpeg:https://cityfestival.thisisathens.org/wp-content/uploads/2025/05/Μιχάλης-Τσαουσόπουλος-2.jpg
END:VEVENT
END:VCALENDAR