BEGIN:VCALENDAR
VERSION:2.0
PRODID:-//This is Athens City Festival - ECPv6.12.0.1//NONSGML v1.0//EN
CALSCALE:GREGORIAN
METHOD:PUBLISH
X-ORIGINAL-URL:https://cityfestival.thisisathens.org/en/
X-WR-CALDESC:Events for This is Athens City Festival
REFRESH-INTERVAL;VALUE=DURATION:PT1H
X-Robots-Tag:noindex
X-PUBLISHED-TTL:PT1H
BEGIN:VTIMEZONE
TZID:Europe/Athens
BEGIN:DAYLIGHT
TZOFFSETFROM:+0200
TZOFFSETTO:+0300
TZNAME:EEST
DTSTART:20250330T010000
END:DAYLIGHT
BEGIN:STANDARD
TZOFFSETFROM:+0300
TZOFFSETTO:+0200
TZNAME:EET
DTSTART:20251026T010000
END:STANDARD
END:VTIMEZONE
BEGIN:VEVENT
DTSTART;TZID=Europe/Athens:20250512T203000
DTEND;TZID=Europe/Athens:20250512T223000
DTSTAMP:20260422T141402
CREATED:20250327T154428Z
LAST-MODIFIED:20250509T093026Z
UID:10003234-1747081800-1747089000@cityfestival.thisisathens.org
SUMMARY:Lycabettus Sunset Live - Petros Klampanis
DESCRIPTION:During the 2020 pandemic\, Petros Klampanis found his own light at the end of the tunnel and created Rooftop Stories—his fifth album and most personal work to date\, built entirely around the double bass.\n\nThe project began as a series of videos filmed on rooftops around the world\, where Klampanis performed solo with only his bass\, an amp\, and a few electronic effects—turning each set into a musical travel keepsake. In 2021\, these stories were released as an album on his own label\, PKmusik.\n\nNow\, Rooftop Stories comes to the courtyard of Agios Georgios Lycabettus—the city’s most scenic balcony—for a one-of-a-kind solo performance. With loops\, percussion\, voice and bass\, Klampanis takes us on an intimate sonic journey through cities and songs\, all reimagined through his lens.
URL:https://cityfestival.thisisathens.org/en/event/lycabettus-sunset-live-petros-klampanis/
LOCATION:Church of Saint George of Lycabettus\, Lycabettus Hill\, Athens\, Athens\, 114 71\, Greece
CATEGORIES:CONCERT,ENTERTAINMENT,FREE,OUTDOOR ACTIVITY
ATTACH;FMTTYPE=image/jpeg:https://cityfestival.thisisathens.org/wp-content/uploads/2025/03/i-VsTxhRC-XL.jpg
END:VEVENT
END:VCALENDAR