BEGIN:VCALENDAR
VERSION:2.0
PRODID:-//This is Athens City Festival - ECPv6.12.0.1//NONSGML v1.0//EN
CALSCALE:GREGORIAN
METHOD:PUBLISH
X-WR-CALNAME:This is Athens City Festival
X-ORIGINAL-URL:https://cityfestival.thisisathens.org/en/
X-WR-CALDESC:Events for This is Athens City Festival
REFRESH-INTERVAL;VALUE=DURATION:PT1H
X-Robots-Tag:noindex
X-PUBLISHED-TTL:PT1H
BEGIN:VTIMEZONE
TZID:Europe/Athens
BEGIN:DAYLIGHT
TZOFFSETFROM:+0200
TZOFFSETTO:+0300
TZNAME:EEST
DTSTART:20250330T010000
END:DAYLIGHT
BEGIN:STANDARD
TZOFFSETFROM:+0300
TZOFFSETTO:+0200
TZNAME:EET
DTSTART:20251026T010000
END:STANDARD
END:VTIMEZONE
BEGIN:VEVENT
DTSTART;TZID=Europe/Athens:20250513T120000
DTEND;TZID=Europe/Athens:20250513T130000
DTSTAMP:20260422T123202
CREATED:20250327T141912Z
LAST-MODIFIED:20250506T130103Z
UID:10002470-1747137600-1747141200@cityfestival.thisisathens.org
SUMMARY:Piano City Athens
DESCRIPTION:The healing power of music is undeniable. In collaboration with Piano City Athens\, the This is Athens City Festival brings music to Evangelismos—the city’s largest hospital—offering moments of calm and comfort to those who need it most.\n\nThe initiative is addressed exclusively to the medical\, nursing\, and administrative staff of the hospital.
URL:https://cityfestival.thisisathens.org/en/event/piano-city-athens-3/
LOCATION:Evangelismos Hospital\, Ipsilantou 45-47\, Athens\, Athens\, 106 76\, Greece
CATEGORIES:CONCERT,ENTERTAINMENT,FREE
ATTACH;FMTTYPE=image/jpeg:https://cityfestival.thisisathens.org/wp-content/uploads/2025/03/20240516-TiACF-TGR-PianoCityAmerikisSq-0137-scaled.jpg
END:VEVENT
END:VCALENDAR