BEGIN:VCALENDAR
VERSION:2.0
PRODID:-//This is Athens City Festival - ECPv6.12.0.1//NONSGML v1.0//EN
CALSCALE:GREGORIAN
METHOD:PUBLISH
X-ORIGINAL-URL:https://cityfestival.thisisathens.org/en/
X-WR-CALDESC:Events for This is Athens City Festival
REFRESH-INTERVAL;VALUE=DURATION:PT1H
X-Robots-Tag:noindex
X-PUBLISHED-TTL:PT1H
BEGIN:VTIMEZONE
TZID:Europe/Athens
BEGIN:DAYLIGHT
TZOFFSETFROM:+0200
TZOFFSETTO:+0300
TZNAME:EEST
DTSTART:20250330T010000
END:DAYLIGHT
BEGIN:STANDARD
TZOFFSETFROM:+0300
TZOFFSETTO:+0200
TZNAME:EET
DTSTART:20251026T010000
END:STANDARD
END:VTIMEZONE
BEGIN:VEVENT
DTSTART;TZID=Europe/Athens:20250524T200000
DTEND;TZID=Europe/Athens:20250524T210000
DTSTAMP:20260422T141314
CREATED:20250408T105843Z
LAST-MODIFIED:20250506T115803Z
UID:10003489-1748116800-1748120400@cityfestival.thisisathens.org
SUMMARY:De Profundis Live: HANDEL Meets CORELLI
DESCRIPTION:A rare chance to experience both sacred and secular instrumental music from the 18th century\, performed through the works of two of the Baroque era’s most important composers: G.F. Handel (1685–1759) and A. Corelli (1653–1713). This concert explores how sacred music influenced its secular counterpart\, with pieces in forms such as Trio Sonata\, Concerto Grosso\, overtures from oratorios\, and a church organ concerto. It also highlights how the great Handel drew inspiration from the celebrated violinist Corelli.\n\n\nIf you’re curious about 18th-century sacred instrumental music or Baroque composition\, don’t miss this exceptional evening at the Catholic Cathedral of Saint Dionysius the Areopagite on 24 May. \n\nSome of the works performed will be Greek premieres.\n\n\nDe profundis ensemble\n\n\nFirst Violins: Ilias Gyftonikolos\, Zoi Prokopiou\nSecond Violins: Konstantina Balla\, Chrysi Tzavla\nViola: Eleni Fourlanou\nCello: Myrto Xirouchaki Double\nBass: Giorgos Danis\nOrgan: Daphne Melanitou-Paraskeva
URL:https://cityfestival.thisisathens.org/en/event/de-profundis-live-handel-meets-corelli/
LOCATION:Catholic Cathedral Basilica of St. Dionysius the Areopagite\, Panepistimiou 24\, Athens\, Athens\, 106 72\, Greece
CATEGORIES:CONCERT,FREE
ATTACH;FMTTYPE=image/jpeg:https://cityfestival.thisisathens.org/wp-content/uploads/2025/04/cover-photo-2022-23-scaled.jpg
END:VEVENT
END:VCALENDAR