BEGIN:VCALENDAR
VERSION:2.0
PRODID:-//This is Athens City Festival - ECPv6.12.0.1//NONSGML v1.0//EN
CALSCALE:GREGORIAN
METHOD:PUBLISH
X-ORIGINAL-URL:https://cityfestival.thisisathens.org/en/
X-WR-CALDESC:Events for This is Athens City Festival
REFRESH-INTERVAL;VALUE=DURATION:PT1H
X-Robots-Tag:noindex
X-PUBLISHED-TTL:PT1H
BEGIN:VTIMEZONE
TZID:Europe/Athens
BEGIN:DAYLIGHT
TZOFFSETFROM:+0200
TZOFFSETTO:+0300
TZNAME:EEST
DTSTART:20250330T010000
END:DAYLIGHT
BEGIN:STANDARD
TZOFFSETFROM:+0300
TZOFFSETTO:+0200
TZNAME:EET
DTSTART:20251026T010000
END:STANDARD
END:VTIMEZONE
BEGIN:VEVENT
DTSTART;TZID=Europe/Athens:20250921T183000
DTEND;TZID=Europe/Athens:20250921T200000
DTSTAMP:20260421T192717
CREATED:20250905T095718Z
LAST-MODIFIED:20250905T095857Z
UID:10004040-1758479400-1758484800@cityfestival.thisisathens.org
SUMMARY:Panos Vlahos Live Concert
DESCRIPTION:A unique concert full of improvisation\, songs\, laughter\, and spontaneity with the unceasing Panos Vlahos\, who brings his own energetic baggage to the “Car-Free Athinas Street” stage\, closing this big Athenian open-air event with everything he’s gathered throughout his career. His songs tell stories that are personal\, social\, and political. For Panos\, art is all about community\, and he will bring that sense of connection alive\, promising moments full of emotion\, joy\, and genuine togetherness.
URL:https://cityfestival.thisisathens.org/en/event/panos-vlahos-live-concert/
LOCATION:Athinas Str.\, Athinas Street\, Athens\, Athens\, 105 52\, Greece
CATEGORIES:CONCERT,ENTERTAINMENT,FREE,OUTDOOR ACTIVITY
ATTACH;FMTTYPE=image/jpeg:https://cityfestival.thisisathens.org/wp-content/uploads/2025/09/1B1A7965-copy-scaled.jpg
END:VEVENT
END:VCALENDAR