BEGIN:VCALENDAR
VERSION:2.0
PRODID:-//This is Athens City Festival - ECPv6.12.0.1//NONSGML v1.0//EN
CALSCALE:GREGORIAN
METHOD:PUBLISH
X-ORIGINAL-URL:https://cityfestival.thisisathens.org/en/
X-WR-CALDESC:Events for This is Athens City Festival
REFRESH-INTERVAL;VALUE=DURATION:PT1H
X-Robots-Tag:noindex
X-PUBLISHED-TTL:PT1H
BEGIN:VTIMEZONE
TZID:Europe/Athens
BEGIN:DAYLIGHT
TZOFFSETFROM:+0200
TZOFFSETTO:+0300
TZNAME:EEST
DTSTART:20250330T010000
END:DAYLIGHT
BEGIN:STANDARD
TZOFFSETFROM:+0300
TZOFFSETTO:+0200
TZNAME:EET
DTSTART:20251026T010000
END:STANDARD
END:VTIMEZONE
BEGIN:VEVENT
DTSTART;TZID=Europe/Athens:20250516T180000
DTEND;TZID=Europe/Athens:20250516T193000
DTSTAMP:20260422T053256
CREATED:20250402T163904Z
LAST-MODIFIED:20250512T161758Z
UID:10003326-1747418400-1747423800@cityfestival.thisisathens.org
SUMMARY:Fairy Tales in the Garden: Sassa Voulgari
DESCRIPTION:This activity is only available in Greek.\n\nThe Tears of the Earth: The Animals that Speak\, the Trees that Ache…\n\nTrees that hide fairies\, magical fruits\, humble ants\, ducks\, lions\, wolves\, storks\, and proud eagles that gratefully return the good deeds done to them\, people who transform into birds\, trees\, and stars… So much and more is hidden in the magic of old fairy tales! From the ends of the earth and from the depths of time\, old legends and cosmogonic myths reveal to us that all creatures of this earth were once siblings. Animals\, Plants\, and Humans\, we are inseparable parts of our vast world\, with our common destiny being the great Journey of Life with all its adventures and all its beauty. Besides\, “Kosmos” (World) in our beautiful language means ornament!\n\nSasa Voulgari\, a pioneer of neo-narration in Greece\, unravels her fairy tales “as if singing them\,” with vocal improvisations and melismas\, and accompanies them with her strange musical instruments from all over the world.\n\nThe narration lasts approximately 60 to 70 minutes. It is suitable for children from 5 to 115 years old!
URL:https://cityfestival.thisisathens.org/en/event/fairy-tales-in-the-garden-sassa-voulgari/
LOCATION:National Garden\, Vas. Amalias 1\, Athens\, Athens\, 105 57\, Greece
CATEGORIES:FOR KIDS,FREE,OUTDOOR ACTIVITY
ATTACH;FMTTYPE=image/jpeg:https://cityfestival.thisisathens.org/wp-content/uploads/2025/03/Sassa-Voulgari.jpg
END:VEVENT
END:VCALENDAR