BEGIN:VCALENDAR
VERSION:2.0
PRODID:-//This is Athens City Festival - ECPv6.12.0.1//NONSGML v1.0//EN
CALSCALE:GREGORIAN
METHOD:PUBLISH
X-ORIGINAL-URL:https://cityfestival.thisisathens.org/en/
X-WR-CALDESC:Events for This is Athens City Festival
REFRESH-INTERVAL;VALUE=DURATION:PT1H
X-Robots-Tag:noindex
X-PUBLISHED-TTL:PT1H
BEGIN:VTIMEZONE
TZID:Europe/Athens
BEGIN:DAYLIGHT
TZOFFSETFROM:+0200
TZOFFSETTO:+0300
TZNAME:EEST
DTSTART:20250330T010000
END:DAYLIGHT
BEGIN:STANDARD
TZOFFSETFROM:+0300
TZOFFSETTO:+0200
TZNAME:EET
DTSTART:20251026T010000
END:STANDARD
END:VTIMEZONE
BEGIN:VEVENT
DTSTART;TZID=Europe/Athens:20250510T120000
DTEND;TZID=Europe/Athens:20250510T150000
DTSTAMP:20260421T144849
CREATED:20250418T145531Z
LAST-MODIFIED:20250425T124028Z
UID:10003538-1746878400-1746889200@cityfestival.thisisathens.org
SUMMARY:Shadow Puppet Cases Narrate
DESCRIPTION:This activity is only available in Greek. \n\nA unique experience for both young and old fans of the beloved folk hero. Authentic evidence of a rich tradition through the life and work of renowned shadow puppeteers\, offering a historical overview from 1890 to 2000. \n\nTen artistic installations\, ten suitcases filled with authentic items such as puppets\, backdrops\, tools\, manuscripts\, as well as rare recordings\, all tell a great story\, providing the joy of discovery.
URL:https://cityfestival.thisisathens.org/en/event/shadow-puppet-cases-narrate-3/
LOCATION:Museum of Greek Folk Musical Instruments “Fivos Anoyanakis” – Centre for Ethnomusicology\, Diogenous 1\, Athens\, Athens\, 105 56\, Greece
CATEGORIES:ENTERTAINMENT,EXHIBITION,FOR KIDS,FREE,MUSEUM,THEATER
ATTACH;FMTTYPE=image/png:https://cityfestival.thisisathens.org/wp-content/uploads/2025/04/LOGO-OI-VALITSES-TWN-SKIWN-AFIGOUNTAI-sm-1-1-1-1-1-1-1-1-1-1-1-1-1-1.png
END:VEVENT
BEGIN:VEVENT
DTSTART;TZID=Europe/Athens:20250510T110000
DTEND;TZID=Europe/Athens:20250510T130000
DTSTAMP:20260421T144849
CREATED:20250422T122938Z
LAST-MODIFIED:20250506T131328Z
UID:10003611-1746874800-1746882000@cityfestival.thisisathens.org
SUMMARY:Anything but Marble
DESCRIPTION:This activity is only available in Greek. \n\nFor nearly 60 years\, British artist Phyllida Barlow created monumental installations that were both threatening and playful. She made large-scale sculptures using cheap\, humble materials such as cardboard\, fabric\, plywood\, gauze\, and plaster. As she herself states\, “In the past\, sculpture carried historical narratives. Marble dominated and celebrated individuals.” One of the individuals traditionally celebrated in sculpture was Darwin\, who was a distant relative of hers—something she carefully concealed to avoid being seen as “privileged” because of her lineage. By rejecting traditional sculpture\, she renounced her own past through her work\, forging her unique artistic identity. Drawing inspiration from her practice\, we will work with humble materials and create small-scale hanging sculptures. Workshop leaders: Vivian Emmanouilidou\, Visual Artist – Museum Educator & Magda Athanasiou\, Educator – Museum Educator. \n\nThe workshop is aimed at children aged 7-11.
URL:https://cityfestival.thisisathens.org/en/event/anything-but-marble-2/
LOCATION:Museum of Cycladic Art\, Neofytou Douka 4\, Athens\, Athens\, 106 74\, Greece
CATEGORIES:ENTERTAINMENT,EXHIBITION,FOR KIDS,FREE,MUSEUM
ATTACH;FMTTYPE=image/jpeg:https://cityfestival.thisisathens.org/wp-content/uploads/2025/04/Photo1-scaled.jpg
END:VEVENT
BEGIN:VEVENT
DTSTART;TZID=Europe/Athens:20250510T110000
DTEND;TZID=Europe/Athens:20250510T120000
DTSTAMP:20260421T144849
CREATED:20250418T151015Z
LAST-MODIFIED:20250424T070933Z
UID:10003672-1746874800-1746878400@cityfestival.thisisathens.org
SUMMARY:Karagiozis the Ecologist
DESCRIPTION:This activity is only available in Greek. \n\nA brand-new comedy full of hilarious lines from Makris’ beloved Karagiozis—perfect for the whole family! In Karagiozis the Environmentalist\, Greece’s favourite barefoot shadow puppet hero faces a mysterious threat hiding in the leaves of the tree outside his shack. Anyone who walks under it ends up cursed with misfortune. The Pasha orders the tree to be cut down—but Karagiozis has other ideas. To him\, trees are sacred: they offer oxygen\, shade and beauty to the world\, and must be protected. Will he find a clever way to save the tree and banish the evil lurking in its branches?
URL:https://cityfestival.thisisathens.org/en/event/karagiozis-the-ecologist-2/
LOCATION:Museum of Greek Folk Musical Instruments “Fivos Anoyanakis” – Centre for Ethnomusicology\, Diogenous 1\, Athens\, Athens\, 105 56\, Greece
CATEGORIES:ENTERTAINMENT,FOR KIDS,FREE,MUSEUM,THEATER
ATTACH;FMTTYPE=image/jpeg:https://cityfestival.thisisathens.org/wp-content/uploads/2025/04/a-1-1.jpg
END:VEVENT
BEGIN:VEVENT
DTSTART;TZID=Europe/Athens:20250509T180000
DTEND;TZID=Europe/Athens:20250509T193000
DTSTAMP:20260421T144849
CREATED:20250327T123820Z
LAST-MODIFIED:20250506T131606Z
UID:10001683-1746813600-1746819000@cityfestival.thisisathens.org
SUMMARY:Fairy Tales in the Garden: Georgia Lebesi - Giannis Psariotis
DESCRIPTION:This activity is only available in Greek.\n\nWaves of wanderlust have brought us tales!\n\nLike a wandering bird\, the sea wave carries voices of distant\, great storytellers… and they tell you lies and they tell you the truth! Get into our boat\, and let’s tell stories!\n\nCome\, let’s follow the heroes of Greek fairy tales! From the Ionian to the Dodecanese\, from the Sporades to the Cyclades! Let’s set sail on magical ships\, fight dragons and giants\, outsmart mermaids and fairies! Forward\, let’s go!\n\nA storytelling performance for the whole family!\n\n 
URL:https://cityfestival.thisisathens.org/en/event/fairy-tales-in-the-garden-lebesi-psariotis/
LOCATION:National Garden\, Vas. Amalias 1\, Athens\, Athens\, 105 57\, Greece
CATEGORIES:ENTERTAINMENT,FOR KIDS,FREE,OUTDOOR ACTIVITY
ATTACH;FMTTYPE=image/jpeg:https://cityfestival.thisisathens.org/wp-content/uploads/2025/03/20240515-TiACF-GMK-FairytalesSousourades-0038-scaled.jpg
END:VEVENT
BEGIN:VEVENT
DTSTART;TZID=Europe/Athens:20250507T190000
DTEND;TZID=Europe/Athens:20250507T203000
DTSTAMP:20260421T144849
CREATED:20250327T115109Z
LAST-MODIFIED:20250506T132835Z
UID:10001655-1746644400-1746649800@cityfestival.thisisathens.org
SUMMARY:Fairy Tales in the Square: Ermioni Detsika and Lida Xydia
DESCRIPTION:This activity is only available in Greek.\n\nA journey into the wonderful and magical world of folk fairy tales. A unique form of storytelling\, rooted in the oral literature of peoples from all over the world. It has accompanied the growth of people throughout the centuries and majestically continues to this day. Ermioni Detsika\, a kindergarten teacher and storyteller\, transports us into beloved stories filled with grandfathers\, radishes\, animals that put out fires\, and brave girls\, all framed by traditional songs\, playful tunes\, and riddles. The musician Lida Xydia will accompany the storytelling with her kanonaki\, creating a unique atmosphere for both young and old.
URL:https://cityfestival.thisisathens.org/en/event/fairy-tales-in-the-square-ermioni-detsika-and-lida-xydia/
LOCATION:Avdi Square\, Giatrakou 9\, Athens\, Athens\, 104 36\, Greece
CATEGORIES:ENTERTAINMENT,FOR KIDS,FREE,OUTDOOR ACTIVITY
ATTACH;FMTTYPE=image/jpeg:https://cityfestival.thisisathens.org/wp-content/uploads/2025/03/20240521-TiACF-GMK-TaxiarchisMpeligiannisKalligaSq-0005-scaled.jpg
END:VEVENT
BEGIN:VEVENT
DTSTART;TZID=Europe/Athens:20250504T110000
DTEND;TZID=Europe/Athens:20250504T123000
DTSTAMP:20260421T144849
CREATED:20250407T112956Z
LAST-MODIFIED:20250506T133829Z
UID:10003454-1746356400-1746361800@cityfestival.thisisathens.org
SUMMARY:Timothea at the City Dionysia
DESCRIPTION:This activity is only available in Greek.\n\nAn activity for primary school children\, inspired by an inscription from the Epigraphic Museum\, featuring two decrees of the Church of the Municipality. The activity will be led by the museum’s archaeologist and artist.\n\nThis activity is aimed at children aged 7-11.
URL:https://cityfestival.thisisathens.org/en/event/timothea-at-the-city-dionysia-4/
LOCATION:Epigraphic Museum\, Tositsa 1\, Athens\, Athens\, 106 82\, Greece
CATEGORIES:FOR KIDS,FREE,MUSEUM
ATTACH;FMTTYPE=image/png:https://cityfestival.thisisathens.org/wp-content/uploads/2025/03/Είσοδος-Επιγραφικού.jpg.png
END:VEVENT
BEGIN:VEVENT
DTSTART;TZID=Europe/Athens:20250504T103000
DTEND;TZID=Europe/Athens:20250504T120000
DTSTAMP:20260421T144849
CREATED:20250402T092948Z
LAST-MODIFIED:20250415T094211Z
UID:10003277-1746354600-1746360000@cityfestival.thisisathens.org
SUMMARY:My Colourful Flowers Inspired by Andy Warhol
DESCRIPTION:This activity is only available in Greek.\n\nA creative workshop for children aged 6–12\, held at the Museum of Greek Children’s Art and inspired by the work of Andy Warhol.\n\nYoung participants will explore the museum and create their own unique artworks\, drawing inspiration from Warhol’s iconic style. Using a variety of materials and painting techniques\, they’ll tap into their imagination and expand their expressive abilities—all through play and artistic discovery.
URL:https://cityfestival.thisisathens.org/en/event/my-colourful-flowers-inspired-by-andy-warhol/
LOCATION:Museum of Greek Children’s Art\, Kdrou 9\, Athens\, Athens\, 105 58\, Greece
CATEGORIES:FOR KIDS,FREE,MUSEUM
ATTACH;FMTTYPE=image/jpeg:https://cityfestival.thisisathens.org/wp-content/uploads/2025/03/ta_xromata_ton_louloudion_02-scaled.jpeg
END:VEVENT
BEGIN:VEVENT
DTSTART;TZID=Europe/Athens:20250503T110000
DTEND;TZID=Europe/Athens:20250503T130000
DTSTAMP:20260421T144849
CREATED:20250422T122739Z
LAST-MODIFIED:20250506T134130Z
UID:10003610-1746270000-1746277200@cityfestival.thisisathens.org
SUMMARY:Anything but Marble
DESCRIPTION:This activity is only available in Greek. \n\nFor nearly 60 years\, British artist Phyllida Barlow created monumental installations that were both threatening and playful. She made large-scale sculptures using cheap\, humble materials such as cardboard\, fabric\, plywood\, gauze\, and plaster. As she herself states\, “In the past\, sculpture carried historical narratives. Marble dominated and celebrated individuals.” One of the individuals traditionally celebrated in sculpture was Darwin\, who was a distant relative of hers—something she carefully concealed to avoid being seen as “privileged” because of her lineage. By rejecting traditional sculpture\, she renounced her own past through her work\, forging her unique artistic identity. Drawing inspiration from her practice\, we will work with humble materials and create small-scale hanging sculptures. Workshop leaders: Vivian Emmanouilidou\, Visual Artist – Museum Educator & Magda Athanasiou\, Educator – Museum Educator. \n\nThe workshop is aimed at children aged 7-11.
URL:https://cityfestival.thisisathens.org/en/event/anything-but-marble/
LOCATION:Museum of Cycladic Art\, Neofytou Douka 4\, Athens\, Athens\, 106 74\, Greece
CATEGORIES:ENTERTAINMENT,EXHIBITION,FOR KIDS,FREE,MUSEUM
ATTACH;FMTTYPE=image/jpeg:https://cityfestival.thisisathens.org/wp-content/uploads/2025/04/Photo1-scaled.jpg
END:VEVENT
BEGIN:VEVENT
DTSTART;TZID=Europe/Athens:20250503T110000
DTEND;TZID=Europe/Athens:20250503T130000
DTSTAMP:20260421T144849
CREATED:20250326T105818Z
LAST-MODIFIED:20250416T155203Z
UID:10001222-1746270000-1746277200@cityfestival.thisisathens.org
SUMMARY:Fairy Tales in the Museum Courtyard: Electra Nega
DESCRIPTION:This activity is only available in Greek.\n\nShh… A story is about to begin…\nOutside the window of my childhood room\, in the backyard of the house where I grew up\, my grandfather had dug a huge well. It wasn’t covered\, only carefully fenced with wire mesh by my father\, “so no child falls in\,” as he used to say. I never got close to the well\, I was afraid. Not because “I might fall in\,” but because I knew that at the bottom of the well lived a large water snake with a golden crown on its head. I could hear it singing at night with the frogs…\n\nI am Ilektra Nega\, a storyteller of the oral traditions of the world’s peoples.\nCome and join us for storytelling\, about small and large heroes\, who\, with faith in themselves and love in their hearts\, achieved what seemed impossible to all.\n\nAlexander Kontogeorgakopoulos is an academic and artist\, whose interdisciplinary work bridges art\, science\, and technology. He is an Assistant Professor of Interactive Arts at the Department of Digital Arts and Cinema of the National and Kapodistrian University of Athens.\n\nStorytelling by: Ilektra Nega\nMusic by: Alexander Kontogeorgakopoulos
URL:https://cityfestival.thisisathens.org/en/event/fairy-tales-in-the-museum-courtyard-electra-nega/
LOCATION:Museum of Greek Folk Musical Instruments “Fivos Anoyanakis” – Centre for Ethnomusicology\, Diogenous 1\, Athens\, Athens\, 105 56\, Greece
CATEGORIES:ENTERTAINMENT,FOR KIDS,FREE,OUTDOOR ACTIVITY
ATTACH;FMTTYPE=image/jpeg:https://cityfestival.thisisathens.org/wp-content/uploads/2025/03/20240525-TiACF-GMK-TaxiarchisMpeligiannisMouseio-0004-scaled.jpg
END:VEVENT
BEGIN:VEVENT
DTSTART;TZID=Europe/Athens:20250503T110000
DTEND;TZID=Europe/Athens:20250503T123000
DTSTAMP:20260421T144849
CREATED:20250326T120053Z
LAST-MODIFIED:20250414T132749Z
UID:10001229-1746270000-1746275400@cityfestival.thisisathens.org
SUMMARY:Painting Flowers
DESCRIPTION:This activity is only available in Greek.\n\nCome celebrate the month of flowers with sustainable art activities!\n\nInspired by the unexplored forests in Vasilis Theoharakis’ artworks\, we discover the nature of the National Garden. On paper leaves\, we imprint the infinite shapes of tree bark and explore the unique patterns of nature around us.\n\nDid you know that nature can paint? We create colors from natural materials and color our own compositions. A fascinating activity that stimulates our senses\, developing a new perspective on everything around us.\n\nThis activity is aimed at children aged 4-7.
URL:https://cityfestival.thisisathens.org/en/event/painting-flowers/
LOCATION:Theocharakis Foundation\, Vas. Sofias 9 & Merlin 1\, Athens\, Athens\, 106 71\, Greece
CATEGORIES:FOR KIDS,FREE,MUSEUM
ATTACH;FMTTYPE=image/jpeg:https://cityfestival.thisisathens.org/wp-content/uploads/2025/03/ta_xromata_ton_louloudion_02-scaled.jpeg
END:VEVENT
BEGIN:VEVENT
DTSTART;TZID=Europe/Athens:20250501T120000
DTEND;TZID=Europe/Athens:20250501T200000
DTSTAMP:20260421T144849
CREATED:20250318T131208Z
LAST-MODIFIED:20250506T134621Z
UID:10000016-1746100800-1746129600@cityfestival.thisisathens.org
SUMMARY:Athens Urban Picnic 2025
DESCRIPTION:Athens Urban Picnic returns on May Day at Plato’s Academy Park—and entry is free! A one-of-a-kind city event blending learning\, entertainment and live music for the whole family. \nWith kids’ activities\, creative workshops\, theatrical performances and music under the spring sky\, it’s a joyful day in the park where all ages can enjoy nature and celebrate the season. \nAn ideal way to spend quality time together—full of fun and discovery.
URL:https://cityfestival.thisisathens.org/en/event/athens-urban-picnic-2025/
LOCATION:Plato’s Academy Park\, Monastiriou 138\, Athens\, Athens\, 104 42\, Greece
CATEGORIES:CONCERT,DJ SET,ENTERTAINMENT,FOR KIDS,FREE,OUTDOOR ACTIVITY
ATTACH;FMTTYPE=image/jpeg:https://cityfestival.thisisathens.org/wp-content/uploads/2025/03/2-FB-PICNIC.jpg
END:VEVENT
END:VCALENDAR