BEGIN:VCALENDAR
VERSION:2.0
PRODID:-//This is Athens City Festival - ECPv6.12.0.1//NONSGML v1.0//EN
CALSCALE:GREGORIAN
METHOD:PUBLISH
X-ORIGINAL-URL:https://cityfestival.thisisathens.org/en/
X-WR-CALDESC:Events for This is Athens City Festival
REFRESH-INTERVAL;VALUE=DURATION:PT1H
X-Robots-Tag:noindex
X-PUBLISHED-TTL:PT1H
BEGIN:VTIMEZONE
TZID:Europe/Athens
BEGIN:DAYLIGHT
TZOFFSETFROM:+0200
TZOFFSETTO:+0300
TZNAME:EEST
DTSTART:20250330T010000
END:DAYLIGHT
BEGIN:STANDARD
TZOFFSETFROM:+0300
TZOFFSETTO:+0200
TZNAME:EET
DTSTART:20251026T010000
END:STANDARD
END:VTIMEZONE
BEGIN:VEVENT
DTSTART;TZID=Europe/Athens:20250505T180000
DTEND;TZID=Europe/Athens:20250505T210000
DTSTAMP:20260422T053040
CREATED:20250424T105959Z
LAST-MODIFIED:20250502T214639Z
UID:10003859-1746468000-1746478800@cityfestival.thisisathens.org
SUMMARY:Evi Papagianni: A Finding Place
DESCRIPTION:Mosaico Fine Art Studio presents the exhibition “A Finding Place” by artist and art therapist Paraskevi Papagianni.\n\nOpening hours: Monday to Friday: 18:00–21:00\, Saturday: 11:00–15:00\, Closed on Sunday
URL:https://cityfestival.thisisathens.org/en/event/eva-papagianni-a-finding-place/2025-05-05/
LOCATION:Mosaico Fine Art Studio\, Kesarias 18-20\, Athens\, Athens\, 115 27\, Greece
CATEGORIES:ENTERTAINMENT,EXHIBITION,FREE,GALLERY
ATTACH;FMTTYPE=image/jpeg:https://cityfestival.thisisathens.org/wp-content/uploads/2025/04/a-finding-place.jpg
END:VEVENT
BEGIN:VEVENT
DTSTART;TZID=Europe/Athens:20250503T183000
DTEND;TZID=Europe/Athens:20250503T203000
DTSTAMP:20260422T053040
CREATED:20250424T125813Z
LAST-MODIFIED:20250424T131539Z
UID:10003867-1746297000-1746304200@cityfestival.thisisathens.org
SUMMARY:Collage Journeys: Imaginary Cities
DESCRIPTION:This activity is only available in Greek.\n\nParticipants are invited to take part in the Collage Journeys: Imaginary Cities workshop. Using the flexible medium of collage and a variety of materials\, attendees will explore the idea of travel and create their own imagined cities—visualising dreamlike places and routes. The workshop is led by artist and art therapist Paraskevi Papagianni\, who will provide inspiration and gentle guidance throughout the process.
URL:https://cityfestival.thisisathens.org/en/event/collage-journeys-imaginary-cities/
LOCATION:Mosaico Fine Art Studio\, Kesarias 18-20\, Athens\, Athens\, 115 27\, Greece
CATEGORIES:FREE,GALLERY
ATTACH;FMTTYPE=image/jpeg:https://cityfestival.thisisathens.org/wp-content/uploads/2025/04/workshop1-scaled.jpg
END:VEVENT
BEGIN:VEVENT
DTSTART;TZID=Europe/Athens:20250503T110000
DTEND;TZID=Europe/Athens:20250503T160000
DTSTAMP:20260422T053040
CREATED:20250423T132202Z
LAST-MODIFIED:20250506T134539Z
UID:10003665-1746270000-1746288000@cityfestival.thisisathens.org
SUMMARY:Group Exhibition: Abandoned Cartographies and Other Odd Hours
DESCRIPTION:The exhibition Abandoned Cartographies and Other Odd Hours explores uncharted regions of the subconscious\, forming a constellation of inquiries that defy rationality\, order and narrative coherence. It focuses on lived experiences that elude conscious perception and information\, opening up pathways to introspection and revealing hidden layers of the psyche. At the same time\, it activates stimuli that unearth buried memories and latent anxieties. \n\nCurated by: Dinos Chatzirafailidis \n\nParticipating artists: Elli Antoniou\, Giorgos Yiatromanolakis\, Konstantinos Lianos\, Stefania Strouza\, Dimitris Tampakis\, Sokratis Fatouros\, Despina Charitonidi\, James Fuller\, Shambhavi Kaul\, Louis-Philippe Scoufaras\, Sasha Streshna \n\nOpening hours: Tuesday – Friday: 11:00–15:00 & 17:00–20:00 Saturday: 11:00–16:00
URL:https://cityfestival.thisisathens.org/en/event/group-exhibition-abandoned-cartographies-and-other-odd-hours/2025-05-03/
LOCATION:CAN Christina Androulidaki Gallery\, Chalkokondyli 19\, Athens\, Athens\, 104 32\, Greece
CATEGORIES:EXHIBITION,FREE,GALLERY
ATTACH;FMTTYPE=image/jpeg:https://cityfestival.thisisathens.org/wp-content/uploads/2025/04/1-1.jpg
END:VEVENT
BEGIN:VEVENT
DTSTART;TZID=Europe/Athens:20250503T110000
DTEND;TZID=Europe/Athens:20250503T150000
DTSTAMP:20260422T053040
CREATED:20250424T105959Z
LAST-MODIFIED:20250502T214639Z
UID:10003858-1746270000-1746284400@cityfestival.thisisathens.org
SUMMARY:Evi Papagianni: A Finding Place
DESCRIPTION:Mosaico Fine Art Studio presents the exhibition “A Finding Place” by artist and art therapist Paraskevi Papagianni.\n\nOpening hours: Monday to Friday: 18:00–21:00\, Saturday: 11:00–15:00\, Closed on Sunday
URL:https://cityfestival.thisisathens.org/en/event/eva-papagianni-a-finding-place/2025-05-03/
LOCATION:Mosaico Fine Art Studio\, Kesarias 18-20\, Athens\, Athens\, 115 27\, Greece
CATEGORIES:ENTERTAINMENT,EXHIBITION,FREE,GALLERY
ATTACH;FMTTYPE=image/jpeg:https://cityfestival.thisisathens.org/wp-content/uploads/2025/04/a-finding-place.jpg
END:VEVENT
BEGIN:VEVENT
DTSTART;TZID=Europe/Athens:20250502T180000
DTEND;TZID=Europe/Athens:20250502T210000
DTSTAMP:20260422T053040
CREATED:20250424T105959Z
LAST-MODIFIED:20250502T214639Z
UID:10003857-1746208800-1746219600@cityfestival.thisisathens.org
SUMMARY:Evi Papagianni: A Finding Place
DESCRIPTION:Mosaico Fine Art Studio presents the exhibition “A Finding Place” by artist and art therapist Paraskevi Papagianni.\n\nOpening hours: Monday to Friday: 18:00–21:00\, Saturday: 11:00–15:00\, Closed on Sunday
URL:https://cityfestival.thisisathens.org/en/event/eva-papagianni-a-finding-place/2025-05-02/
LOCATION:Mosaico Fine Art Studio\, Kesarias 18-20\, Athens\, Athens\, 115 27\, Greece
CATEGORIES:ENTERTAINMENT,EXHIBITION,FREE,GALLERY
ATTACH;FMTTYPE=image/jpeg:https://cityfestival.thisisathens.org/wp-content/uploads/2025/04/a-finding-place.jpg
END:VEVENT
BEGIN:VEVENT
DTSTART;TZID=Europe/Athens:20250502T110000
DTEND;TZID=Europe/Athens:20250502T200000
DTSTAMP:20260422T053040
CREATED:20250423T132202Z
LAST-MODIFIED:20250506T134539Z
UID:10003664-1746183600-1746216000@cityfestival.thisisathens.org
SUMMARY:Group Exhibition: Abandoned Cartographies and Other Odd Hours
DESCRIPTION:The exhibition Abandoned Cartographies and Other Odd Hours explores uncharted regions of the subconscious\, forming a constellation of inquiries that defy rationality\, order and narrative coherence. It focuses on lived experiences that elude conscious perception and information\, opening up pathways to introspection and revealing hidden layers of the psyche. At the same time\, it activates stimuli that unearth buried memories and latent anxieties. \n\nCurated by: Dinos Chatzirafailidis \n\nParticipating artists: Elli Antoniou\, Giorgos Yiatromanolakis\, Konstantinos Lianos\, Stefania Strouza\, Dimitris Tampakis\, Sokratis Fatouros\, Despina Charitonidi\, James Fuller\, Shambhavi Kaul\, Louis-Philippe Scoufaras\, Sasha Streshna \n\nOpening hours: Tuesday – Friday: 11:00–15:00 & 17:00–20:00 Saturday: 11:00–16:00
URL:https://cityfestival.thisisathens.org/en/event/group-exhibition-abandoned-cartographies-and-other-odd-hours/2025-05-02/
LOCATION:CAN Christina Androulidaki Gallery\, Chalkokondyli 19\, Athens\, Athens\, 104 32\, Greece
CATEGORIES:EXHIBITION,FREE,GALLERY
ATTACH;FMTTYPE=image/jpeg:https://cityfestival.thisisathens.org/wp-content/uploads/2025/04/1-1.jpg
END:VEVENT
END:VCALENDAR