BEGIN:VCALENDAR
VERSION:2.0
PRODID:-//This is Athens City Festival - ECPv6.12.0.1//NONSGML v1.0//EN
CALSCALE:GREGORIAN
METHOD:PUBLISH
X-WR-CALNAME:This is Athens City Festival
X-ORIGINAL-URL:https://cityfestival.thisisathens.org/en/
X-WR-CALDESC:Events for This is Athens City Festival
REFRESH-INTERVAL;VALUE=DURATION:PT1H
X-Robots-Tag:noindex
X-PUBLISHED-TTL:PT1H
BEGIN:VTIMEZONE
TZID:Europe/Athens
BEGIN:DAYLIGHT
TZOFFSETFROM:+0200
TZOFFSETTO:+0300
TZNAME:EEST
DTSTART:20250330T010000
END:DAYLIGHT
BEGIN:STANDARD
TZOFFSETFROM:+0300
TZOFFSETTO:+0200
TZNAME:EET
DTSTART:20251026T010000
END:STANDARD
END:VTIMEZONE
BEGIN:VEVENT
DTSTART;TZID=Europe/Athens:20250530T200000
DTEND;TZID=Europe/Athens:20250530T230000
DTSTAMP:20260424T032719
CREATED:20250518T100923Z
LAST-MODIFIED:20250518T101607Z
UID:10004000-1748635200-1748646000@cityfestival.thisisathens.org
SUMMARY:Food and Wine experience - Nyn Esti - EMST
DESCRIPTION:The National Museum of Contemporary Art (EMST) is participating again this year in the City of Athens Festival\, the great celebration of the city\, with a high gastronomy event organized by Wine Style at NYN ESTI\, an innovative restaurant located on the top floor of EMST. A 6-course menu themed “Spring” and signed by Chef Stamatis Misomikes (StamHalfmike). A combination of flavors based on Greek culinary tradition using modern techniques and sustainable practices. Each dish is accompanied by a different Oenops Wines\, a winery that expresses the new generation of Greek Wines characterized by finesse\, power\, purity of aromas\, and complexity.\nParticipation: 65 euros/person (the price includes Oenops Wines)\nReservations: by phone at +30 698 943 88 66 (Limited number of seats) \nWELCOME BITES\nRhodian oil pita – smoked eel – Greek salad & Marinated amberjack – pomegranate – celeriac broth\nAPLA White 2024\, Oenops Wines (Malagouzia\, Vidiano\, Assyrtiko)\nMENU\nZucchini flower salad – sea buckthorn vinaigrette – chamomile\nVindiano 2023\, Oenops Wines\nBeef tartare – “chicken of the woods” – burnt bread soil\nAPLA Rose 2024\, Oenops Wines (Xinomavro\, Mavroudi\, Limniona)\nCuttlefish risotto – kaimaki (clotted cream) – fennel\nLimniona 2021\, Oenops Wines\nBlack pork – must-pepper – leek\nXinomavro 2023\, Oenops Wines\nMelon sorbet – strawberry\nSpring flowers\, yogurt – cherry – thyme – elderflower
URL:https://cityfestival.thisisathens.org/en/event/food-and-wine-experience-nyn-esti-emst/
LOCATION:Nyn Esti\, Nyn Esti\, Athens\, Greece\, 11743\, Greece
CATEGORIES:GASTRONOMY
ATTACH;FMTTYPE=image/jpeg:https://cityfestival.thisisathens.org/wp-content/uploads/2025/04/newmoney-post.jpg
END:VEVENT
END:VCALENDAR