BEGIN:VCALENDAR
VERSION:2.0
PRODID:-//This is Athens City Festival - ECPv6.12.0.1//NONSGML v1.0//EN
CALSCALE:GREGORIAN
METHOD:PUBLISH
X-WR-CALNAME:This is Athens City Festival
X-ORIGINAL-URL:https://cityfestival.thisisathens.org/en/
X-WR-CALDESC:Events for This is Athens City Festival
REFRESH-INTERVAL;VALUE=DURATION:PT1H
X-Robots-Tag:noindex
X-PUBLISHED-TTL:PT1H
BEGIN:VTIMEZONE
TZID:Europe/Athens
BEGIN:DAYLIGHT
TZOFFSETFROM:+0200
TZOFFSETTO:+0300
TZNAME:EEST
DTSTART:20250330T010000
END:DAYLIGHT
BEGIN:STANDARD
TZOFFSETFROM:+0300
TZOFFSETTO:+0200
TZNAME:EET
DTSTART:20251026T010000
END:STANDARD
END:VTIMEZONE
BEGIN:VEVENT
DTSTART;TZID=Europe/Athens:20250505T170000
DTEND;TZID=Europe/Athens:20250505T190000
DTSTAMP:20260422T032618
CREATED:20250418T045613Z
LAST-MODIFIED:20250506T133256Z
UID:10003528-1746464400-1746471600@cityfestival.thisisathens.org
SUMMARY:Inuksuk: Light of the North in the Heart of Athens
DESCRIPTION:The Embassy of Canada invites you to a special celebration at Ilisia Grove\, as part of the This is Athens City Festival! We’re coming together to mark one year since the unveiling of the Inuksuk—a powerful symbol of friendship that connects Canada and Greece in the heart of Athens. Dedicated to the Indigenous cultures of Canada\, the event offers a unique opportunity to explore the story behind this landmark. We’ll be joined by Inuksuk artist Heather Carroll and a representative of the Inuit community\, who will share personal insights into the meaning and creation of the monument. The Inuksuk—a traditional stone marker used by the Inuit peoples of northern Canada to guide travellers and mark sacred places—was gifted to Athens in 2022 by the Embassy of Canada to celebrate 80 years of diplomatic relations. Designed by Heather Carroll\, who is of Inuit and European heritage\, the sculpture embodies both authenticity and a distinctly Athenian character. Unlike traditional Inuksuit made of irregular stones\, the Athenian Inuksuk is crafted from Pentelic marble—the same stone used for the Parthenon—paying tribute to classical Greek art. This material choice symbolises a rich encounter between Greek and Indigenous Canadian heritage. It also resonates with the meaning of the word Inuksuk: “in the likeness of a human.” Its presence in Athens honours both the city’s immense contribution to Western culture and the ancestral cultures of Canada. Join us in celebrating the first anniversary of this modern urban landmark\, officially unveiled in May 2023. Come hear the stories behind the Inuksuk from the artist herself and a member of the Inuit community\, as we renew the bonds of friendship that this symbol represents.
URL:https://cityfestival.thisisathens.org/en/event/inuksuk-light-of-the-north-in-the-heart-of-athens/
LOCATION:Ilisia Park\, Dragoumi and Dimitressa\, Athens\, Athens\, 115 28\, Greece
CATEGORIES:EXHIBITION,OUTDOOR ACTIVITY
ATTACH;FMTTYPE=image/png:https://cityfestival.thisisathens.org/wp-content/uploads/2025/04/image007.png
END:VEVENT
BEGIN:VEVENT
DTSTART;TZID=Europe/Athens:20250504T173000
DTEND;TZID=Europe/Athens:20250504T230000
DTSTAMP:20260422T032618
CREATED:20250320T164731Z
LAST-MODIFIED:20250506T133358Z
UID:10000036-1746379800-1746399600@cityfestival.thisisathens.org
SUMMARY:Santaroza Beat 2025
DESCRIPTION:_&beyond and the City of Athens Festival present:\n\nSANTAROZA BEAT 2025\n\nSunday\, May 4\n17:00 – 23:00\nSantaroza Square (Plateia Dikaiosynis)\nFree entrance\n\nLive acts: Billie Kark\, Metaman ft. Sci-Fi River\nDJ sets: Katia x Myrto\, Chevy x Discojuice\n\n_&beyond returns to the heart of the city with full force\, breathing new life into one of Athens’ most iconic squares—transforming it into an open-air dancefloor for the third year in a row!\n\nIn collaboration with the City of Athens Festival\, we invite you to a massive open-air music event bursting with rhythm\, energy\, and raw urban vibes. Six hours of electronic\, dance music and beyond—with some of the city’s finest local heroes behind the decks and the mic.\n\nGet ready for a night full of music\, beats\, and good vibes—right in the heart of the city.\n\nSee you at Santaroza Square!
URL:https://cityfestival.thisisathens.org/en/event/santaroza-beat/
LOCATION:Dikaiosinis Square\, Panepistimiou & Santaroza\, Athens\, Athens\, 105 64\, Greece
CATEGORIES:DJ SET,ENTERTAINMENT,FREE,OUTDOOR ACTIVITY,PARTY
ATTACH;FMTTYPE=image/jpeg:https://cityfestival.thisisathens.org/wp-content/uploads/2025/03/20230507-OSF-AthensCityFestival-Needless-Beyond-Disco-Party-0026-scaled.jpg
END:VEVENT
BEGIN:VEVENT
DTSTART;TZID=Europe/Athens:20250504T173000
DTEND;TZID=Europe/Athens:20250504T230000
DTSTAMP:20260422T032618
CREATED:20250320T160236Z
LAST-MODIFIED:20250506T133437Z
UID:10000034-1746379800-1746399600@cityfestival.thisisathens.org
SUMMARY:E MC2
DESCRIPTION:A full-blown celebration of urban culture and street arts! For the sixth year running\, Amerikis Square comes alive with E=MC²—a one-of-a-kind street party bringing together the urban tribes of Athens.\n\nTop breakdancers\, DJs\, beatboxers and MCs join locals and visitors for an unforgettable experience. With no tickets and no barriers\, we reclaim public space and celebrate Hip Hop as a force for connection. We dance\, we listen\, we meet new people—and we honour diversity.\n\nPROGRAM\n\n18:00-19:00 B-Bop aka Digga presents DEEP FRIED DIGS (Vinyl Set)\n19:00-21:00 Dj Beatstrike presents the DANCE SQUAD SET\n19:00 BREAKIN’ But No Damage\n19:45 FEELING JAMES Vol. 4 Top Rock Cypher by Top Rock Bunch\n20:30 APACHE LINE Rock Dance\n21:00-21:30 Beatbox Greece presents a TOP MIC SHOWCASE\n21:30 -23:00 Dj MarWax and Dj Sparky T present THE GRANDPA’S SHOW\n\nBREAKIN’ Beast & Host MC – Cameelloco Unbreakable
URL:https://cityfestival.thisisathens.org/en/event/emc2/
LOCATION:Amerikis Square\, Patission 167\, Athens\, Athens\, 112 52\, Greece
CATEGORIES:DJ SET,ENTERTAINMENT,FREE,OUTDOOR ACTIVITY,PARTY
ATTACH;FMTTYPE=image/jpeg:https://cityfestival.thisisathens.org/wp-content/uploads/2025/03/EMC2.jpg
END:VEVENT
BEGIN:VEVENT
DTSTART;TZID=Europe/Athens:20250504T130000
DTEND;TZID=Europe/Athens:20250504T150000
DTSTAMP:20260422T032618
CREATED:20250320T153619Z
LAST-MODIFIED:20250506T133511Z
UID:10000032-1746363600-1746370800@cityfestival.thisisathens.org
SUMMARY:Wedding Songs-Music-Dances from Karoti Thrace
DESCRIPTION:In traditional communities\, marriage was the most important social event—an occasion that brought everyone together through a shared ritual passed down through generations.\n\nOn a spring Sunday morning\, in front of the Metropolitan Cathedral of Athens\, the Dora Stratou Dance Theatre presents wedding songs\, music and dances from Karoti in Thrace. This performance offers a vivid glimpse into a borderland village that keeps its customs alive—and knows how to celebrate.
URL:https://cityfestival.thisisathens.org/en/event/wedding-songs-music-dances-from-thrace/
LOCATION:Mitropoleos Square\, Mitropoleos Square\, Athens\, Athens\, 105 63\, Greece
CATEGORIES:CONCERT,DANCE,ENTERTAINMENT,FREE,OUTDOOR ACTIVITY,TRADITION
ATTACH;FMTTYPE=image/jpeg:https://cityfestival.thisisathens.org/wp-content/uploads/2025/03/20240519-TiACF-TGR-DoraStratouPassarella-0060-scaled.jpg
END:VEVENT
BEGIN:VEVENT
DTSTART;TZID=Europe/Athens:20250504T110000
DTEND;TZID=Europe/Athens:20250504T130000
DTSTAMP:20260422T032618
CREATED:20250401T132019Z
LAST-MODIFIED:20250414T122249Z
UID:10003268-1746356400-1746363600@cityfestival.thisisathens.org
SUMMARY:The Athens of Protest: Struggles for Democracy in the 1960s
DESCRIPTION:This activity is only available in Greek.\n\nOn the occasion of the 60th anniversary of the July Events (1965)\, the This is Athens City Festival organizes a historical walk through the city centre\, dedicated to the struggle for democracy.\n\nStarting from Chavteia and ending at Syntagma Square\, the walk traces the post-war history of the country\, “re-reading” key landmarks of the city\, such as the Tomb of the Unknown Soldier and the Propylaea\, while also discovering lesser-known sites where significant events of a turbulent decade took place.\n\nThe walk will be led by Vangelis Karamanolakis\, Professor of History at EKPA\, Zisis Synodinos\, Archivist and Scientific Officer at EMIAN/ASKI\, and Angeliki Christodoulou\, Scientific Collaborator at ASKI.\n\nMeeting point: Omonia Square
URL:https://cityfestival.thisisathens.org/en/event/athens-of-protest-struggles-for-democracy-in-the-1960s/
LOCATION:Omonia Square\, Omonia Square\, Athens\, Athens\, 104 31\, Greece
CATEGORIES:FREE,OUTDOOR ACTIVITY,TOUR
ATTACH;FMTTYPE=image/jpeg:https://cityfestival.thisisathens.org/wp-content/uploads/2025/04/ΑΘΗΝΑ-ΔΙΑΜΑΡΤΥΡΙΑΣ-2.jpg
END:VEVENT
BEGIN:VEVENT
DTSTART;TZID=Europe/Athens:20250504T110000
DTEND;TZID=Europe/Athens:20250504T130000
DTSTAMP:20260422T032618
CREATED:20250321T095225Z
LAST-MODIFIED:20250415T093032Z
UID:10000039-1746356400-1746363600@cityfestival.thisisathens.org
SUMMARY:First Cemetery of Athens: An Open-Air Sculpture Gallery II
DESCRIPTION:This activity is only available in Greek.\n\nArchaeologist and guide Michalis Giohalas leads a special tour through the sculpture garden of the First Cemetery of Athens\, in collaboration with the This is Athens City Festival.\n\nBeyond the “Sleeping Female Figure”\nThe memorial of Sofia Afentaki—widely known as the “Sleeping Female Figure” by Yannoulis Chalepas—is perhaps the most iconic sculpture in the cemetery. But it is far from the only one of artistic significance.\n\nThis alternative route leads visitors off the main thoroughfares and into quieter paths that reveal a lesser-known\, yet equally remarkable\, side of Athens’ open-air sculpture garden. Along the uphill lanes\, we encounter mausoleums of celebrated dead\, where mortals meet immortals—and grand aspirations for remembrance coexist with overwhelming silence.
URL:https://cityfestival.thisisathens.org/en/event/first-cemetery-of-athens-open-air-gallery/
LOCATION:First Cemetery of Athens\, Logginou 3\, Athens\, Athens\, 116 36\, Greece
CATEGORIES:FREE,OUTDOOR ACTIVITY,TOUR
ATTACH;FMTTYPE=image/jpeg:https://cityfestival.thisisathens.org/wp-content/uploads/2025/03/4.580-Διάφορες-010-scaled.jpg
END:VEVENT
BEGIN:VEVENT
DTSTART;TZID=Europe/Athens:20250504T110000
DTEND;TZID=Europe/Athens:20250504T123000
DTSTAMP:20260422T032618
CREATED:20250422T125942Z
LAST-MODIFIED:20250506T133621Z
UID:10003618-1746356400-1746361800@cityfestival.thisisathens.org
SUMMARY:Remembrance Route 40 - 44
DESCRIPTION:This activity is only available in Greek. \n\nThe Memory Route is a tribute to the thousands of anonymous victims of hunger during the occupation\, as well as the victims of executions by the occupying forces. As we search for the past in the present\, stories of the place and its people unfold. At the same time\, the 3rd Cemetery is reintroduced to the public as a historical site of memory for those who “didn’t live” to see our country free. The tour will be conducted by Zetta Antonopoulou\, Historian-Archaeologist\, and Eliza Neofytou\, Architect-Museologist.
URL:https://cityfestival.thisisathens.org/en/event/remembrance-route-40-44/
LOCATION:Third Cemetery of Athens\, Thivon & Kotyoron\, Athens\, Athens\, 184 54\, Greece
CATEGORIES:FREE,OUTDOOR ACTIVITY,TOUR
ATTACH;FMTTYPE=image/jpeg:https://cityfestival.thisisathens.org/wp-content/uploads/2025/03/IMG_20241010_144006-scaled.jpg
END:VEVENT
BEGIN:VEVENT
DTSTART;TZID=Europe/Athens:20250503T160000
DTEND;TZID=Europe/Athens:20250503T230000
DTSTAMP:20260422T032618
CREATED:20250320T151232Z
LAST-MODIFIED:20250506T134004Z
UID:10000030-1746288000-1746313200@cityfestival.thisisathens.org
SUMMARY:Full Circle presents Looking for a Crib
DESCRIPTION:Last year\, Full Circle pulled off the ultimate sold-out show at the This is Athens City Festival\, hosting &ME—one of the biggest names in global electronic dance music—and drawing over 12\,000 fans to Agion Asomaton Square.\n\nThis May\, they’re back—this time at the Zappeion Hall—welcoming leading Turkish DJs and producers Avangart Tabldot\, the duo behind the iconic “Looking for a Crib” parties\, promising an even more spectacular event.
URL:https://cityfestival.thisisathens.org/en/event/full-circle-pres-looking-for-a-crib/
LOCATION:Zappeion Megaron\, Zappeion Hall\, Athens\, Athens\, 105 57\, Greece
CATEGORIES:DJ SET,ENTERTAINMENT,FREE,OUTDOOR ACTIVITY,PARTY
ATTACH;FMTTYPE=image/jpeg:https://cityfestival.thisisathens.org/wp-content/uploads/2025/03/20240526-TiACF-GMK-ME-0002-scaled.jpg
GEO:37.971705378867;23.736738299693
X-APPLE-STRUCTURED-LOCATION;VALUE=URI;X-ADDRESS=Zappeion Megaron Zappeion Hall Athens Athens 105 57 Greece;X-APPLE-RADIUS=500;X-TITLE=Zappeion Hall:geo:23.736738299693,37.971705378867
END:VEVENT
BEGIN:VEVENT
DTSTART;TZID=Europe/Athens:20250503T110000
DTEND;TZID=Europe/Athens:20250503T130000
DTSTAMP:20260422T032618
CREATED:20250326T105818Z
LAST-MODIFIED:20250416T155203Z
UID:10001222-1746270000-1746277200@cityfestival.thisisathens.org
SUMMARY:Fairy Tales in the Museum Courtyard: Electra Nega
DESCRIPTION:This activity is only available in Greek.\n\nShh… A story is about to begin…\nOutside the window of my childhood room\, in the backyard of the house where I grew up\, my grandfather had dug a huge well. It wasn’t covered\, only carefully fenced with wire mesh by my father\, “so no child falls in\,” as he used to say. I never got close to the well\, I was afraid. Not because “I might fall in\,” but because I knew that at the bottom of the well lived a large water snake with a golden crown on its head. I could hear it singing at night with the frogs…\n\nI am Ilektra Nega\, a storyteller of the oral traditions of the world’s peoples.\nCome and join us for storytelling\, about small and large heroes\, who\, with faith in themselves and love in their hearts\, achieved what seemed impossible to all.\n\nAlexander Kontogeorgakopoulos is an academic and artist\, whose interdisciplinary work bridges art\, science\, and technology. He is an Assistant Professor of Interactive Arts at the Department of Digital Arts and Cinema of the National and Kapodistrian University of Athens.\n\nStorytelling by: Ilektra Nega\nMusic by: Alexander Kontogeorgakopoulos
URL:https://cityfestival.thisisathens.org/en/event/fairy-tales-in-the-museum-courtyard-electra-nega/
LOCATION:Museum of Greek Folk Musical Instruments “Fivos Anoyanakis” – Centre for Ethnomusicology\, Diogenous 1\, Athens\, Athens\, 105 56\, Greece
CATEGORIES:ENTERTAINMENT,FOR KIDS,FREE,OUTDOOR ACTIVITY
ATTACH;FMTTYPE=image/jpeg:https://cityfestival.thisisathens.org/wp-content/uploads/2025/03/20240525-TiACF-GMK-TaxiarchisMpeligiannisMouseio-0004-scaled.jpg
END:VEVENT
BEGIN:VEVENT
DTSTART;TZID=Europe/Athens:20250503T110000
DTEND;TZID=Europe/Athens:20250503T130000
DTSTAMP:20260422T032618
CREATED:20250320T122359Z
LAST-MODIFIED:20250506T134219Z
UID:10000024-1746270000-1746277200@cityfestival.thisisathens.org
SUMMARY:First Cemetery of Athens: An Open-Air Sculpture Gallery
DESCRIPTION:This activity is only available in Greek.\n\nArchaeologist and guide Michalis Giohalas leads a tour through the sculpture garden of the First Cemetery of Athens\, in collaboration with the This is Athens City Festival.\n\nDescribed in the early 20th century by sculptor Thomas Thomopoulos as encompassing “the entire movement of modern sculpture\,” the cemetery stands as an open-air museum where art\, memory and history coexist.\n\nFrom the great names of Greek sculpture to the personal stories behind the graves\, this walk offers a fascinating journey through time. It reveals little-known aspects of funerary art in modern Greece—along with very human tales of vanity\, greed\, artistic rivalries and unfulfilled love.
URL:https://cityfestival.thisisathens.org/en/event/first-cemetery-of-athens-open-air-sculpture-gallery/
LOCATION:First Cemetery of Athens\, Logginou 3\, Athens\, Athens\, 116 36\, Greece
CATEGORIES:FREE,OUTDOOR ACTIVITY,TOUR
ATTACH;FMTTYPE=image/jpeg:https://cityfestival.thisisathens.org/wp-content/uploads/2023/05/yg4.jpg
END:VEVENT
BEGIN:VEVENT
DTSTART;TZID=Europe/Athens:20250502T203000
DTEND;TZID=Europe/Athens:20250502T213000
DTSTAMP:20260422T032618
CREATED:20250320T111816Z
LAST-MODIFIED:20250506T134311Z
UID:10000020-1746217800-1746221400@cityfestival.thisisathens.org
SUMMARY:EXIS Inclusive Dance Group
DESCRIPTION:InDance: Exploring Accessibility through Inclusive DANCE brings together five individuals from different European backgrounds\, each with expertise in both dance and accessibility. The collective EXIS choreographs a site-specific outdoor performance on the theme of Accessibility in the City\, guiding audiences through various urban spaces in Athens to highlight the importance of accessible public environments.\n\nEXIS is a dance collective focused on inclusion\, bringing together disabled and non-disabled dancers within the Greek dance community. Its mission is to foster access to artistic expression for disabled individuals and to cultivate a space where every body is welcome. Through performances and educational initiatives\, EXIS champions equality and advocates for the rights of disabled people in professional dance training and employment.
URL:https://cityfestival.thisisathens.org/en/event/exis-inclusive-dance-group/
LOCATION:Kotzia Square\, Kotzia Square\, Αθήνα\, Athens\, 105 51\, Greece
CATEGORIES:DANCE,ENTERTAINMENT,FREE,OUTDOOR ACTIVITY
ATTACH;FMTTYPE=image/jpeg:https://cityfestival.thisisathens.org/wp-content/uploads/2025/03/Indance-3-scaled.jpg
END:VEVENT
BEGIN:VEVENT
DTSTART;TZID=Europe/Athens:20250502T200000
DTEND;TZID=Europe/Athens:20250502T230000
DTSTAMP:20260422T032618
CREATED:20250320T120732Z
LAST-MODIFIED:20250506T134342Z
UID:10000022-1746216000-1746226800@cityfestival.thisisathens.org
SUMMARY:Skiadareses Live
DESCRIPTION:The Skiadareses—twin sisters Olga and Niki—take over Koumoundourou Square for a one-off live show. From the moment they began writing songs in a small bedroom\, it seemed destined that their music would find its way online and strike a chord with thousands.\n\nTheir songs are raw\, honest and refreshingly unfiltered—stories of love\, heartbreak\, joy and sorrow that resonate far beyond personal experience. Capturing the emotional uncertainty not just of their own generation\, but of anyone who’s ever felt deeply\, they bring authenticity to the stage\, one lyric at a time.
URL:https://cityfestival.thisisathens.org/en/event/skiadareses-live/
LOCATION:Koumoundourou Square\, Πλ. Κουμουνδουρου\, Athens\, Athens\, 105 53\, Greece
CATEGORIES:CONCERT,ENTERTAINMENT,FREE,OUTDOOR ACTIVITY
ATTACH;FMTTYPE=image/jpeg:https://cityfestival.thisisathens.org/wp-content/uploads/2025/03/IMG-bd25cd24e2da6cdb32a09415282e6cd6-V-7-scaled.jpg
END:VEVENT
BEGIN:VEVENT
DTSTART;TZID=Europe/Athens:20250502T190000
DTEND;TZID=Europe/Athens:20250502T230000
DTSTAMP:20260422T032618
CREATED:20250321T120409Z
LAST-MODIFIED:20250507T141320Z
UID:10001227-1746212400-1746226800@cityfestival.thisisathens.org
SUMMARY:Omonia Street Party
DESCRIPTION:Omonia Square gets a full cultural takeover as Reverb Sessions take centre stage at the heart of Athens\, inviting some of the city’s most active DJs and producers for an afternoon of standout sounds.\n\nA live musical collage becomes the soundtrack of the cosmopolitan capital—broadcasting symbolically from kilometre zero. Locals and visitors alike are invited to join in and celebrate with quality electronic dance music in one of Athens’ most iconic urban settings.
URL:https://cityfestival.thisisathens.org/en/event/omonia-street-party/
LOCATION:Omonia Square\, Omonia Square\, Athens\, Athens\, 104 31\, Greece
CATEGORIES:DJ SET,ENTERTAINMENT,FREE,OUTDOOR ACTIVITY,PARTY
ATTACH;FMTTYPE=image/jpeg:https://cityfestival.thisisathens.org/wp-content/uploads/2025/03/20240531TiACF-TGR-OmonoiaMusicSessions-0012-scaled.jpg
END:VEVENT
BEGIN:VEVENT
DTSTART;TZID=Europe/Athens:20250502T180000
DTEND;TZID=Europe/Athens:20250502T200000
DTSTAMP:20260422T032618
CREATED:20250320T104616Z
LAST-MODIFIED:20250506T134455Z
UID:10000018-1746208800-1746216000@cityfestival.thisisathens.org
SUMMARY:Three-Star Architectural Crown: The Neoclassical Trilogy of Athens
DESCRIPTION:This activity is only available in Greek.\n\nArchaeologist and guide Michalis Giohalas leads a tour through the Athenian Trilogy\, in collaboration with the This is Athens City Festival.\n\nComprising the University\, the Academy and the Library\, this neoclassical ensemble—designed by brothers Hans Christian and Theophil Hansen—was hailed by Alexandros Philadelpheus as “the architectural triple crown of our city.” Since its completion\, it has stood as one of Athens’ most iconic landmarks.\n\nAt the heart of the city’s urban fabric\, these buildings weave visual and literary references to ancient history and mythology into the prevailing ideologies of their time—where the recent past engages with antiquity\, reflecting the spirit\, aspirations and ideals of a bygone era.
URL:https://cityfestival.thisisathens.org/en/event/three-star-architectural-crown-the-neoclassical-trilogy-of-athens/
LOCATION:Athens Trilogy\, Panepistimiou 39\, Athens\, Athens\, 105 64\, Greece
CATEGORIES:FREE,OUTDOOR ACTIVITY,TOUR
ATTACH;FMTTYPE=image/jpeg:https://cityfestival.thisisathens.org/wp-content/uploads/2025/03/ΤΡΙΛΟΓΙΑ-ΜΕΡΟΣ-Β-scaled.jpg
END:VEVENT
BEGIN:VEVENT
DTSTART;TZID=Europe/Athens:20250501T120000
DTEND;TZID=Europe/Athens:20250501T200000
DTSTAMP:20260422T032618
CREATED:20250318T131208Z
LAST-MODIFIED:20250506T134621Z
UID:10000016-1746100800-1746129600@cityfestival.thisisathens.org
SUMMARY:Athens Urban Picnic 2025
DESCRIPTION:Athens Urban Picnic returns on May Day at Plato’s Academy Park—and entry is free! A one-of-a-kind city event blending learning\, entertainment and live music for the whole family. \nWith kids’ activities\, creative workshops\, theatrical performances and music under the spring sky\, it’s a joyful day in the park where all ages can enjoy nature and celebrate the season. \nAn ideal way to spend quality time together—full of fun and discovery.
URL:https://cityfestival.thisisathens.org/en/event/athens-urban-picnic-2025/
LOCATION:Plato’s Academy Park\, Monastiriou 138\, Athens\, Athens\, 104 42\, Greece
CATEGORIES:CONCERT,DJ SET,ENTERTAINMENT,FOR KIDS,FREE,OUTDOOR ACTIVITY
ATTACH;FMTTYPE=image/jpeg:https://cityfestival.thisisathens.org/wp-content/uploads/2025/03/2-FB-PICNIC.jpg
END:VEVENT
END:VCALENDAR