BEGIN:VCALENDAR
VERSION:2.0
PRODID:-//This is Athens City Festival - ECPv6.12.0.1//NONSGML v1.0//EN
CALSCALE:GREGORIAN
METHOD:PUBLISH
X-ORIGINAL-URL:https://cityfestival.thisisathens.org/en/
X-WR-CALDESC:Events for This is Athens City Festival
REFRESH-INTERVAL;VALUE=DURATION:PT1H
X-Robots-Tag:noindex
X-PUBLISHED-TTL:PT1H
BEGIN:VTIMEZONE
TZID:Europe/Athens
BEGIN:DAYLIGHT
TZOFFSETFROM:+0200
TZOFFSETTO:+0300
TZNAME:EEST
DTSTART:20260329T010000
END:DAYLIGHT
BEGIN:STANDARD
TZOFFSETFROM:+0300
TZOFFSETTO:+0200
TZNAME:EET
DTSTART:20261025T010000
END:STANDARD
END:VTIMEZONE
BEGIN:VEVENT
DTSTART;TZID=Europe/Athens:20260524T090000
DTEND;TZID=Europe/Athens:20260524T200000
DTSTAMP:20260421T065315
CREATED:20260406T102045Z
LAST-MODIFIED:20260420T112706Z
UID:10005410-1779613200-1779652800@cityfestival.thisisathens.org
SUMMARY:Wellness Festival - In your Greenery\, I am Reborn
DESCRIPTION:This activity is only available in Greek.\n\n“GREEN ATHENS | National Garden – Metropolitan Green\,” in collaboration with the This is Athens City Festival\, invites you for the 2nd consecutive year to a unique wellness escape in the capital’s most enchanting ecosystem. Under the guidance of Nicki Petroulaki and a team of acclaimed professionals\, the National Garden transforms for two days into an open temple of self-improvement\, offering a rare opportunity to renew body and mind beneath the shade of its historic trees.\n\nA holistic journey that combines movement with inner peace: from dynamic Yoga and Pilates classes to deep meditation and talks on self-awareness and personal growth. The experience is completed with soul-stirring musical journeys\, creating an atmosphere of true connection with ourselves and nature.\n\nWe await you to share the joy of community\, free breathing\, and well-being\, in a comprehensive program open to all\, without restrictions and free of charge. Give yourself the pause you need and experience Athens… in its greenest and brightest version!\n\nProgramme\n\nSaturday\n\n09:00: Maria Chrysocheraki / Chakra Healing – Balance & Female Well-being\n\nDiscover the balance between health and vitality by harmonizing your energy. Centered on female empowerment\, we create a shared space of coexistence where every presence is welcome\, aiming for inner peace and total rejuvenation.\n\nMaria Chrysocheraki\n\nBeginning her studies at the source of Yoga\, India\, Maria Chrysocheraki (Level 3 Iyengar Teacher) dedicates her work to the female nature. As an experienced teacher and author on pregnancy\, she creates a framework of safety and love\, where knowledge becomes the vehicle for holistic well-being. Guidance that embraces a woman’s needs\, offering balance and spiritual renewal.\n\n10:00: Eva Tripolitsioti & Tania Saiti / Deep Relaxation & Inner Reconnection – Yin & Yoga Nidra\n\nIn a world moving at a frantic pace\, returning to stillness is the most essential act of self-care. This class is an invitation to slow down and listen to our bodies again. Through the stillness of Yin Yoga\, we release the tension accumulated deep within our tissues\, while with Yoga Nidra\, we are led into a state of conscious sleep. There\, where the mind ceases to strive\, true inner reconnection begins. A holistic journey from external action to inner serenity.\n\nEva Tripolitsioti\n\nEva is a certified Yoga teacher (Hatha & Vinyasa Flow) trained in India and the YogaWorks school\, where she also served as an assistant trainer. Teaching since 2005\, she specializes in programs for children\, pregnant women\, and special populations. From 2014 to 2022\, she founded and managed Anahata Shuddhi studio; today\, she organizes holistic wellness retreats and works as an executive for a German health and nutrition company.\n\nTania Saiti\n\nFocusing on the healing power of stillness\, Tania Saiti guides Yoga and Yoga Nidra practices that offer a sanctuary from daily tension. Through her teaching\, she nurtures deep relaxation and inner connection\, creating a safe space for awareness. Her goal is to restore balance and highlight energetic harmony in every practitioner.\n\n11:00: Mandy Persaki / Pilates for All\n\nBased on the Pilates philosophy\, this class utilizes the power of isometric exercises and our own body weight. It is a precision workout that builds stability and strength from the inside out. Naturally\, the repertoire is adapted with alternative options to cover the needs of every practitioner and special populations.\n\nMandy Persaki\n\nMandy Persaki holds a degree in Physical Education and Sports Science (UoA)\, along with a Master’s and a PhD from the National and Kapodistrian University of Athens\, specializing in the effects of Pilates on female physical fitness and health. She is the founder and owner of the successful “Pilates By Mandy and more” chain\, which currently operates 8 studios across Attica. Alongside her business ventures\, she remains actively involved in scientific research projects at the University of Athens\, bridging the gap between academic expertise and practical fitness application.\n\n12:00: Nikos Florakis / Hip Work – Release the Hip – Decompression\, Opening\, Mobility\n\nA class designed to provide strength while “unlocking” the vital hip joint. Through a combination of dynamic flow and restorative approaches\, we focus on releasing tension and improving mobility. A practice open to all levels that balances intensity and deep relaxation.\n\nNikos Florakis\n\nA graduate of Sports Science from Brunel University with a Master’s in Sport & Leisure Management. With over a decade of experience\, he is a certified RYT-200/300h teacher and lead trainer for YogaWorks. Additionally\, he holds Pilates certification from BASI and specializations in Sport Performance Enhancement and Corrective Exercise (NASM).\n\n13:00: Christina Pikoula / MindGames – Stop Sabotaging Yourself & Make Your Mindset Your Ally\n\nHow many times have you felt that while you want to move forward\, something inside keeps you back? In this interactive session\, you will discover how your thoughts affect your choices and results\, identify self-sabotage patterns\, and learn how to transform them into power. Through simple exercises and practical “mind games\,” you will make your mindset your strongest ally in daily life and growth.\n\nChristina Pikoula\n\nChristina guides people daily to overcome internal obstacles and maximize their potential. As the voice behind the “Win Win Podcast\,” she inspires her audience to take action\, exceed their limits\, and consciously create the life they desire.\n\n14:00 – 15:00 Break\n\n15:00: Gina Poulou / The Voice the Body Hides – Voice as a Bridge between Body & Nervous System\n\nThe voice ceases to be just a means of communication and becomes a bridge between the body and the nervous system. Through its vibration and energy\, we release emotions\, vent tension\, and return to our center.\n\nGina Poulou\n\nWith studies and an extensive career abroad\, Gina specializes in the voice as a means of therapy and expression. As a Buteyko Breathing Instructor and author\, she introduced the YogaYourVoice method to Greece\, an innovative approach uniting breath\, voice\, and emotional release.\n\n16:00: Viki Tzereme / Performance Training – Training Efficiency\n\nEvery movement counts; every effort brings you closer to the goal. Efficiency lies in essence\, not in time. When movement is executed with awareness and correctness\, results come more directly and safely. Stay focused\, stay consistent – your goal is only a few quality workouts away.\n\n17:00: Sophie Paschali / E-motion / Feel the Beat\, Feel your Emotions\n\nAn experiential session to connect with your inner rhythm. Through breath and movement\, you activate your body\, experience well-being\, and discover how to shift your energy within the flow of the beat. You will observe how emotions act as the driver of your “vehicle”—your body—and you won’t just hear this as a concept; you will truly feel it.\n\nSophie Paschali\n\nSophie Paschali is a Yoga Instructor\, meditation guide\, and breathwork facilitator\, as well as a certified Life Coach. She holds certifications in energy healing and consistently advances her expertise by attending annual seminars in the fields of mindfulness\, counseling\, and positive psychology.\n\n18:00: Nikos Manolis / Prana Yoga – Feel the Inner Flow\n\nAn energetic and creative approach to the flow of Yoga. An exploration of our internal movement and a rediscovery of the body’s natural range. An experience open to all levels that cultivates strength\, flexibility\, intuition\, and vital energy. Through creative asana sequences\, we learn to “surf” the waves of breath and the rhythms of change.\n\nNikos Manolis\n\nA graduate of the British Wheel of Yoga and The Life Centre\, and a member of Yoga Alliance. Having completed advanced training in Prana Vinyasa Yoga with Shiva Rea\, he approaches teaching as a blend of his experiences\, emphasizing “rasa” (taste)\, “prana” (energy)\, and “bhava” (mood).\n\n19:00: Nikolaos Unalome / Sound Bath Experience – Vibrations in the Open Air\n\nThe Sound Bath is an acoustic journey of vibrations that relaxes the body\, calms the mind\, and activates the body’s natural healing properties. Through the sounds of instruments like gongs and crystal bowls\, cosmic vibrations remove stress and all that no longer serves you. Combined with the fresh air and the changing light of the National Garden\, the experience becomes a magical journey with sound as the vehicle.\n\nNikolaos Unalome\n\nNikolaos began with Yoga (Ashtanga\, Hatha\, Pranayama) and expanded into specialized therapeutic arts like Thai Massage\, Osteo-Thai\, and Ayurveda. In recent years\, he has focused on the healing power of sound\, using Bilas (flat bells) with high-frequency vibrations to offer transcendental experiences.\n\nSunday\n\n09:00: Panos Pantios / Assisted Stretch – Core & Mobility Exercises\n\nImagine being able to move freely\, without pain or stiffness holding you back. This is the beauty of personalized assisted stretching. Unlike traditional techniques\, assisted stretching involves guidance through a series of stretches tailored to your body’s specific needs and limitations.\n\nPanos Pantios\n\nAn expert in athletic performance and rehabilitation with studies in Sports Medicine in Germany and a background as a professional ice hockey player. He designs strategic programs combining strength with a healthy lifestyle.\n\n10:00: Panos Kontis / Handstand Fundamentals – Building a Proper Handstand\n\nA class for all those who love the challenge of being upside down or would like to start. We will explain the basic guide points for finding balance on our hands and focus on strengthening the specific muscle groups necessary for progress. The class concludes with partner exercises toward the handstand.\n\nPanos Kontis\n\nWith over ten years in therapy and kinetic evolution\, Panos started with Thai massage and Osteopathy. Fascinated by Yoga\, he teaches it as therapeutic exercise to help people better perceive their body’s capabilities.\n\n11:00: Adriani Strigou / Total Body Balance – Integrated Program of Strength\, Posture\, and Flexibility\n\nAn integrated program focusing on functional strengthening and restoring correct posture. Combining postural exercises and targeted stretching\, the practice aims to restore physical balance and relieve daily tension.\n\nAdriani Strigou\n\nA graduate of TEFAA Athens and a former champion swimmer. Since 2000\, she has been active in the fitness industry and owns “Feel Better Kifisia\,” focusing on a lifestyle that combines physical well-being with daily vitality.\n\n12:00: Eleftheria Georgiou / Let’s Get Physical Pilates – Dynamic Pilates with an Uplifting Beat\n\nA dynamic version of Pilates combining strength with continuous flow and rhythm. Accompanied by upbeat music\, the body works through controlled yet intense exercises designed to challenge endurance and stabilize the core.\n\nEleftheria Georgiou\n\nA Physical Education Professor specializing in therapeutic swimming. She is the head of training for future Pilates teachers at Base Training\, focusing on functional strengthening and improving quality of life through conscious movement.\n\n13:00: Maria Papadopoulou & Evangelos Aik / Yin Within & Bhakti Sounds – Peace\, Sound\, Heart\, Song\, Union\n\nA practice dedicated to relief and rest\, representing the gentlest form of Yoga. The experience concludes with “song from the heart.” Accompanied by live musical instruments by Evangelos Apostolopoulos\, movement gives way to sound\, creating an atmosphere of collective connection and inner peace.\n\nMaria Papadopoulou\n\nWith 25 years of experience in yoga and meditation\, Maria specializes in holistic well-being support. She is the creator of OLON Holistic Studio and a podcaster\, providing practical tools for stress management and mindfulness.\n\n14:00 – 15:00 Break\n\n15:00: Katerina Karageorgiou & Stamatia Andrikou / Body and Face Yoga – Releasing Tension from Upper Body and Face!\n\nAn integrated practice aiming for the total release of tension. By combining targeted exercises and breathing\, we restore inner balance and tone the muscles of the face and body.\n\nKaterina Karageorgiou\n\nA graduate of TEFAA Thessaloniki\, she specialized through YogaWorks and founded Sama Yoga in Samos\, focusing on creative communication and holistic empowerment.\n\nStamatia Andrikou\n\nAn internationally certified Face Yoga Instructor\, her approach combines aesthetic acupuncture with Sculptural Face Lifting for natural rejuvenation and glow.\n\n16:00: Loukia Papa / The Art of Manifestation – Embodying Our Higher Version\n\nA transcendental experience calling us to move beyond linear logic. Through quantum visualization\, we explore the possibility of breaking free from limiting beliefs and architects of our reality.\n\nLoukia Papa\n\nLoukia specializes in connecting neuroscience with quantum change practices\, guiding individuals toward self-actualization and inner freedom.\n\n17:00: Patty Petropoulou / #ShallWeDance? – 5Rhythms Movement Meditation\n\nA free-movement practice focusing on reconnecting with the body and releasing it from the flow of thoughts. “Meditation in motion” becomes the vehicle for calm and mental clarity. No dance experience is required.\n\nPatty Petropoulou\n\nThe only certified 5Rhythms® teacher in Greece (trained in the USA)\, she has served the practice since 2011\, teaching across Europe and connecting conscious movement with personal and professional leadership.\n\n18:00: Stavros Bamakos / Full-Body Circuit – Bodyweight Training\n\nA high-intensity program focusing on holistic training using exclusively body weight. A structured circuit aimed at improving functional strength\, endurance\, and overall fitness.\n\nStavros Bamakos\n\nA graduate of TEFAA Athens and owner of Blackbox Training Room. He has served as a Strength & Conditioning Coach for A1 female basketball\, focusing on maximizing athletic performance.\n\n19:00: Niki Petroulaki / Heart & Lyra Flow – Union of Heart & Cretan Lyra – Tradition and Core\n\nA unique movement experience uniting the body with the heart and the circle of life. We breathe and move together\, creating a living space of connection and collective energy. The experience culminates with a music collaboration: the primal sound of the Cretan Lyra meets the flow of exercise.\n\nNiki Petroulaki\n\nWith over 25 years of experience\, Niki is a physical education professor dedicated to holistic wellness. Founder of “Power House Project” and “Wellness Rituals\,” she organizes high-level retreats and events\, combining exercise with personal transformation.\n\nGeorgia Benioudaki\n\nGeorgia Benioudaki\, an Early Childhood Education student in Athens\, has been involved in music since the age of six. The guitar\, the Cretan lyre\, singing\, and traditional Cretan dances define her creative identity.\n\nEnergy Healings \n\nWithin the framework of the festival\, you will have the opportunity to experience firsthand energy practices that support relaxation\, recovery\, and the overall balance of the body.\n\nPranic Healing\n\nTry a complimentary Pranic Healing session with certified therapists. A non-invasive technique that helps reduce muscle tension\, stiffness\, and strain\, while enhancing recovery and focus. A freer body. Clearer movement. Better recovery.\n\nOrgon PEMF Alignment\n\nA modern approach that combines Pulsed Electromagnetic Fields (PEMF) with energy balancing. It supports:\n• reduction of inflammation\n• tissue repair and regeneration\n• deep relaxation\n• enhancement of overall vitality\n\nIt activates the body’s natural ability to recharge and find its balance.\n\nLive the Experience\n\nDiscover how simple techniques can make an immediate difference in your body and your energy.\n\nTry it at the Festival.
URL:https://cityfestival.thisisathens.org/en/event/wellness-festival/2026-05-24/
LOCATION:National Garden\, Vas. Amalias 1\, Athens\, Athens\, 105 57\, Greece
CATEGORIES:FREE,OUTDOOR ACTIVITY,SPORTS & WELLNESS
ATTACH;FMTTYPE=image/jpeg:https://cityfestival.thisisathens.org/wp-content/uploads/2026/03/DSC00685-1-scaled.jpg
END:VEVENT
BEGIN:VEVENT
DTSTART;TZID=Europe/Athens:20260526T183000
DTEND;TZID=Europe/Athens:20260526T203000
DTSTAMP:20260421T065315
CREATED:20260403T111152Z
LAST-MODIFIED:20260403T111641Z
UID:10005172-1779820200-1779827400@cityfestival.thisisathens.org
SUMMARY:Fitness Sessions
DESCRIPTION:Parko Eleftherias is being transformed into a sprawling open-air hub of energy and well-being for this year’s This is Athens City Festival. At Fitness Sessions\, movement is a celebration; here\, exercise isn’t about competition—it’s about self-care\, community\, and recharging your batteries right in the heart of the city.\n\nSet within one of Athens’ most refreshing green spaces\, you’re invited to rediscover the joy of physical activity in a welcoming and supportive environment. Expert instructors and their teams will lead sessions for everyone\, ranging from Yoga and Pilates to more high-energy workouts\, offering a programme tailored to all fitness levels and needs.\n\nParticipation and good vibes are the order of the day\, turning this event into a true festival for the body and the city alike. It’s a cracking opportunity to get moving together in one of Athens’ most beautiful outdoor settings.
URL:https://cityfestival.thisisathens.org/en/event/fitness-sessions-5/2026-05-26/
LOCATION:Eleftherias Park\, Eleftherias Park\, Athens\, Athens\, 115 21\, Greece
CATEGORIES:FREE,OUTDOOR ACTIVITY,SPORTS & WELLNESS
ATTACH;FMTTYPE=image/jpeg:https://cityfestival.thisisathens.org/wp-content/uploads/2026/03/DSC00535-scaled.jpg
END:VEVENT
BEGIN:VEVENT
DTSTART;TZID=Europe/Athens:20260529T060000
DTEND;TZID=Europe/Athens:20260529T233000
DTSTAMP:20260421T065315
CREATED:20260403T113108Z
LAST-MODIFIED:20260403T113421Z
UID:10005179-1780034400-1780097400@cityfestival.thisisathens.org
SUMMARY:Athens Photo World: The FIFA World Cup 1930 – 2026 by the Associated Press
DESCRIPTION:Athens Photo World is transforming the fence running around the National Garden into a stunning open-air gallery dedicated to the “king of sports.” This exhibition presents 50 iconic photographs from the historic archives of the Associated Press\, offering a fascinating journey through the evolution of the World Cup\, from the very first whistle in Uruguay in 1930 to the modern moments of glory currently unfolding on the pitches of the USA\, Canada\, and Mexico in 2026.\n\nIt is a true walk through sporting history along Vasilissis Sofias and Amalias Avenue\, where passers-by can pause before high-aesthetic images that capture the intensity\, passion\, and historic upsets that have shaken the planet for nearly a century. This visual timeline spans nearly 100 years of global football\, showcasing the work of world-leading photojournalists who were right there on the touchline. Set against one of the most beautiful walks in the city in the heart of springtime Athens\, it is a unique opportunity for photography enthusiasts and football fans alike to discover global sporting history through the eyes of the masters.
URL:https://cityfestival.thisisathens.org/en/event/athens-photo-world-the-fifa-world-cup-1930-2026-by-the-associated-press/2026-05-29/
LOCATION:National Garden\, Vas. Amalias 1\, Athens\, Athens\, 105 57\, Greece
CATEGORIES:EXHIBITION,FREE,OUTDOOR ACTIVITY,SPORTS & WELLNESS
ATTACH;FMTTYPE=image/jpeg:https://cityfestival.thisisathens.org/wp-content/uploads/2026/04/18-WCUP1970_18B_XLAT305.jpeg
END:VEVENT
BEGIN:VEVENT
DTSTART;TZID=Europe/Athens:20260530T060000
DTEND;TZID=Europe/Athens:20260530T233000
DTSTAMP:20260421T065315
CREATED:20260403T113108Z
LAST-MODIFIED:20260403T113421Z
UID:10005180-1780120800-1780183800@cityfestival.thisisathens.org
SUMMARY:Athens Photo World: The FIFA World Cup 1930 – 2026 by the Associated Press
DESCRIPTION:Athens Photo World is transforming the fence running around the National Garden into a stunning open-air gallery dedicated to the “king of sports.” This exhibition presents 50 iconic photographs from the historic archives of the Associated Press\, offering a fascinating journey through the evolution of the World Cup\, from the very first whistle in Uruguay in 1930 to the modern moments of glory currently unfolding on the pitches of the USA\, Canada\, and Mexico in 2026.\n\nIt is a true walk through sporting history along Vasilissis Sofias and Amalias Avenue\, where passers-by can pause before high-aesthetic images that capture the intensity\, passion\, and historic upsets that have shaken the planet for nearly a century. This visual timeline spans nearly 100 years of global football\, showcasing the work of world-leading photojournalists who were right there on the touchline. Set against one of the most beautiful walks in the city in the heart of springtime Athens\, it is a unique opportunity for photography enthusiasts and football fans alike to discover global sporting history through the eyes of the masters.
URL:https://cityfestival.thisisathens.org/en/event/athens-photo-world-the-fifa-world-cup-1930-2026-by-the-associated-press/2026-05-30/
LOCATION:National Garden\, Vas. Amalias 1\, Athens\, Athens\, 105 57\, Greece
CATEGORIES:EXHIBITION,FREE,OUTDOOR ACTIVITY,SPORTS & WELLNESS
ATTACH;FMTTYPE=image/jpeg:https://cityfestival.thisisathens.org/wp-content/uploads/2026/04/18-WCUP1970_18B_XLAT305.jpeg
END:VEVENT
BEGIN:VEVENT
DTSTART;TZID=Europe/Athens:20260531T060000
DTEND;TZID=Europe/Athens:20260531T233000
DTSTAMP:20260421T065315
CREATED:20260403T113108Z
LAST-MODIFIED:20260403T113421Z
UID:10005181-1780207200-1780270200@cityfestival.thisisathens.org
SUMMARY:Athens Photo World: The FIFA World Cup 1930 – 2026 by the Associated Press
DESCRIPTION:Athens Photo World is transforming the fence running around the National Garden into a stunning open-air gallery dedicated to the “king of sports.” This exhibition presents 50 iconic photographs from the historic archives of the Associated Press\, offering a fascinating journey through the evolution of the World Cup\, from the very first whistle in Uruguay in 1930 to the modern moments of glory currently unfolding on the pitches of the USA\, Canada\, and Mexico in 2026.\n\nIt is a true walk through sporting history along Vasilissis Sofias and Amalias Avenue\, where passers-by can pause before high-aesthetic images that capture the intensity\, passion\, and historic upsets that have shaken the planet for nearly a century. This visual timeline spans nearly 100 years of global football\, showcasing the work of world-leading photojournalists who were right there on the touchline. Set against one of the most beautiful walks in the city in the heart of springtime Athens\, it is a unique opportunity for photography enthusiasts and football fans alike to discover global sporting history through the eyes of the masters.
URL:https://cityfestival.thisisathens.org/en/event/athens-photo-world-the-fifa-world-cup-1930-2026-by-the-associated-press/2026-05-31/
LOCATION:National Garden\, Vas. Amalias 1\, Athens\, Athens\, 105 57\, Greece
CATEGORIES:EXHIBITION,FREE,OUTDOOR ACTIVITY,SPORTS & WELLNESS
ATTACH;FMTTYPE=image/jpeg:https://cityfestival.thisisathens.org/wp-content/uploads/2026/04/18-WCUP1970_18B_XLAT305.jpeg
END:VEVENT
END:VCALENDAR