BEGIN:VCALENDAR
VERSION:2.0
PRODID:-//This is Athens City Festival - ECPv6.12.0.1//NONSGML v1.0//EN
CALSCALE:GREGORIAN
METHOD:PUBLISH
X-ORIGINAL-URL:https://cityfestival.thisisathens.org/en/
X-WR-CALDESC:Events for This is Athens City Festival
REFRESH-INTERVAL;VALUE=DURATION:PT1H
X-Robots-Tag:noindex
X-PUBLISHED-TTL:PT1H
BEGIN:VTIMEZONE
TZID:Europe/Athens
BEGIN:DAYLIGHT
TZOFFSETFROM:+0200
TZOFFSETTO:+0300
TZNAME:EEST
DTSTART:20260329T010000
END:DAYLIGHT
BEGIN:STANDARD
TZOFFSETFROM:+0300
TZOFFSETTO:+0200
TZNAME:EET
DTSTART:20261025T010000
END:STANDARD
END:VTIMEZONE
BEGIN:VEVENT
DTSTART;TZID=Europe/Athens:20260508T120000
DTEND;TZID=Europe/Athens:20260508T130000
DTSTAMP:20260421T214228
CREATED:20260331T131120Z
LAST-MODIFIED:20260331T131120Z
UID:10004632-1778241600-1778245200@cityfestival.thisisathens.org
SUMMARY:Guided Tour at the City of Athens Museum
DESCRIPTION:The City of Athens Museum (Vouros-Eutaxias Foundation) will welcome us for a rather special look at the capital’s modern history. The tour spans two iconic buildings that tell the story of a city finding its feet.\nWe start at the legendary “Old Palace”\, the first residence of King Otto and Queen Amalia. It’s a space deeply intertwined with the very first steps Athens took as a modern European capital. Here\, you’ll see the city through the objects and grand rooms that helped define its new\, royal identity.\n\nThe journey then moves into the second building of the complex\, the former home of the Dekozis-Vouros family. This is where things get personal. It offers a much more intimate glimpse into Athenian “high society” life\, revealing the aesthetics\, the daily habits\, and domestic charm of the 19th and early 20th centuries.\n\nThrough these collections and the stunning architecture itself\, you’ll witness the trajectory of a city that was rapidly expanding and shaping its modern self. It’s a tour that beautifully bridges the gap between Athens’ grand political history and its private\, everyday heart.\n\n\nThis activity is only available in Greek.
URL:https://cityfestival.thisisathens.org/en/event/guided-tour-at-the-city-of-athens-museum/2026-05-08/
LOCATION:The City of Athens Museum\, 5-7 loannou Paparrigopoulou\, Athens\, 105 61\, Greece
CATEGORIES:EXHIBITION,FREE,MUSEUM,TOUR
ATTACH;FMTTYPE=image/jpeg:https://cityfestival.thisisathens.org/wp-content/uploads/2026/03/imgi_2_a10-1-scaled-1.jpg
GEO:37.978924087872;23.731570954219
X-APPLE-STRUCTURED-LOCATION;VALUE=URI;X-ADDRESS=The City of Athens Museum 5-7 loannou Paparrigopoulou Athens 105 61 Greece;X-APPLE-RADIUS=500;X-TITLE=5-7 loannou Paparrigopoulou:geo:23.731570954219,37.978924087872
END:VEVENT
BEGIN:VEVENT
DTSTART;TZID=Europe/Athens:20260508T183000
DTEND;TZID=Europe/Athens:20260508T213000
DTSTAMP:20260421T214228
CREATED:20260402T143948Z
LAST-MODIFIED:20260402T150917Z
UID:10004223-1778265000-1778275800@cityfestival.thisisathens.org
SUMMARY:Historical Stroll with Dr. Iordanis Papadopoulos: Makriyianni
DESCRIPTION:Step into an urban stroll through the Makriyianni district\, where ancient beauty meets the grit of modern Athenian life. Led by Dr. Iordanis Papadopoulos\, an expert in Political Philosophy\, this tour invites you to decode our urban identity\, viewing the iconic shadow of the Acropolis not just as a backdrop\, but as a living witness to a city that refuses to forget.\n\nThe journey begins in the silent galleries of Roman villas and moves through the turbulent memories of the “”Dekemvriana””\, the violent clashes in December 1944 that marked the beginning of the conflict that later escalated into the Greek Civil War\, which once haunted the old Gendarmerie building. As you walk down the grand Dionysiou Areopagitou\, you’ll uncover the influence of foreign archaeological missions in Koukaki\, before stopping at the Theatre of Dionysus to discuss the deep-rooted link between Democracy and Ancient Drama.\n\nThe route winds past the Asklepieion and the legendary “”Klepsydra”” spring\, eventually reaching the Areopagus (Mars Hill)\, where St. Paul once preached before the “”Altar of the Unknown God.”” Dr. Papadopoulos masterfully assembles the fragments\, from the Golden Age to the 1821 Revolution and the Civil War\, connecting history to personal experience in a way that makes the stones speak.\n\nMeeting Point: Acropolis Metro Station\, Makriyianni exit.\n\nThis activity is only available in Greek.
URL:https://cityfestival.thisisathens.org/en/event/historical-stroll-dr-iordanis-papadopoulos-makriyianni/
LOCATION:Acropolis Metro Station\, Makrygianni 9\, Athens\, Athens\, 117 42\, Greece
CATEGORIES:FREE,OUTDOOR ACTIVITY,TOUR
ATTACH;FMTTYPE=image/png:https://cityfestival.thisisathens.org/wp-content/uploads/2026/04/image-7.png
END:VEVENT
END:VCALENDAR