BEGIN:VCALENDAR
VERSION:2.0
PRODID:-//This is Athens City Festival - ECPv6.12.0.1//NONSGML v1.0//EN
CALSCALE:GREGORIAN
METHOD:PUBLISH
X-WR-CALNAME:This is Athens City Festival
X-ORIGINAL-URL:https://cityfestival.thisisathens.org/en/
X-WR-CALDESC:Events for This is Athens City Festival
REFRESH-INTERVAL;VALUE=DURATION:PT1H
X-Robots-Tag:noindex
X-PUBLISHED-TTL:PT1H
BEGIN:VTIMEZONE
TZID:Europe/Athens
BEGIN:DAYLIGHT
TZOFFSETFROM:+0200
TZOFFSETTO:+0300
TZNAME:EEST
DTSTART:20260329T010000
END:DAYLIGHT
BEGIN:STANDARD
TZOFFSETFROM:+0300
TZOFFSETTO:+0200
TZNAME:EET
DTSTART:20261025T010000
END:STANDARD
END:VTIMEZONE
BEGIN:VEVENT
DTSTART;TZID=Europe/Athens:20260509T110000
DTEND;TZID=Europe/Athens:20260509T120000
DTSTAMP:20260421T214059
CREATED:20260403T104914Z
LAST-MODIFIED:20260403T105029Z
UID:10005162-1778324400-1778328000@cityfestival.thisisathens.org
SUMMARY:Guided Tour of the "Elytis House" Museum
DESCRIPTION:A unique opportunity to get up close to the personal and intellectual world of Odysseas Elytis through a special guided tour of the “Elytis House” Museum.\n\nThe museum’s permanent exhibition brings the life and work of the great Nobel laureate to life\, featuring precious manuscripts\, rare Greek and foreign editions\, and artworks that illuminate his multifaceted creativity. A central highlight of the experience is the reconstruction of his study. this is the authentic space where the poet worked continuously from 1962 until the end of his life\, surrounded by his personal belongings and archives. A journey into the heart of Greek letters. The visit will allow visitors to breathe in the very atmosphere where some of the most significant works of world poetry were born.\n\nThis activity is only available in Greek.
URL:https://cityfestival.thisisathens.org/en/event/guided-tour-of-the-elytis-house-museum/
LOCATION:Elytis’ House – Museum\, Polygnotou 7\, Athens\, Athens\, 105 55\, Greece
CATEGORIES:EXHIBITION,FREE,MUSEUM,TOUR
ATTACH;FMTTYPE=image/jpeg:https://cityfestival.thisisathens.org/wp-content/uploads/2026/04/Ξενάγηση-κοινού-1-scaled.jpg
END:VEVENT
BEGIN:VEVENT
DTSTART;TZID=Europe/Athens:20260509T120000
DTEND;TZID=Europe/Athens:20260509T130000
DTSTAMP:20260421T214059
CREATED:20260421T115334Z
LAST-MODIFIED:20260421T115429Z
UID:10005482-1778328000-1778331600@cityfestival.thisisathens.org
SUMMARY:A Guided Tour in the World of Niki de Saint Phalle
DESCRIPTION:The This is Athens City Festival 2026 invites you to dive into the revolutionary world of one of the 20th century’s most fearless icons. In these two specially curated guided tours of the exhibition “From Shooting to Freedom\,” you’ll discover how Niki de Saint Phalle transformed pain and rage into a lasting celebration of colour and rebirth. This is the first time her work has been presented on this scale in Greece\, tracing her journey from the radical Tirs (shooting performances) to her exuberant\, world-famous Nanas.\n\nThrough a vibrant collection of paintings\, collages\, and sculptures\, the exhibition unfolds like a child’s game\, yet retains the raw power of a woman who challenged every boundary of art and society. Catch these rebellious masterpieces tucked into the intimate spaces of the MOMus-Alex Mylonas Museum\, across from the Parthenon.\n\nThis activity is only available in Greek.
URL:https://cityfestival.thisisathens.org/en/event/a-guided-tour-in-the-world-of-niki-de-saint-phalle-2/
LOCATION:MOMus-Museum Alex Mylona\, Agion Asomaton Square 5\, Athens\, Athens\, 105 54\, Greece
CATEGORIES:EXHIBITION,FREE,MUSEUM,TOUR
ATTACH;FMTTYPE=image/jpeg:https://cityfestival.thisisathens.org/wp-content/uploads/2026/04/momusalexmylona_ndsp_photo-Spyros-Katopodis-201.jpg
END:VEVENT
BEGIN:VEVENT
DTSTART;TZID=Europe/Athens:20260509T120000
DTEND;TZID=Europe/Athens:20260509T133000
DTSTAMP:20260421T214059
CREATED:20260409T095141Z
LAST-MODIFIED:20260409T102201Z
UID:10004277-1778328000-1778333400@cityfestival.thisisathens.org
SUMMARY:St Dionysius the Areopagite\, The Saint of Athens: Guided Tours of the dedicated Churches I
DESCRIPTION:The This is Athens City Festival invites you to step inside one of the city’s most prestigious landmarks for a tour that’s as much about art history as it is about faith. Guided by art historian Despina Paraskeva\, we’re exploring Agios Dionysios on Skoufa Street\, often called the “Saint of Athens”\, to see what happens when the biggest names in modern Greek art collaborate on one project.\n\nOne of the grandest churches in central Athens\, this landmark represents a true artistic collaboration. Your journey begins with the architectural vision of Anastasios Orlandos\, before moving to the beautiful frescoes by Spyros Vassiliou. It comes with close-ups at the intricate woodcarvings of Theofanis Nomikos and the stunning mosaics born from a rare collaboration between Fotis Kontoglou and Stefanos Xenopoulos. It’s a fascinating glimpse into how ancient tradition and modern artistic flair meet in the heart of Kolonaki.\n\nTo make the experience truly immersive\, the tour is set to the sound of Byzantine chanting\, creating an atmosphere of total tranquility and mystique.\n\nDon’t miss the twin guided tour of the Catholic Cathedral\, a moment that creates an artistic dialogue between two faiths and two distinct expressions of modern Greek creativity\, right in the heart of the urban fabric.\n\nMeeting Point: Entrance of the Holy Church\n\nThis activity is only available in Greek.
URL:https://cityfestival.thisisathens.org/en/event/st-dionysius-the-areopagite-the-saint-of-athens-guided-tours-of-the-dedicated-churches-i/2026-05-09/
LOCATION:Holy Church of Saint Dionysius the Areopagite\, 34 Skoufa\, Athens\, 106 72\, Greece
CATEGORIES:FREE,TOUR
ATTACH;FMTTYPE=image/jpeg:https://cityfestival.thisisathens.org/wp-content/uploads/2026/03/agios-Dionisios-1.jpg
GEO:37.979752778799;23.738748835044
X-APPLE-STRUCTURED-LOCATION;VALUE=URI;X-ADDRESS=Holy Church of Saint Dionysius the Areopagite 34 Skoufa Athens 106 72 Greece;X-APPLE-RADIUS=500;X-TITLE=34 Skoufa:geo:23.738748835044,37.979752778799
END:VEVENT
BEGIN:VEVENT
DTSTART;TZID=Europe/Athens:20260509T133000
DTEND;TZID=Europe/Athens:20260509T173000
DTSTAMP:20260421T214059
CREATED:20260421T092345Z
LAST-MODIFIED:20260421T092345Z
UID:10005469-1778333400-1778347800@cityfestival.thisisathens.org
SUMMARY:Guided Tours of the Cavafy Archive
DESCRIPTION:This year\, the This is Athens City Festival marks its fifth anniversary with a truly special collaboration. We’ve teamed up with the Onassis Foundation to invite you on a deeply personal journey through the life of one of the world’s most influential poets. For the first time as part of the festival\, we’re stepping inside a stunning 1910 listed building on Phrynichou Street. Since late 2023\, this spot in the heart of Plaka has become the new home of the Cavafy Archive\, and now\, its doors are opening for a series of exclusive guided tours.\n\nIt’s a rare chance to get up close and personal with the world of C.P. Cavafy by wandering through five specially curated rooms that recreate the atmosphere of his legendary home in Alexandria. Among the treasures\, you will find personal relics such as original furniture\, mementos\, and even the poet’s death mask\, alongside a remarkable collection of 966 surviving volumes in the library. The experience also showcases inspired art\, with works ranging from Theodore Ralli and Nikos Hadjikyriakos-Ghika to contemporary artists moved by his poetry. Perhaps most poignantly\, the tour reveals the universe of Cavafy’s Athens through personal diaries and glowing letters from literary greats like Angelos Sikelianos\, revealing the poet’s deep\, timeless connection to this city.\n\nTo celebrate this new partnership\, the Onassis Foundation is offering 20 free guided tours throughout the month for festival-goers. It’s a wonderful opportunity to dive deep into history\, memory\, and world-class art.\n\nThis activity is only available in Greek.
URL:https://cityfestival.thisisathens.org/en/event/guided-tours-of-the-cavafy-archive/
LOCATION:Cavafy Archive\, 16B Frynichou\, Plaka\, 105 58\, Greece
CATEGORIES:EXHIBITION,FREE,LITERATURE,MUSEUM,TOUR
ATTACH;FMTTYPE=image/jpeg:https://cityfestival.thisisathens.org/wp-content/uploads/2026/03/S9A1494_small.jpg
GEO:37.970139361328;23.730618794063
X-APPLE-STRUCTURED-LOCATION;VALUE=URI;X-ADDRESS=Cavafy Archive 16B Frynichou Plaka 105 58 Greece;X-APPLE-RADIUS=500;X-TITLE=16B Frynichou:geo:23.730618794063,37.970139361328
END:VEVENT
BEGIN:VEVENT
DTSTART;TZID=Europe/Athens:20260509T170000
DTEND;TZID=Europe/Athens:20260509T190000
DTSTAMP:20260421T214059
CREATED:20260406T103528Z
LAST-MODIFIED:20260406T103528Z
UID:10004255-1778346000-1778353200@cityfestival.thisisathens.org
SUMMARY:First Cemetery of Athens: An Open-Air Sculpture Gallery II
DESCRIPTION:While Halepas’s “Sleeping Maiden” is undoubtedly the most iconic sculpture in Athens’ First Cemetery\, the beauty of this open-air museum goes far beyond its famous headline acts.\n\nAs part of the This is Athens City Festival 2026\, archaeologist and guide Michalis Giohalas invites us to step off the main path. We’ll be heading up the winding\, uphill trails to discover a lesser-known but equally breathtaking side of Modern Greek sculpture. Far from the usual tourist spots\, you’ll encounter imposing mausoleums and monuments where a grand passion for legacy meets a crushing\, powerful silence.\n\nIn this unique space\, the mortal world seems to hold a quiet conversation with the immortal. This tour shines a light on hidden masterpieces and the moving human stories behind them\, offering a deeply personal look at the artistic and historical heritage of Athens.\n\nMeeting Point: Main Entrance of the First Cemetery of Athens (at the end of Anapafseos Street).\n\nThis activity is only available in Greek.\n\n 
URL:https://cityfestival.thisisathens.org/en/event/first-cemetery-of-athens-an-open-air-sculpture-gallery-ii/2026-05-09/
LOCATION:First Cemetery of Athens\, Logginou 3\, Athens\, Athens\, 116 36\, Greece
CATEGORIES:FREE,OUTDOOR ACTIVITY,TOUR
ATTACH;FMTTYPE=image/jpeg:https://cityfestival.thisisathens.org/wp-content/uploads/2026/03/ΠΟΛ.65-Άγγελος-005-scaled.jpg
END:VEVENT
BEGIN:VEVENT
DTSTART;TZID=Europe/Athens:20260509T170000
DTEND;TZID=Europe/Athens:20260509T190000
DTSTAMP:20260421T214059
CREATED:20260421T082303Z
LAST-MODIFIED:20260421T082512Z
UID:10005467-1778346000-1778353200@cityfestival.thisisathens.org
SUMMARY:First Cemetery of Athens: An Open-Air Sculpture Gallery II
DESCRIPTION:While Halepas’s “Sleeping Maiden” is undoubtedly the most iconic sculpture in Athens’ First Cemetery\, the beauty of this open-air museum goes far beyond its famous headline acts.\n\nAs part of the This is Athens City Festival 2026\, archaeologist and guide Michalis Giohalas invites us to step off the main path. We’ll be heading up the winding\, uphill trails to discover a lesser-known but equally breathtaking side of Modern Greek sculpture. Far from the usual tourist spots\, you’ll encounter imposing mausoleums and monuments where a grand passion for legacy meets a crushing\, powerful silence.\n\nIn this unique space\, the mortal world seems to hold a quiet conversation with the immortal. This tour shines a light on hidden masterpieces and the moving human stories behind them\, offering a deeply personal look at the artistic and historical heritage of Athens.\n\nMeeting Point: Main Entrance of the First Cemetery of Athens (at the end of Anapafseos Street).\n\nThis activity is only available in Greek.
URL:https://cityfestival.thisisathens.org/en/event/first-cemetery-of-athens-an-open-air-sculpture-gallery-ii-2/
LOCATION:First Cemetery of Athens\, Logginou 3\, Athens\, Athens\, 116 36\, Greece
CATEGORIES:FREE,OUTDOOR ACTIVITY,TOUR
ATTACH;FMTTYPE=image/jpeg:https://cityfestival.thisisathens.org/wp-content/uploads/2026/03/ΠΟΛ.65-Άγγελος-005-scaled.jpg
END:VEVENT
END:VCALENDAR