BEGIN:VCALENDAR
VERSION:2.0
PRODID:-//This is Athens City Festival - ECPv6.12.0.1//NONSGML v1.0//EN
CALSCALE:GREGORIAN
METHOD:PUBLISH
X-ORIGINAL-URL:https://cityfestival.thisisathens.org/en/
X-WR-CALDESC:Events for This is Athens City Festival
REFRESH-INTERVAL;VALUE=DURATION:PT1H
X-Robots-Tag:noindex
X-PUBLISHED-TTL:PT1H
BEGIN:VTIMEZONE
TZID:Europe/Athens
BEGIN:DAYLIGHT
TZOFFSETFROM:+0200
TZOFFSETTO:+0300
TZNAME:EEST
DTSTART:20260329T010000
END:DAYLIGHT
BEGIN:STANDARD
TZOFFSETFROM:+0300
TZOFFSETTO:+0200
TZNAME:EET
DTSTART:20261025T010000
END:STANDARD
END:VTIMEZONE
BEGIN:VEVENT
DTSTART;TZID=Europe/Athens:20260512T120000
DTEND;TZID=Europe/Athens:20260512T130000
DTSTAMP:20260421T232616
CREATED:20260402T105646Z
LAST-MODIFIED:20260402T140923Z
UID:10005029-1778587200-1778590800@cityfestival.thisisathens.org
SUMMARY:Guided Tour at The Maria Callas Museum
DESCRIPTION:The Maria Callas Museum invites us on a moving tour into the world of the 20th century’s leading soprano. Through a specially designed guided experience\, visitors have the unique opportunity to discover the most iconic moments of her career\, while exploring the unknown\, personal aspects of the journey that established her as a global opera icon.\n\nThe narrative brings her path to life beyond standard exhibition texts\, illuminating her artistic legacy and complex personality directly and experientially. This is an experience tailored to its audience\, offering a deep look at the woman and the artist who changed lyric theatre forever\, right in the heart of the city she loved so dearly.\n\nThis activity is only available in Greek.
URL:https://cityfestival.thisisathens.org/en/event/guided-tour-at-the-maria-callas-museum/2026-05-12/
LOCATION:Maria Callas Museum\, Mitropoleos 44\, Athens\, Athens\, 105 63\, Greece
CATEGORIES:EXHIBITION,FREE,MUSEUM,TOUR
ATTACH;FMTTYPE=image/jpeg:https://cityfestival.thisisathens.org/wp-content/uploads/2026/04/MARIACALLASMUSEUM_1-scaled.jpg
END:VEVENT
END:VCALENDAR