BEGIN:VCALENDAR
VERSION:2.0
PRODID:-//This is Athens City Festival - ECPv6.12.0.1//NONSGML v1.0//EN
CALSCALE:GREGORIAN
METHOD:PUBLISH
X-WR-CALNAME:This is Athens City Festival
X-ORIGINAL-URL:https://cityfestival.thisisathens.org/en/
X-WR-CALDESC:Events for This is Athens City Festival
REFRESH-INTERVAL;VALUE=DURATION:PT1H
X-Robots-Tag:noindex
X-PUBLISHED-TTL:PT1H
BEGIN:VTIMEZONE
TZID:Europe/Athens
BEGIN:DAYLIGHT
TZOFFSETFROM:+0200
TZOFFSETTO:+0300
TZNAME:EEST
DTSTART:20260329T010000
END:DAYLIGHT
BEGIN:STANDARD
TZOFFSETFROM:+0300
TZOFFSETTO:+0200
TZNAME:EET
DTSTART:20261025T010000
END:STANDARD
END:VTIMEZONE
BEGIN:VEVENT
DTSTART;TZID=Europe/Athens:20260525T120000
DTEND;TZID=Europe/Athens:20260525T130000
DTSTAMP:20260422T034356
CREATED:20260331T131120Z
LAST-MODIFIED:20260331T131120Z
UID:10004634-1779710400-1779714000@cityfestival.thisisathens.org
SUMMARY:Guided Tour at the City of Athens Museum
DESCRIPTION:The City of Athens Museum (Vouros-Eutaxias Foundation) will welcome us for a rather special look at the capital’s modern history. The tour spans two iconic buildings that tell the story of a city finding its feet.\nWe start at the legendary “Old Palace”\, the first residence of King Otto and Queen Amalia. It’s a space deeply intertwined with the very first steps Athens took as a modern European capital. Here\, you’ll see the city through the objects and grand rooms that helped define its new\, royal identity.\n\nThe journey then moves into the second building of the complex\, the former home of the Dekozis-Vouros family. This is where things get personal. It offers a much more intimate glimpse into Athenian “high society” life\, revealing the aesthetics\, the daily habits\, and domestic charm of the 19th and early 20th centuries.\n\nThrough these collections and the stunning architecture itself\, you’ll witness the trajectory of a city that was rapidly expanding and shaping its modern self. It’s a tour that beautifully bridges the gap between Athens’ grand political history and its private\, everyday heart.\n\n\nThis activity is only available in Greek.
URL:https://cityfestival.thisisathens.org/en/event/guided-tour-at-the-city-of-athens-museum/2026-05-25/
LOCATION:The City of Athens Museum\, 5-7 loannou Paparrigopoulou\, Athens\, 105 61\, Greece
CATEGORIES:EXHIBITION,FREE,MUSEUM,TOUR
ATTACH;FMTTYPE=image/jpeg:https://cityfestival.thisisathens.org/wp-content/uploads/2026/03/imgi_2_a10-1-scaled-1.jpg
GEO:37.978924087872;23.731570954219
X-APPLE-STRUCTURED-LOCATION;VALUE=URI;X-ADDRESS=The City of Athens Museum 5-7 loannou Paparrigopoulou Athens 105 61 Greece;X-APPLE-RADIUS=500;X-TITLE=5-7 loannou Paparrigopoulou:geo:23.731570954219,37.978924087872
END:VEVENT
BEGIN:VEVENT
DTSTART;TZID=Europe/Athens:20260527T173000
DTEND;TZID=Europe/Athens:20260527T190000
DTSTAMP:20260422T034356
CREATED:20260403T103523Z
LAST-MODIFIED:20260403T103523Z
UID:10005131-1779903000-1779908400@cityfestival.thisisathens.org
SUMMARY:Guided Tour: Nikolas Klironomos Retrospective "1985–2025"
DESCRIPTION:We invite you to a series of guided tours of the Nikolas Klironomos retrospective\, a tour covering forty years of continuous artistic creation. The tour highlights the creator’s dual nature as both painter and set designer\, revealing how he “stages” his canvas to transform images of the city and its people into poetic narratives.\n\nAs we navigate through his works\, we will discover how everyday life meets the dream and how the changing seasons are captured through bold colours and special materials that provide movement and vitality. This is an opportunity to delve into the unseen aspects of time and human existence\, understanding how Klironomos manages to give a monumental character to the small\, fragmentary moments of our lives. An experiential tour that speaks straight to the heart and memory\, offering a comprehensive look at the work of one of the most versatile creators on the contemporary Greek scene.\n\nThis activity is only available in Greek.
URL:https://cityfestival.thisisathens.org/en/event/guided-tour-nikolas-klironomos-retrospective-1985-2025/2026-05-27/
LOCATION:The City of Athens Gallery\, Municipal Gallery of Athens\, Athens\, Athens\, 104 36\, Greece
CATEGORIES:EXHIBITION,FREE,GALLERY,TOUR
ATTACH;FMTTYPE=image/jpeg:https://cityfestival.thisisathens.org/wp-content/uploads/2026/04/17.-Εργοτάξιο-ιδιωτ.-συλλογή-120Χ250-εκ-Λάδι-και-Ακρυλικό-σε-καμβά-Αθήνα-2012-scaled.jpg
END:VEVENT
BEGIN:VEVENT
DTSTART;TZID=Europe/Athens:20260528T120000
DTEND;TZID=Europe/Athens:20260528T130000
DTSTAMP:20260422T034356
CREATED:20260331T130830Z
LAST-MODIFIED:20260401T081651Z
UID:10004198-1779969600-1779973200@cityfestival.thisisathens.org
SUMMARY:Guided Tour at the National Historical Museum
DESCRIPTION:Step inside the grand\, stately building with the bronze statue of Kolokotronis on horseback out front. It’s nothing less than the Old Parliament House\, the very heart of Greece’s early political acts\, and it is throwing open its doors for the This is Athens City Festival.\n\nThis isn’t just a wander through a dusty museum; it’s a guided journey through the National Historical Museum. You’ll be stepping into the original debating chamber where the big decisions that shaped modern Greece were hammered out. It’s an atmospheric spot that keeps history grounded in the centre of the city. Our guide will lead you through a stunning collection that charts the Greek story from the fall of Constantinople through to the 20th century. You’ll see personal heirlooms and everyday objects from the Greek Revolution\, intricate traditional costumes that are basically 19th-century high fashion\, historic weaponry\, and archival treasures that tell the story of a nation finding its feet.\n\nThis activity is only available in Greek.
URL:https://cityfestival.thisisathens.org/en/event/guided-tour-at-the-national-historical-museum/2026-05-28/
LOCATION:National Historical Museum\, Stadiou 13\, Athens\, Athens\, 105 61\, Greece
CATEGORIES:EXHIBITION,FREE,MUSEUM,TOUR
ATTACH;FMTTYPE=image/jpeg:https://cityfestival.thisisathens.org/wp-content/uploads/2026/03/φωτό-ξεναγήσεων.jpg
END:VEVENT
BEGIN:VEVENT
DTSTART;TZID=Europe/Athens:20260530T130000
DTEND;TZID=Europe/Athens:20260530T143000
DTSTAMP:20260422T034356
CREATED:20260403T103523Z
LAST-MODIFIED:20260403T103523Z
UID:10005132-1780146000-1780151400@cityfestival.thisisathens.org
SUMMARY:Guided Tour: Nikolas Klironomos Retrospective "1985–2025"
DESCRIPTION:We invite you to a series of guided tours of the Nikolas Klironomos retrospective\, a tour covering forty years of continuous artistic creation. The tour highlights the creator’s dual nature as both painter and set designer\, revealing how he “stages” his canvas to transform images of the city and its people into poetic narratives.\n\nAs we navigate through his works\, we will discover how everyday life meets the dream and how the changing seasons are captured through bold colours and special materials that provide movement and vitality. This is an opportunity to delve into the unseen aspects of time and human existence\, understanding how Klironomos manages to give a monumental character to the small\, fragmentary moments of our lives. An experiential tour that speaks straight to the heart and memory\, offering a comprehensive look at the work of one of the most versatile creators on the contemporary Greek scene.\n\nThis activity is only available in Greek.
URL:https://cityfestival.thisisathens.org/en/event/guided-tour-nikolas-klironomos-retrospective-1985-2025/2026-05-30/
LOCATION:The City of Athens Gallery\, Municipal Gallery of Athens\, Athens\, Athens\, 104 36\, Greece
CATEGORIES:EXHIBITION,FREE,GALLERY,TOUR
ATTACH;FMTTYPE=image/jpeg:https://cityfestival.thisisathens.org/wp-content/uploads/2026/04/17.-Εργοτάξιο-ιδιωτ.-συλλογή-120Χ250-εκ-Λάδι-και-Ακρυλικό-σε-καμβά-Αθήνα-2012-scaled.jpg
END:VEVENT
BEGIN:VEVENT
DTSTART;TZID=Europe/Athens:20260530T170000
DTEND;TZID=Europe/Athens:20260530T190000
DTSTAMP:20260422T034356
CREATED:20260406T103528Z
LAST-MODIFIED:20260406T103528Z
UID:10004257-1780160400-1780167600@cityfestival.thisisathens.org
SUMMARY:First Cemetery of Athens: An Open-Air Sculpture Gallery II
DESCRIPTION:While Halepas’s “Sleeping Maiden” is undoubtedly the most iconic sculpture in Athens’ First Cemetery\, the beauty of this open-air museum goes far beyond its famous headline acts.\n\nAs part of the This is Athens City Festival 2026\, archaeologist and guide Michalis Giohalas invites us to step off the main path. We’ll be heading up the winding\, uphill trails to discover a lesser-known but equally breathtaking side of Modern Greek sculpture. Far from the usual tourist spots\, you’ll encounter imposing mausoleums and monuments where a grand passion for legacy meets a crushing\, powerful silence.\n\nIn this unique space\, the mortal world seems to hold a quiet conversation with the immortal. This tour shines a light on hidden masterpieces and the moving human stories behind them\, offering a deeply personal look at the artistic and historical heritage of Athens.\n\nMeeting Point: Main Entrance of the First Cemetery of Athens (at the end of Anapafseos Street).\n\nThis activity is only available in Greek.\n\n 
URL:https://cityfestival.thisisathens.org/en/event/first-cemetery-of-athens-an-open-air-sculpture-gallery-ii/2026-05-30/
LOCATION:First Cemetery of Athens\, Logginou 3\, Athens\, Athens\, 116 36\, Greece
CATEGORIES:FREE,OUTDOOR ACTIVITY,TOUR
ATTACH;FMTTYPE=image/jpeg:https://cityfestival.thisisathens.org/wp-content/uploads/2026/03/ΠΟΛ.65-Άγγελος-005-scaled.jpg
END:VEVENT
END:VCALENDAR