BEGIN:VCALENDAR
VERSION:2.0
PRODID:-//This is Athens City Festival - ECPv6.12.0.1//NONSGML v1.0//EN
CALSCALE:GREGORIAN
METHOD:PUBLISH
X-WR-CALNAME:This is Athens City Festival
X-ORIGINAL-URL:https://cityfestival.thisisathens.org/en/
X-WR-CALDESC:Events for This is Athens City Festival
REFRESH-INTERVAL;VALUE=DURATION:PT1H
X-Robots-Tag:noindex
X-PUBLISHED-TTL:PT1H
BEGIN:VTIMEZONE
TZID:Europe/Athens
BEGIN:DAYLIGHT
TZOFFSETFROM:+0200
TZOFFSETTO:+0300
TZNAME:EEST
DTSTART:20250330T010000
END:DAYLIGHT
BEGIN:STANDARD
TZOFFSETFROM:+0300
TZOFFSETTO:+0200
TZNAME:EET
DTSTART:20251026T010000
END:STANDARD
END:VTIMEZONE
BEGIN:VEVENT
DTSTART;TZID=Europe/Athens:20250521T190000
DTEND;TZID=Europe/Athens:20250521T203000
DTSTAMP:20260422T140946
CREATED:20250403T104958Z
LAST-MODIFIED:20250506T121903Z
UID:10003487-1747854000-1747859400@cityfestival.thisisathens.org
SUMMARY:Fairy Tales in the Park: Georgina Konsta - Giannis Psariotis
DESCRIPTION:This activity is only available in Greek. \n\nThis beautiful text evokes a magical\, springtime atmosphere\, weaving the themes of fairy tales with the blossoming life of nature. In English\, we could adapt it like this: “Springtime wonders… with fairy tale patches! A red thread tied within the forest awaits\, ready to meet a blue one\, to begin a fairy tale. The May flowers weave lovely songs\, and everything feels like music\, just like a wonderful life. Fairy tales and spring together\, it’s truly a celebration. Spring and fairy tales always tell the truth\, Everything around us is blooming and the myrtle scents the air. Every word is beautiful with a lovely company. Come sit beside us\, and fall in love with stories! Come join us for tales under the blue Attic sky\, where the light and the scents of spring fill the air and reach everywhere!”.\n\nNarration: Georgina Kosta\nMusic: Giannis Psariotis
URL:https://cityfestival.thisisathens.org/en/event/fairy-tales-in-the-park-georgina-konsta-giannis-psariotis/
LOCATION:Pangrati Grove\, Pangrati Grove\, Athens\, Athens\, 116 35\, Greece
CATEGORIES:ENTERTAINMENT,FOR KIDS,FREE,THEATER
ATTACH;FMTTYPE=image/jpeg:https://cityfestival.thisisathens.org/wp-content/uploads/2025/04/20240512-TiACF-TGR-PolyfonikaXefotaFilopappou-0098-scaled.jpg
END:VEVENT
BEGIN:VEVENT
DTSTART;TZID=Europe/Athens:20250521T200000
DTEND;TZID=Europe/Athens:20250521T230000
DTSTAMP:20260422T140946
CREATED:20250418T160709Z
LAST-MODIFIED:20250506T125129Z
UID:10003546-1747857600-1747868400@cityfestival.thisisathens.org
SUMMARY:3rd Accessible Stand-Up Comedy Festival
DESCRIPTION:This activity is only available in Greek.\nThe Cool Crips return to Technopolis with a double bill of stand-up comedy designed for truly inclusive laughs. Accessible Comedy Nights is not a “special” show—it’s just stand-up as we know it\, only this time\, no one is left out due to lack of accessibility. \nOn 20 & 21 May 2025\, some of Greece’s sharpest comics—Katerina Vrana\, Aristotelis Rigas\, Melina Kollia\, Aristeidis Psylliakos\, Kostas Kryos and Alexandros Titkov—take the stage alongside two emerging disabled performers debuting their acts. \nThe venue is wheelchair accessible and the shows will feature live interpretation in Greek Sign Language\, live Greek surtitles\, and an adapted format that’s friendly to blind audiences. Because comedy belongs to everyone.
URL:https://cityfestival.thisisathens.org/en/event/3rd-accessible-stand-up-comedy-festival-2/
LOCATION:Technopolis City of Athens\, Pireos 100\, Athens\, Athens\, 118 54\, Greece
CATEGORIES:ENTERTAINMENT,THEATER
ATTACH;FMTTYPE=image/webp:https://cityfestival.thisisathens.org/wp-content/uploads/2025/03/20230519-OSF-AthensCityFestival-Hip-Hop-Festival-0055-X3.jpg.webp
END:VEVENT
BEGIN:VEVENT
DTSTART;TZID=Europe/Athens:20250522T190000
DTEND;TZID=Europe/Athens:20250522T203000
DTSTAMP:20260422T140946
CREATED:20250327T141352Z
LAST-MODIFIED:20250506T121243Z
UID:10002464-1747940400-1747945800@cityfestival.thisisathens.org
SUMMARY:Fairy Tales in the Square: Susurades
DESCRIPTION:This activity is only available in Greek.\n\nFairy Tales in Primo – Secondo. A narrative performance of fairy tale duets.\n\nDuets that sprout wings and fly\, that weave stories from threads of dreams\, that lull us to sleep with a sugar-sweet slumber on a pillow of silk.\n\nA red thread ties distant places together and weaves two voices\, telling stories both together and one after the other—stories told\, dreamed\, and sung by the people of the world. These stories are told in conversation\, whispered\, sung\, and even with the gestures of hands\, reminding us that a deep wish to fly can move both heaven and earth.
URL:https://cityfestival.thisisathens.org/en/event/fairy-tales-in-the-square-susurades/
LOCATION:Agios Sostis Square\, Agios Sostis Square\, Athens\, Athens\, 117 45\, Greece
CATEGORIES:FOR KIDS,FREE,OUTDOOR ACTIVITY,THEATER
ATTACH;FMTTYPE=image/webp:https://cityfestival.thisisathens.org/wp-content/uploads/2025/03/σουσουράδες-Φώτο-2048x1353.jpg.webp
END:VEVENT
BEGIN:VEVENT
DTSTART;TZID=Europe/Athens:20250921T120000
DTEND;TZID=Europe/Athens:20250921T150000
DTSTAMP:20260422T140946
CREATED:20250902T133654Z
LAST-MODIFIED:20250903T094726Z
UID:10004029-1758456000-1758466800@cityfestival.thisisathens.org
SUMMARY:Theatrical Game: No Car Adventure
DESCRIPTION:Children and parents embark on an interactive adventure along Athinas Street\, with four exciting stations full of games and hands-on activities. Each station has a unique theme\, blending learning with fun. The goal of the event is to foster a new culture of urban mobility\, raise environmental awareness\, and promote safe movement in the city. An adventure for the whole family that transforms Athinas Street into a space for exploration and play.\n\nPlease note this activity will be held in Greek.
URL:https://cityfestival.thisisathens.org/en/event/theatrical-game-no-car-adventure/
LOCATION:Athinas Str.\, Athinas Street\, Athens\, Athens\, 105 52\, Greece
CATEGORIES:ENTERTAINMENT,FOR KIDS,FREE,OUTDOOR ACTIVITY,THEATER
ATTACH;FMTTYPE=image/jpeg:https://cityfestival.thisisathens.org/wp-content/uploads/2025/09/20240922-OSF-AthinasCarFree-Sunday-0066-scaled.jpg
END:VEVENT
END:VCALENDAR