BEGIN:VCALENDAR
VERSION:2.0
PRODID:-//This is Athens City Festival - ECPv6.12.0.1//NONSGML v1.0//EN
CALSCALE:GREGORIAN
METHOD:PUBLISH
X-WR-CALNAME:This is Athens City Festival
X-ORIGINAL-URL:https://cityfestival.thisisathens.org/en/
X-WR-CALDESC:Events for This is Athens City Festival
REFRESH-INTERVAL;VALUE=DURATION:PT1H
X-Robots-Tag:noindex
X-PUBLISHED-TTL:PT1H
BEGIN:VTIMEZONE
TZID:Europe/Athens
BEGIN:DAYLIGHT
TZOFFSETFROM:+0200
TZOFFSETTO:+0300
TZNAME:EEST
DTSTART:20260329T010000
END:DAYLIGHT
BEGIN:STANDARD
TZOFFSETFROM:+0300
TZOFFSETTO:+0200
TZNAME:EET
DTSTART:20261025T010000
END:STANDARD
END:VTIMEZONE
BEGIN:VEVENT
DTSTART;TZID=Europe/Athens:20260511T120000
DTEND;TZID=Europe/Athens:20260511T180000
DTSTAMP:20260425T034133
CREATED:20260331T121739Z
LAST-MODIFIED:20260407T094104Z
UID:10004430-1778500800-1778522400@cityfestival.thisisathens.org
SUMMARY:Inna Orlik: The Permanent Collection
DESCRIPTION:Orlik Gallery invites the This is Athens City Festival audience to a distinctive encounter with the visual universe of Inna Orlik. This exhibition brings to the fore a world where contemporary painting enters into a dialogue with mythology\, nature\, and the human experience\, creating an environment rich in symbolism and layers of interpretation.\n\nDefined by bold colours\, complex textures\, and a singular painterly language\, Orlik’s works move between the visible and the suggestive\, the personal and the collective. The artist transforms the canvas into a space for narrative and exploration\, inviting the viewer to discover forms\, symbols\, and underlying connections. It is an exhibition tailored for those seeking not only aesthetic intensity in contemporary art but also a substantial\, resonant depth.\n\nOpening hours: Daily: 12:00–18:00.
URL:https://cityfestival.thisisathens.org/en/event/inna-orlik-the-permanent-collection/2026-05-11/
LOCATION:Orlik Gallery\, 3 Palaiologou Benizelou\, Athens\, 105 56\, Greece
CATEGORIES:EXHIBITION,FREE,GALLERY
ATTACH;FMTTYPE=image/jpeg:https://cityfestival.thisisathens.org/wp-content/uploads/2026/03/1K9A0075-HDR-scaled.jpg
GEO:37.974622591545;23.729274295913
X-APPLE-STRUCTURED-LOCATION;VALUE=URI;X-ADDRESS=Orlik Gallery 3 Palaiologou Benizelou Athens 105 56 Greece;X-APPLE-RADIUS=500;X-TITLE=3 Palaiologou Benizelou:geo:23.729274295913,37.974622591545
END:VEVENT
BEGIN:VEVENT
DTSTART;TZID=Europe/Athens:20260511T180000
DTEND;TZID=Europe/Athens:20260511T210000
DTSTAMP:20260425T034133
CREATED:20260331T124612Z
LAST-MODIFIED:20260407T130747Z
UID:10004766-1778522400-1778533200@cityfestival.thisisathens.org
SUMMARY:Gerasimos Galiatsatos: Phi of Light
DESCRIPTION:What happens when mathematical perfection meets inner revelation? In “Phi of Light”\, an exhibition by Gerasimos Galiatsatos curated by mosaico\, art transcends simple representation. It becomes\, as the psychologist and author Rollo May might suggest\, a “revelation of new forms of being. The artist brings viewers face-to-face with two fundamental forces:\n\n 	The Golden Ratio: Named in honour of Phidias\, the Golden Ratio is the mathematical code of absolute harmony in nature and architecture. For Galiatsatos\, phi (φ) is not merely a rule of matter\, but the aesthetic imprint of psychological balance. \n 	The Light: The force that reveals and purifies. Drawing inspiration from Jungian thought\, the artist treats light as the medium through which “darkness becomes conscious.” \n\nEach work in the collection acts as a luminous mediator\, inviting the viewer to discover an internal order within the chaos. This exhibition functions as a ritual\, inviting us to look beyond the obvious and seek our own facet of reality through brilliance and geometry.\n\nOpening hours: Monday–Friday: 18:00–21:00; Saturday: 12:30–15:00. Closed on Sunday.
URL:https://cityfestival.thisisathens.org/en/event/gerasimos-galiatsatos-phi-of-light/2026-05-11/
LOCATION:Mosaico Fine Art Studio\, Kesarias 18-20\, Athens\, Athens\, 115 27\, Greece
CATEGORIES:EXHIBITION,FREE,GALLERY
ATTACH;FMTTYPE=image/jpeg:https://cityfestival.thisisathens.org/wp-content/uploads/2026/03/f-tou-fotos-scaled.jpg
END:VEVENT
BEGIN:VEVENT
DTSTART;TZID=Europe/Athens:20260511T180000
DTEND;TZID=Europe/Athens:20260511T233000
DTSTAMP:20260425T034133
CREATED:20260417T092959Z
LAST-MODIFIED:20260417T092959Z
UID:10004216-1778522400-1778542200@cityfestival.thisisathens.org
SUMMARY:Queer Movie Nights 2026
DESCRIPTION:Queer Movie Nights are bringing an open\, vibrant\, and inclusive celebration of LGBTQI+ cinema right to the heart of Athens. Through a curated selection of queer feature films\, shorts\, documentaries\, and homegrown Greek productions\, this event creates a vital meeting point where queer stories find visibility\, a voice\, and an audience. This initiative has already carved out a permanent spot on the city’s cultural map as a platform for expression\, coexistence\, and acceptance.\n\nBeyond the silver screen\, Queer Movie Nights act as a safe space for dialogue and connection where every viewer can truly be themselves\, share experiences\, and see the world through diverse\, colourful perspectives. It’s a celebration of diversity\, cinematic creativity\, and the unique power of the big screen to bring people closer together.
URL:https://cityfestival.thisisathens.org/en/event/queer-movie-nights-2026/2026-05-11/
LOCATION:Trianon Cinema\, Kodrigktonos 21\, Athens\, Athens\, 104 34\, Greece
CATEGORIES:CINEMA,ENTERTAINMENT
ATTACH;FMTTYPE=image/png:https://cityfestival.thisisathens.org/wp-content/uploads/2026/03/QMN26-poster-site.png
END:VEVENT
BEGIN:VEVENT
DTSTART;TZID=Europe/Athens:20260511T190000
DTEND;TZID=Europe/Athens:20260511T230000
DTSTAMP:20260425T034133
CREATED:20260408T133943Z
LAST-MODIFIED:20260421T072337Z
UID:10005457-1778526000-1778540400@cityfestival.thisisathens.org
SUMMARY:ATHENS: AM EXTENDED
DESCRIPTION:A high-tech\, multi-sensory deep dive into the city’s midnight soul with photographer Thanasis Karatzas and multimedia director Byron Nikolopoulos teaming up to breathe life into 88 iconic black-and-white shots of Athens captured between 2008 and 2022. Hosted at the cutting-edge METACOSMOI space right in the heart of the city\, they’ve turned static images into a living\, breathing digital playground.\n\nUsing Augmented Reality (AR)\, VR\, and sleek video projections\, the exhibition takes classic street photography and adds movement\, sound\, and a splash of colour. The project is fresh off international acclaim at Paris Photo and Photo London\, so we’re thrilled to bring it back to the very streets that inspired it. You’ll see Athens as a “palimpsest”\, a city of layers where ancient history\, gritty urban vibes\, and the digital future all sit at the same table.\n\n 
URL:https://cityfestival.thisisathens.org/en/event/athens-am-extended/2026-05-11/
LOCATION:metacosmoi\, 44 Geraniou\, Αθήνα\, 104 31\, Greece
CATEGORIES:EXHIBITION,FREE
ATTACH;FMTTYPE=image/jpeg:https://cityfestival.thisisathens.org/wp-content/uploads/2026/04/ATHENS-AM-EXTENDED-KARATZAS-1.jpg
GEO:37.984236009787;23.726108409407
X-APPLE-STRUCTURED-LOCATION;VALUE=URI;X-ADDRESS=metacosmoi 44 Geraniou Αθήνα 104 31 Greece;X-APPLE-RADIUS=500;X-TITLE=44 Geraniou:geo:23.726108409407,37.984236009787
END:VEVENT
BEGIN:VEVENT
DTSTART;TZID=Europe/Athens:20260511T210000
DTEND;TZID=Europe/Athens:20260511T230000
DTSTAMP:20260425T034133
CREATED:20260403T105901Z
LAST-MODIFIED:20260403T105933Z
UID:10004963-1778533200-1778540400@cityfestival.thisisathens.org
SUMMARY:Melachrinos Velentzas: Rebirth
DESCRIPTION:An abandoned piano\, long-silent in a dusty Athenian corner\, finds its voice once more. Pianist and performer Melachrinos Velentzas presents Rebirth\, blending performance\, installation\, and collective ritual in some of the city’s most emblematic spaces.\n\nThrough a musical ceremony\, Velentzas resuscitates an instrument that has endured years of stillness. It is a powerful parallel between the decay of a forgotten object and the quiet frustration of a person who has lost their connection to “play.” But this isn’t just a performance to watch\, it’s an invitation to participate. As the notes echo through the air\, you are invited to join a collective act of storytelling\, leaving your own personal histories on the stools of other “forgotten” pianos from across Athens.\n\nPart of the artist’s long-term research into the materiality of instruments and the memories held within the city’s homes\, Rebirth transforms individual loss into a shared\, redemptive experience. Come and witness the city’s silent history find its rhythm again.
URL:https://cityfestival.thisisathens.org/en/event/melachrinos-velentzas-rebirth/
LOCATION:Aerides\, Markou Avriliou & Diogenous\, Athens\, Athens\, 105 55\, Greece
CATEGORIES:CONCERT,ENTERTAINMENT,FREE,OUTDOOR ACTIVITY
ATTACH;FMTTYPE=image/jpeg:https://cityfestival.thisisathens.org/wp-content/uploads/2026/04/rebirth-Μελαχρινός-Βελέντζας-This-Is-Athens-2026-01.jpg
END:VEVENT
END:VCALENDAR