BEGIN:VCALENDAR
VERSION:2.0
PRODID:-//This is Athens City Festival - ECPv6.12.0.1//NONSGML v1.0//EN
CALSCALE:GREGORIAN
METHOD:PUBLISH
X-WR-CALNAME:This is Athens City Festival
X-ORIGINAL-URL:https://cityfestival.thisisathens.org/en/
X-WR-CALDESC:Events for This is Athens City Festival
REFRESH-INTERVAL;VALUE=DURATION:PT1H
X-Robots-Tag:noindex
X-PUBLISHED-TTL:PT1H
BEGIN:VTIMEZONE
TZID:Europe/Athens
BEGIN:DAYLIGHT
TZOFFSETFROM:+0200
TZOFFSETTO:+0300
TZNAME:EEST
DTSTART:20250330T010000
END:DAYLIGHT
BEGIN:STANDARD
TZOFFSETFROM:+0300
TZOFFSETTO:+0200
TZNAME:EET
DTSTART:20251026T010000
END:STANDARD
END:VTIMEZONE
BEGIN:VEVENT
DTSTART;TZID=Europe/Athens:20250510T120000
DTEND;TZID=Europe/Athens:20250510T150000
DTSTAMP:20260422T074858
CREATED:20250418T145531Z
LAST-MODIFIED:20250425T124028Z
UID:10003538-1746878400-1746889200@cityfestival.thisisathens.org
SUMMARY:Shadow Puppet Cases Narrate
DESCRIPTION:This activity is only available in Greek. \n\nA unique experience for both young and old fans of the beloved folk hero. Authentic evidence of a rich tradition through the life and work of renowned shadow puppeteers\, offering a historical overview from 1890 to 2000. \n\nTen artistic installations\, ten suitcases filled with authentic items such as puppets\, backdrops\, tools\, manuscripts\, as well as rare recordings\, all tell a great story\, providing the joy of discovery.
URL:https://cityfestival.thisisathens.org/en/event/shadow-puppet-cases-narrate-3/
LOCATION:Museum of Greek Folk Musical Instruments “Fivos Anoyanakis” – Centre for Ethnomusicology\, Diogenous 1\, Athens\, Athens\, 105 56\, Greece
CATEGORIES:ENTERTAINMENT,EXHIBITION,FOR KIDS,FREE,MUSEUM,THEATER
ATTACH;FMTTYPE=image/png:https://cityfestival.thisisathens.org/wp-content/uploads/2025/04/LOGO-OI-VALITSES-TWN-SKIWN-AFIGOUNTAI-sm-1-1-1-1-1-1-1-1-1-1-1-1-1-1.png
END:VEVENT
BEGIN:VEVENT
DTSTART;TZID=Europe/Athens:20250510T120000
DTEND;TZID=Europe/Athens:20250510T170000
DTSTAMP:20260422T074858
CREATED:20250506T071617Z
LAST-MODIFIED:20250506T073507Z
UID:10003914-1746878400-1746896400@cityfestival.thisisathens.org
SUMMARY:Giorgos Gyzis: Clippings: Athens
DESCRIPTION:Clippings: Athens presents the third series of paintings inspired by clippings sourced from old newspapers. Photographs\, drawings\, and articles about Athens emerge from the archives\, transformed into visual artworks that evoke emotion. The works on display offer a brief journey through the evolving form of Athens\, beginning with the distinctive sketches by 19th-century British travellers in Attica and culminating in the height of modernism during the 1950s and 60s. \n\nExhibition Opening: Saturday 10 May 2025\, 12:00–17:00 Opening Hours: Tuesday\, Thursday\, Friday: 11:00–14:30 / 17:30–20:30 \n\nWednesday\, Saturday: 11:00–16:00 \n\nClosed Sunday and Monday
URL:https://cityfestival.thisisathens.org/en/event/giorgos-gyzis-clippings-athens/2025-05-10/
LOCATION:Ikastikos Kyklos\, Akadimias 6\, Athens\, Athens\, 106 71\, Greece
CATEGORIES:EXHIBITION,FREE,GALLERY
ATTACH;FMTTYPE=image/jpeg:https://cityfestival.thisisathens.org/wp-content/uploads/2025/05/9817.jpg
END:VEVENT
BEGIN:VEVENT
DTSTART;TZID=Europe/Athens:20250510T140000
DTEND;TZID=Europe/Athens:20250510T233000
DTSTAMP:20260422T074858
CREATED:20250418T143848Z
LAST-MODIFIED:20250506T131245Z
UID:10003533-1746885600-1746919800@cityfestival.thisisathens.org
SUMMARY:World of Beer Festival
DESCRIPTION:Looking for a different kind of day (or night) out? Love beer\, good music and stand-up comedy? Obsessed with festivals?The World of Beer Festival—the biggest beer festival in Greece—is coming to Technopolis City of Athens\, from 9 to 11 May. \nWhether you’re into Lager\, Ale\, Weiss\, Pils\, Pale Ale\, Trappist\, Abbey\, Tripel\, Dinkel\, Draught or even cider\, you’ll find countless labels from top breweries and microbreweries. Expect excellent comfort and street food\, beer-pairing snacks\, glassware\, serving accessories and more. \nLive music takes the stage every day with artists like Onirama\, Stavento\, Melina Kana\, Christos Dantis\, Ypogeia Revmata\, Giagkinides\, Wedding Singers\, The Speakeasies Swing Band and Prestige the Band. \nComedy favourites Lambros Fisfis and Dionysis Atzarakis will also perform stand-up and sit-down shows as special guest hosts. \nGrab your ticket now at worldofbeerfestival.gr and enjoy the presale price of just €5.* \n*Tickets during the festival will be available online and at the gate for €7. \nBonus tip:All visitors will receive a tote bag on entry with exclusive branded gifts—including a 330ml beer glass with a 100ml mark\, a coaster\, and more surprises.
URL:https://cityfestival.thisisathens.org/en/event/world-of-beer-festival-3/
LOCATION:Technopolis City of Athens\, Pireos 100\, Athens\, Athens\, 118 54\, Greece
CATEGORIES:DJ SET,ENTERTAINMENT,GASTRONOMY
ATTACH;FMTTYPE=image/jpeg:https://cityfestival.thisisathens.org/wp-content/uploads/2025/04/IAK00743.jpeg
END:VEVENT
BEGIN:VEVENT
DTSTART;TZID=Europe/Athens:20250510T170000
DTEND;TZID=Europe/Athens:20250510T230000
DTSTAMP:20260422T074858
CREATED:20250422T091924Z
LAST-MODIFIED:20250506T131209Z
UID:10003563-1746896400-1746918000@cityfestival.thisisathens.org
SUMMARY:Protogenous Spring City
DESCRIPTION:Prototogenous Street is a perfect example of how a narrow\, once-forgotten alley in the city centre can become an essential destination. Today\, it’s a vibrant meeting point for every kind of urban culture—a street that never sleeps\, where you can find music\, food\, fashion\, furniture\, sweets\, drinks\, good vibes and\, this May\, a three-day celebration packed with live shows\, DJ sets\, street food\, pop-up markets and surprises.\n\nOn the second weekend of May\, Psyrri’s beating heart celebrates spring’s arrival with fashion bazaars\, open-air performances and DJ sets in a street party you won’t want to miss.\n\nSaturday 10 May: Deaf Radio The Page Of Cups DJ set: Fotini Galani\n\nFree entry | Starts at 17:00\n\nIn collaboration with: Barrett\, Syd Records\, Crust\, Ringo Kalamaki Pub\, Tranzistor\, Kokkion\, Color Skates\, Like Yesterdays\, Prime Timers\, The Potheads\, Treasure Hunt\, The Fountain\, Badila\, Lemon Poppy Seed.
URL:https://cityfestival.thisisathens.org/en/event/protogenous-spring-city-2/
LOCATION:Protogenous Str.\, Protogenous Street\, Athens\, Athens\, 105 54\, Greece
CATEGORIES:DANCE,DJ SET,ENTERTAINMENT,FREE,GASTRONOMY,OUTDOOR ACTIVITY,PARTY
ATTACH;FMTTYPE=image/jpeg:https://cityfestival.thisisathens.org/wp-content/uploads/2025/03/20220616-TGR-StreetView-Protogenous-0885-1-scaled.jpg
END:VEVENT
BEGIN:VEVENT
DTSTART;TZID=Europe/Athens:20250510T173000
DTEND;TZID=Europe/Athens:20250510T193000
DTSTAMP:20260422T074858
CREATED:20250424T132545Z
LAST-MODIFIED:20250425T124050Z
UID:10003870-1746898200-1746905400@cityfestival.thisisathens.org
SUMMARY:Collage Journeys: Self and Travel
DESCRIPTION:This activity is only available in Greek.\n\nParticipants are invited to take part in the Collage Journeys: Imaginary Cities workshop. Using the flexible medium of collage and a variety of materials\, attendees will explore the idea of travel and create their own imagined cities—visualising dreamlike places and routes. The workshop is led by artist and art therapist Paraskevi Papagianni\, who will provide inspiration and gentle guidance throughout the process.
URL:https://cityfestival.thisisathens.org/en/event/collage-journeys-selftravel/2025-05-10/1/
LOCATION:Mosaico Fine Art Studio\, Kesarias 18-20\, Athens\, Athens\, 115 27\, Greece
CATEGORIES:FREE,GALLERY
ATTACH;FMTTYPE=image/jpeg:https://cityfestival.thisisathens.org/wp-content/uploads/2025/04/workshop3-scaled.jpg
END:VEVENT
BEGIN:VEVENT
DTSTART;TZID=Europe/Athens:20250510T173000
DTEND;TZID=Europe/Athens:20250510T230000
DTSTAMP:20260422T074858
CREATED:20250327T145759Z
LAST-MODIFIED:20250506T131122Z
UID:10003220-1746898200-1746918000@cityfestival.thisisathens.org
SUMMARY:In the Streets We Dance with Egyptian Lover
DESCRIPTION:Egyptian Lover is one of the most legendary figures in the electronic music scene. A pioneer of the electro sound and a true icon of the early ’80s West Coast scene\, he’s known for bringing the same unstoppable energy to his sets today as he did back then. His shows aren’t just heard—they’re experienced.\n\nPresented by Cannibal Radio and B-Side.
URL:https://cityfestival.thisisathens.org/en/event/in-the-streets-we-dance-with-egyptian-lover/
LOCATION:Korai Square\, Korai 1\, Athens\, Athens\, 105 64\, Greece
CATEGORIES:DJ SET,ENTERTAINMENT,FREE,OUTDOOR ACTIVITY,PARTY
ATTACH;FMTTYPE=image/jpeg:https://cityfestival.thisisathens.org/wp-content/uploads/2025/03/i-PsBwqtq-XL.jpg
END:VEVENT
BEGIN:VEVENT
DTSTART;TZID=Europe/Athens:20250510T173000
DTEND;TZID=Europe/Athens:20250510T230000
DTSTAMP:20260422T074858
CREATED:20250321T184436Z
LAST-MODIFIED:20250414T110149Z
UID:10000829-1746898200-1746918000@cityfestival.thisisathens.org
SUMMARY:Street Outdoors Soundsystem
DESCRIPTION:The street is their kingdom. Street Outdoors\, the team behind the biggest street parties of the last decade\, takes over Eleftherias Park for a laid-back gathering featuring the latest dance music and the city’s most energetic crowd.
URL:https://cityfestival.thisisathens.org/en/event/street-outdoors-soundsystem/
LOCATION:Eleftherias Park\, Eleftherias Park\, Athens\, Athens\, 115 21\, Greece
CATEGORIES:DANCE,DJ SET,ENTERTAINMENT,FREE,OUTDOOR ACTIVITY,PARTY
ATTACH;FMTTYPE=image/jpeg:https://cityfestival.thisisathens.org/wp-content/uploads/2025/03/i-tj6pKwS-XL.jpg
END:VEVENT
BEGIN:VEVENT
DTSTART;TZID=Europe/Athens:20250510T180000
DTEND;TZID=Europe/Athens:20250510T233000
DTSTAMP:20260422T074858
CREATED:20250422T094438Z
LAST-MODIFIED:20250506T131054Z
UID:10003571-1746900000-1746919800@cityfestival.thisisathens.org
SUMMARY:Queer Movie Nights
DESCRIPTION:Queer Movie Nights is a one-of-a-kind celebration of LGBTQI+ cinema in Athens. Launched in May 2022 to mark the International Day Against Homophobia\, Transphobia\, Biphobia and Interphobia\, the series has since evolved into a dedicated platform for screening queer short and feature films\, as well as documentaries. Its mission is to create a safe\, expressive space where queer stories from around the world can shine through the powerful lens of cinema.
URL:https://cityfestival.thisisathens.org/en/event/queer-movie-nights-2/
LOCATION:Trianon Cinema\, Kodrigktonos 21\, Athens\, Athens\, 104 34\, Greece
CATEGORIES:CINEMA,ENTERTAINMENT
ATTACH;FMTTYPE=image/webp:https://cityfestival.thisisathens.org/wp-content/uploads/2025/03/Queer-Movie-Nights-για-site-1399x1536.jpg-1.webp
END:VEVENT
BEGIN:VEVENT
DTSTART;TZID=Europe/Athens:20250510T200000
DTEND;TZID=Europe/Athens:20250510T220000
DTSTAMP:20260422T074858
CREATED:20250424T132545Z
LAST-MODIFIED:20250425T124050Z
UID:10003871-1746907200-1746914400@cityfestival.thisisathens.org
SUMMARY:Collage Journeys: Self and Travel
DESCRIPTION:This activity is only available in Greek.\n\nParticipants are invited to take part in the Collage Journeys: Imaginary Cities workshop. Using the flexible medium of collage and a variety of materials\, attendees will explore the idea of travel and create their own imagined cities—visualising dreamlike places and routes. The workshop is led by artist and art therapist Paraskevi Papagianni\, who will provide inspiration and gentle guidance throughout the process.
URL:https://cityfestival.thisisathens.org/en/event/collage-journeys-selftravel/2025-05-10/2/
LOCATION:Mosaico Fine Art Studio\, Kesarias 18-20\, Athens\, Athens\, 115 27\, Greece
CATEGORIES:FREE,GALLERY
ATTACH;FMTTYPE=image/jpeg:https://cityfestival.thisisathens.org/wp-content/uploads/2025/04/workshop3-scaled.jpg
END:VEVENT
END:VCALENDAR