BEGIN:VCALENDAR
VERSION:2.0
PRODID:-//This is Athens City Festival - ECPv6.12.0.1//NONSGML v1.0//EN
CALSCALE:GREGORIAN
METHOD:PUBLISH
X-WR-CALNAME:This is Athens City Festival
X-ORIGINAL-URL:https://cityfestival.thisisathens.org/en/
X-WR-CALDESC:Events for This is Athens City Festival
REFRESH-INTERVAL;VALUE=DURATION:PT1H
X-Robots-Tag:noindex
X-PUBLISHED-TTL:PT1H
BEGIN:VTIMEZONE
TZID:Europe/Athens
BEGIN:DAYLIGHT
TZOFFSETFROM:+0200
TZOFFSETTO:+0300
TZNAME:EEST
DTSTART:20250330T010000
END:DAYLIGHT
BEGIN:STANDARD
TZOFFSETFROM:+0300
TZOFFSETTO:+0200
TZNAME:EET
DTSTART:20251026T010000
END:STANDARD
END:VTIMEZONE
BEGIN:VEVENT
DTSTART;TZID=Europe/Athens:20250511T120000
DTEND;TZID=Europe/Athens:20250511T150000
DTSTAMP:20260422T110608
CREATED:20250418T145630Z
LAST-MODIFIED:20250425T123927Z
UID:10003537-1746964800-1746975600@cityfestival.thisisathens.org
SUMMARY:Shadow Puppet Cases Narrate
DESCRIPTION:This activity is only available in Greek. \n\nA unique experience for both young and old fans of the beloved folk hero. Authentic evidence of a rich tradition through the life and work of renowned shadow puppeteers\, offering a historical overview from 1890 to 2000. \n\nTen artistic installations\, ten suitcases filled with authentic items such as puppets\, backdrops\, tools\, manuscripts\, as well as rare recordings\, all tell a great story\, providing the joy of discovery.
URL:https://cityfestival.thisisathens.org/en/event/shadow-puppet-cases-narrate-2/
LOCATION:Museum of Greek Folk Musical Instruments “Fivos Anoyanakis” – Centre for Ethnomusicology\, Diogenous 1\, Athens\, Athens\, 105 56\, Greece
CATEGORIES:ENTERTAINMENT,EXHIBITION,FOR KIDS,FREE,MUSEUM,THEATER
ATTACH;FMTTYPE=image/png:https://cityfestival.thisisathens.org/wp-content/uploads/2025/04/LOGO-OI-VALITSES-TWN-SKIWN-AFIGOUNTAI-sm-1-1-1-1-1-1-1-1-1-1-1-1-1-1.png
END:VEVENT
BEGIN:VEVENT
DTSTART;TZID=Europe/Athens:20250511T130000
DTEND;TZID=Europe/Athens:20250511T140000
DTSTAMP:20260422T110608
CREATED:20250418T152407Z
LAST-MODIFIED:20250506T130914Z
UID:10003543-1746968400-1746972000@cityfestival.thisisathens.org
SUMMARY:Guided Tour of the Maria Callas Museum
DESCRIPTION:This activity is only available in Greek. \n\nThe Maria Callas Museum\, as part of the 2025 This is Athens City Festival\, invites you on an exciting journey through the life and art of the opera’s greatest diva! Visitors will have the opportunity to discover the most iconic moments of Maria Callas\, explore unknown aspects of her journey\, and delve into her personality and artistic legacy. With a narrative that brings her story to life\, each guided tour highlights details beyond the exhibition texts\, creating a unique experience tailored to the audience.
URL:https://cityfestival.thisisathens.org/en/event/guided-tour-of-the-maria-callas-museum/
LOCATION:Maria Callas Museum\, Mitropoleos 44\, Athens\, Athens\, 105 63\, Greece
CATEGORIES:EXHIBITION,FREE,MUSEUM
ATTACH;FMTTYPE=image/jpeg:https://cityfestival.thisisathens.org/wp-content/uploads/2025/04/General-photo_-Internal-photo-of-the-Museum-1st-floor_Vangelis-Patsialos_Maria-Callas-Museum.jpg
END:VEVENT
BEGIN:VEVENT
DTSTART;TZID=Europe/Athens:20250511T140000
DTEND;TZID=Europe/Athens:20250511T150000
DTSTAMP:20260422T110608
CREATED:20250416T134444Z
LAST-MODIFIED:20250506T130844Z
UID:10003512-1746972000-1746975600@cityfestival.thisisathens.org
SUMMARY:Guided Tour of the War Museum for Adults
DESCRIPTION:This activity is only available in Greek. \n\nExplore Greece’s military history and cultural heritage through a guided tour of the War Museum’s permanent exhibitions. Visitors will encounter rare artefacts\, historical documents and personal stories that shed light on key moments from the country’s past. \n\nThis activity is designed for adults.
URL:https://cityfestival.thisisathens.org/en/event/guided-tour-of-the-war-museum-for-adults/
LOCATION:War Museum\, Rizari 2-4\, Athens\, Athens\, 106 75\, Greece
CATEGORIES:EXHIBITION,FREE,MUSEUM,TOUR
ATTACH;FMTTYPE=image/jpeg:https://cityfestival.thisisathens.org/wp-content/uploads/2025/03/02.jpg
END:VEVENT
BEGIN:VEVENT
DTSTART;TZID=Europe/Athens:20250511T140000
DTEND;TZID=Europe/Athens:20250511T150000
DTSTAMP:20260422T110608
CREATED:20250402T143138Z
LAST-MODIFIED:20250416T133845Z
UID:10003320-1746972000-1746975600@cityfestival.thisisathens.org
SUMMARY:Guided Tour of the War Museum for Adults
DESCRIPTION:This activity is only available in Greek.\n\nExplore Greece’s military history and cultural heritage through a guided tour of the War Museum’s permanent exhibitions. Visitors will encounter rare artefacts\, historical documents and personal stories that shed light on key moments from the country’s past.\n\nThis activity is designed for adults.
URL:https://cityfestival.thisisathens.org/en/event/guided-tour-war-museum-adults/
LOCATION:War Museum\, Rizari 2-4\, Athens\, Athens\, 106 75\, Greece
CATEGORIES:EXHIBITION,FREE,MUSEUM,TOUR
ATTACH;FMTTYPE=image/jpeg:https://cityfestival.thisisathens.org/wp-content/uploads/2025/04/02.jpg
END:VEVENT
BEGIN:VEVENT
DTSTART;TZID=Europe/Athens:20250511T140000
DTEND;TZID=Europe/Athens:20250511T233000
DTSTAMP:20260422T110608
CREATED:20250418T144017Z
LAST-MODIFIED:20250506T130811Z
UID:10003534-1746972000-1747006200@cityfestival.thisisathens.org
SUMMARY:World of Beer Festival
DESCRIPTION:Looking for a different kind of day (or night) out? Love beer\, good music and stand-up comedy? Obsessed with festivals?The World of Beer Festival—the biggest beer festival in Greece—is coming to Technopolis City of Athens\, from 9 to 11 May. \nWhether you’re into Lager\, Ale\, Weiss\, Pils\, Pale Ale\, Trappist\, Abbey\, Tripel\, Dinkel\, Draught or even cider\, you’ll find countless labels from top breweries and microbreweries. Expect excellent comfort and street food\, beer-pairing snacks\, glassware\, serving accessories and more. \nLive music takes the stage every day with artists like Onirama\, Stavento\, Melina Kana\, Christos Dantis\, Ypogeia Revmata\, Giagkinides\, Wedding Singers\, The Speakeasies Swing Band and Prestige the Band. \nComedy favourites Lambros Fisfis and Dionysis Atzarakis will also perform stand-up and sit-down shows as special guest hosts. \nGrab your ticket now at worldofbeerfestival.gr and enjoy the presale price of just €5.* \n*Tickets during the festival will be available online and at the gate for €7. \nBonus tip:All visitors will receive a tote bag on entry with exclusive branded gifts—including a 330ml beer glass with a 100ml mark\, a coaster\, and more surprises.
URL:https://cityfestival.thisisathens.org/en/event/world-of-beer-festival-4/
LOCATION:Technopolis City of Athens\, Pireos 100\, Athens\, Athens\, 118 54\, Greece
CATEGORIES:DJ SET,ENTERTAINMENT,GASTRONOMY
ATTACH;FMTTYPE=image/jpeg:https://cityfestival.thisisathens.org/wp-content/uploads/2025/04/IAK00743.jpeg
END:VEVENT
BEGIN:VEVENT
DTSTART;TZID=Europe/Athens:20250511T170000
DTEND;TZID=Europe/Athens:20250511T230000
DTSTAMP:20260422T110608
CREATED:20250422T092049Z
LAST-MODIFIED:20250506T130740Z
UID:10003564-1746982800-1747004400@cityfestival.thisisathens.org
SUMMARY:Protogenous Spring City
DESCRIPTION:Prototogenous Street is a perfect example of how a narrow\, once-forgotten alley in the city centre can become an essential destination. Today\, it’s a vibrant meeting point for every kind of urban culture—a street that never sleeps\, where you can find music\, food\, fashion\, furniture\, sweets\, drinks\, good vibes and\, this May\, a three-day celebration packed with live shows\, DJ sets\, street food\, pop-up markets and surprises.\n\nOn the second weekend of May\, Psyrri’s beating heart celebrates spring’s arrival with fashion bazaars\, open-air performances and DJ sets in a street party you won’t want to miss.\n\nSunday 11 May: Los Tre Bipolia DJ set: Karavokyris\n\nFree entry | Starts at 17:00\n\nIn collaboration with: Barrett\, Syd Records\, Crust\, Ringo Kalamaki Pub\, Tranzistor\, Kokkion\, Color Skates\, Like Yesterdays\, Prime Timers\, The Potheads\, Treasure Hunt\, The Fountain\, Badila\, Lemon Poppy Seed.
URL:https://cityfestival.thisisathens.org/en/event/protogenous-spring-city-3/
LOCATION:Protogenous Str.\, Protogenous Street\, Athens\, Athens\, 105 54\, Greece
CATEGORIES:DANCE,DJ SET,ENTERTAINMENT,FREE,GASTRONOMY,OUTDOOR ACTIVITY,PARTY
ATTACH;FMTTYPE=image/jpeg:https://cityfestival.thisisathens.org/wp-content/uploads/2025/03/20220616-TGR-StreetView-Protogenous-0885-1-scaled.jpg
END:VEVENT
BEGIN:VEVENT
DTSTART;TZID=Europe/Athens:20250511T180000
DTEND;TZID=Europe/Athens:20250511T190000
DTSTAMP:20260422T110608
CREATED:20250327T112527Z
LAST-MODIFIED:20250506T130616Z
UID:10001271-1746986400-1746990000@cityfestival.thisisathens.org
SUMMARY:Fairy Tales in the Park: Taxiarchis Beligiannis
DESCRIPTION:This activity is only available in Greek.\n\nOnce upon a time… A magical journey begins! With words as our guide and music accompanying us\, we soar over seas and mountains to meet brave heroes and wise old women\, experiencing incredible adventures. Get ready for an afternoon of storytelling full of imagination!\n\nNarration: Taxiarchis Mpeligiannis\nMusic: Lida Xydi
URL:https://cityfestival.thisisathens.org/en/event/fairy-tales-in-the-park-taxiarchis-beligiannis/
LOCATION:Rizari Park\, Rizari 5\, Athens\, Athens\, 106 76\, Greece
CATEGORIES:ENTERTAINMENT,FOR KIDS,FREE,OUTDOOR ACTIVITY
ATTACH;FMTTYPE=image/jpeg:https://cityfestival.thisisathens.org/wp-content/uploads/2025/03/20240525-TiACF-GMK-TaxiarchisMpeligiannisMouseio-0034-scaled.jpg
END:VEVENT
BEGIN:VEVENT
DTSTART;TZID=Europe/Athens:20250511T180000
DTEND;TZID=Europe/Athens:20250511T193000
DTSTAMP:20260422T110608
CREATED:20250423T125037Z
LAST-MODIFIED:20250506T130541Z
UID:10003652-1746986400-1746991800@cityfestival.thisisathens.org
SUMMARY:Apprenticeship Walk: 20 plus 1 Stops
DESCRIPTION:This activity is only availble in Greek. \n\nOfficially designated a historic site\, the National Garden (formerly the Royal Garden) is a calm eye in the storm of central Athens—a space of serenity surrounded by the city’s intensity\, steeped in memory and history. Among the 500 species of plants brought here from around the world under Queen Amalia’s watchful eye\, marble figures wait quietly: Dionysios Solomos\, Aristotle Valaoritis\, Jean Moréas\, Ioannis Kapodistrias and Ioannis Eynard—emblematic figures from an era of visionary leadership in Greece. In this poetic promenade\, writer-director Thodoris Gonis invites audiences to follow the traces of these permanent Garden residents—poets\, politicians\, botanists and engineers—through the documents\, letters and texts that shaped the garden’s story. At its heart is the 20-year-old queen who once dreamt it into being. \n\nConcept & Direction: Thodoris Gonis\n\nDramaturgy: Thodoris Gonis\, Eleni Stroulia\n\nCostumes: Matina Megkla \n\nCast: Eleni Ouzounidou\, Thanasis Dimou\, Roxani Karfi\, Christina Chalkia \n\nMusicians: Paris Kimionis\, Danai Tsironi
URL:https://cityfestival.thisisathens.org/en/event/apprenticeship-walk-20-1-stops/
LOCATION:National Garden\, Vas. Amalias 1\, Athens\, Athens\, 105 57\, Greece
CATEGORIES:ENTERTAINMENT,FREE,OUTDOOR ACTIVITY,THEATER,TOUR
ATTACH;FMTTYPE=image/jpeg:https://cityfestival.thisisathens.org/wp-content/uploads/2025/03/IMG_6798-scaled.jpg
END:VEVENT
BEGIN:VEVENT
DTSTART;TZID=Europe/Athens:20250511T180000
DTEND;TZID=Europe/Athens:20250511T230000
DTSTAMP:20260422T110608
CREATED:20250504T062403Z
LAST-MODIFIED:20250506T130417Z
UID:10003889-1746986400-1747004400@cityfestival.thisisathens.org
SUMMARY:Fklub Block Party
DESCRIPTION:FKLUB\, the first Greek digital club born during the pandemic years with the aim of supporting the electronic dance music scene\, is hitting the streets!\n\nTimes have changed\, people have returned to public spaces\, and now FKLUB presents its first Block Party as part of the Athens Municipality Festival\, staging a dynamic musical takeover in Abyssinia Square.\n\nIn the heart of Athens\, in a square with a rich history and unique character\, get ready to enjoy the best electronic dance music from the top names in the genre\, Tropical and Second Story.
URL:https://cityfestival.thisisathens.org/en/event/fklub-block-party/
LOCATION:Avissynias Square\, Avissynias Square\, Athens\, Athens\, 105 55\, Greece
CATEGORIES:DJ SET,OUTDOOR ACTIVITY
ATTACH;FMTTYPE=image/jpeg:https://cityfestival.thisisathens.org/wp-content/uploads/2025/05/FKLUB-poster.jpg
END:VEVENT
BEGIN:VEVENT
DTSTART;TZID=Europe/Athens:20250511T180000
DTEND;TZID=Europe/Athens:20250511T230000
DTSTAMP:20260422T110608
CREATED:20250327T151609Z
LAST-MODIFIED:20250506T130448Z
UID:10003226-1746986400-1747004400@cityfestival.thisisathens.org
SUMMARY:Athens Cocktails
DESCRIPTION:Athens Cocktails lands in the city’s Japanese Park (Nireidon Park) for a springtime afternoon of feel-good vibes. Expect delicious and approachable cocktails\, upbeat dance-friendly music\, and one of the most serene green spots in town—all coming together for the perfect outdoor get-together.
URL:https://cityfestival.thisisathens.org/en/event/athens-cocktails/
LOCATION:Japanese Park of Athens\, Niriidon 12\, Athens\, Athens\, 116 34\, Greece
CATEGORIES:DJ SET,ENTERTAINMENT,FREE,GASTRONOMY,OUTDOOR ACTIVITY,PARTY
ATTACH;FMTTYPE=image/jpeg:https://cityfestival.thisisathens.org/wp-content/uploads/2025/03/Ιαμπωνικό-πάρκο-Αθήνας.jpg
END:VEVENT
BEGIN:VEVENT
DTSTART;TZID=Europe/Athens:20250511T180000
DTEND;TZID=Europe/Athens:20250511T233000
DTSTAMP:20260422T110608
CREATED:20250422T094532Z
LAST-MODIFIED:20250506T130251Z
UID:10003572-1746986400-1747006200@cityfestival.thisisathens.org
SUMMARY:Queer Movie Nights
DESCRIPTION:Queer Movie Nights is a one-of-a-kind celebration of LGBTQI+ cinema in Athens. Launched in May 2022 to mark the International Day Against Homophobia\, Transphobia\, Biphobia and Interphobia\, the series has since evolved into a dedicated platform for screening queer short and feature films\, as well as documentaries. Its mission is to create a safe\, expressive space where queer stories from around the world can shine through the powerful lens of cinema.
URL:https://cityfestival.thisisathens.org/en/event/queer-movie-nights-3/
LOCATION:Trianon Cinema\, Kodrigktonos 21\, Athens\, Athens\, 104 34\, Greece
CATEGORIES:CINEMA,ENTERTAINMENT
ATTACH;FMTTYPE=image/webp:https://cityfestival.thisisathens.org/wp-content/uploads/2025/03/Queer-Movie-Nights-για-site-1399x1536.jpg-1.webp
END:VEVENT
END:VCALENDAR