BEGIN:VCALENDAR
VERSION:2.0
PRODID:-//This is Athens City Festival - ECPv6.12.0.1//NONSGML v1.0//EN
CALSCALE:GREGORIAN
METHOD:PUBLISH
X-ORIGINAL-URL:https://cityfestival.thisisathens.org/en/
X-WR-CALDESC:Events for This is Athens City Festival
REFRESH-INTERVAL;VALUE=DURATION:PT1H
X-Robots-Tag:noindex
X-PUBLISHED-TTL:PT1H
BEGIN:VTIMEZONE
TZID:Europe/Athens
BEGIN:DAYLIGHT
TZOFFSETFROM:+0200
TZOFFSETTO:+0300
TZNAME:EEST
DTSTART:20250330T010000
END:DAYLIGHT
BEGIN:STANDARD
TZOFFSETFROM:+0300
TZOFFSETTO:+0200
TZNAME:EET
DTSTART:20251026T010000
END:STANDARD
END:VTIMEZONE
BEGIN:VEVENT
DTSTART;TZID=Europe/Athens:20250503T113000
DTEND;TZID=Europe/Athens:20250503T140000
DTSTAMP:20260426T044052
CREATED:20250326T110636Z
LAST-MODIFIED:20250506T134059Z
UID:10001224-1746271800-1746280800@cityfestival.thisisathens.org
SUMMARY:Screening of Historical Documentaries
DESCRIPTION:This activity is only available in Greek.\n\nThe “Adamantios Korais” Hall at the War Museum will host the screening of five historical documentaries\, featuring rare archival footage that brings to life pivotal moments in military history—from the Balkan Wars (1912–13) and the Battle of Gallipoli (1915)\, to the victorious Battle of Skra (1918)\, the dramatic Battle of Crete (1941) and the Normandy Landings (1944).\n\nThese key events are presented through original footage\, highlighting their strategic impact and the courage of those who took part.\n\nProgramme:\n– The Balkan Wars 1912–13: Filming History (52′)\n– The Battle of Gallipoli 1915: ANZAC (27′)\n– The Battle of Skra\, 1918 (22′)\n– The Battle of Crete\, May 1941 (25′)\n– The Normandy Landings\, June 1944 (5′)
URL:https://cityfestival.thisisathens.org/en/event/historical-documentary-screening/
LOCATION:War Museum\, Rizari 2-4\, Athens\, Athens\, 106 75\, Greece
CATEGORIES:CINEMA,FREE,MUSEUM
ATTACH;FMTTYPE=image/jpeg:https://cityfestival.thisisathens.org/wp-content/uploads/2025/03/01.jpg
END:VEVENT
BEGIN:VEVENT
DTSTART;TZID=Europe/Athens:20250508T180000
DTEND;TZID=Europe/Athens:20250508T233000
DTSTAMP:20260426T044052
CREATED:20250422T094324Z
LAST-MODIFIED:20250506T132305Z
UID:10003875-1746727200-1746747000@cityfestival.thisisathens.org
SUMMARY:Queer Movie Nights
DESCRIPTION:Queer Movie Nights is a one-of-a-kind celebration of LGBTQI+ cinema in Athens. Launched in May 2022 to mark the International Day Against Homophobia\, Transphobia\, Biphobia and Interphobia\, the series has since evolved into a dedicated platform for screening queer short and feature films\, as well as documentaries. Its mission is to create a safe\, expressive space where queer stories from around the world can shine through the powerful lens of cinema.
URL:https://cityfestival.thisisathens.org/en/event/queer-movie-nights-5/
LOCATION:Trianon Cinema\, Kodrigktonos 21\, Athens\, Athens\, 104 34\, Greece
CATEGORIES:CINEMA,ENTERTAINMENT
ATTACH;FMTTYPE=image/webp:https://cityfestival.thisisathens.org/wp-content/uploads/2025/03/Queer-Movie-Nights-για-site-1399x1536.jpg-1.webp
END:VEVENT
BEGIN:VEVENT
DTSTART;TZID=Europe/Athens:20250508T193000
DTEND;TZID=Europe/Athens:20250508T230000
DTSTAMP:20260426T044052
CREATED:20250327T131719Z
LAST-MODIFIED:20250506T132113Z
UID:10002434-1746732600-1746745200@cityfestival.thisisathens.org
SUMMARY:Midnight Express: Μad Μax
DESCRIPTION:Midnight Express is the ultimate creation of our resident film guru\, Akis Kapranos. After countless hours spent at the legendary midnight screenings of Alphaville and Cine Dexameni\, he set out to bring that magic back to life. A chance for older generations to reminisce\, for younger ones to discover\, and for all of us to share in a peak cinematic experience. What could be better?\n\nThis time\, Midnight Express steps out of the dark and under the stars. In the beautiful garden of the Athens Observatory\, the cult classic Mad Max takes us back in time and reminds us what groundbreaking cinema is all about.\n\nBooking required.
URL:https://cityfestival.thisisathens.org/en/event/midnight-express-mad-max/
LOCATION:National Observatory of Athens\, Lofos Nymphon\, Athens\, Athens\, 118 10\, Greece
CATEGORIES:CINEMA,ENTERTAINMENT,FREE,OUTDOOR ACTIVITY
ATTACH;FMTTYPE=image/jpeg:https://cityfestival.thisisathens.org/wp-content/uploads/2025/03/Mad-Max-1-scaled.jpg
END:VEVENT
BEGIN:VEVENT
DTSTART;TZID=Europe/Athens:20250509T180000
DTEND;TZID=Europe/Athens:20250509T233000
DTSTAMP:20260426T044052
CREATED:20250422T094405Z
LAST-MODIFIED:20250422T094701Z
UID:10003570-1746813600-1746833400@cityfestival.thisisathens.org
SUMMARY:Queer Movie Nights
DESCRIPTION:Queer Movie Nights is a one-of-a-kind celebration of LGBTQI+ cinema in Athens. Launched in May 2022 to mark the International Day Against Homophobia\, Transphobia\, Biphobia and Interphobia\, the series has since evolved into a dedicated platform for screening queer short and feature films\, as well as documentaries. Its mission is to create a safe\, expressive space where queer stories from around the world can shine through the powerful lens of cinema.
URL:https://cityfestival.thisisathens.org/en/event/queer-movie-nights/
LOCATION:Trianon Cinema\, Kodrigktonos 21\, Athens\, Athens\, 104 34\, Greece
CATEGORIES:CINEMA,ENTERTAINMENT
ATTACH;FMTTYPE=image/webp:https://cityfestival.thisisathens.org/wp-content/uploads/2025/03/Queer-Movie-Nights-για-site-1399x1536.jpg-1.webp
END:VEVENT
BEGIN:VEVENT
DTSTART;TZID=Europe/Athens:20250510T180000
DTEND;TZID=Europe/Athens:20250510T233000
DTSTAMP:20260426T044052
CREATED:20250422T094438Z
LAST-MODIFIED:20250506T131054Z
UID:10003571-1746900000-1746919800@cityfestival.thisisathens.org
SUMMARY:Queer Movie Nights
DESCRIPTION:Queer Movie Nights is a one-of-a-kind celebration of LGBTQI+ cinema in Athens. Launched in May 2022 to mark the International Day Against Homophobia\, Transphobia\, Biphobia and Interphobia\, the series has since evolved into a dedicated platform for screening queer short and feature films\, as well as documentaries. Its mission is to create a safe\, expressive space where queer stories from around the world can shine through the powerful lens of cinema.
URL:https://cityfestival.thisisathens.org/en/event/queer-movie-nights-2/
LOCATION:Trianon Cinema\, Kodrigktonos 21\, Athens\, Athens\, 104 34\, Greece
CATEGORIES:CINEMA,ENTERTAINMENT
ATTACH;FMTTYPE=image/webp:https://cityfestival.thisisathens.org/wp-content/uploads/2025/03/Queer-Movie-Nights-για-site-1399x1536.jpg-1.webp
END:VEVENT
BEGIN:VEVENT
DTSTART;TZID=Europe/Athens:20250511T180000
DTEND;TZID=Europe/Athens:20250511T233000
DTSTAMP:20260426T044052
CREATED:20250422T094532Z
LAST-MODIFIED:20250506T130251Z
UID:10003572-1746986400-1747006200@cityfestival.thisisathens.org
SUMMARY:Queer Movie Nights
DESCRIPTION:Queer Movie Nights is a one-of-a-kind celebration of LGBTQI+ cinema in Athens. Launched in May 2022 to mark the International Day Against Homophobia\, Transphobia\, Biphobia and Interphobia\, the series has since evolved into a dedicated platform for screening queer short and feature films\, as well as documentaries. Its mission is to create a safe\, expressive space where queer stories from around the world can shine through the powerful lens of cinema.
URL:https://cityfestival.thisisathens.org/en/event/queer-movie-nights-3/
LOCATION:Trianon Cinema\, Kodrigktonos 21\, Athens\, Athens\, 104 34\, Greece
CATEGORIES:CINEMA,ENTERTAINMENT
ATTACH;FMTTYPE=image/webp:https://cityfestival.thisisathens.org/wp-content/uploads/2025/03/Queer-Movie-Nights-για-site-1399x1536.jpg-1.webp
END:VEVENT
BEGIN:VEVENT
DTSTART;TZID=Europe/Athens:20250512T180000
DTEND;TZID=Europe/Athens:20250512T233000
DTSTAMP:20260426T044052
CREATED:20250422T094605Z
LAST-MODIFIED:20250506T130139Z
UID:10003573-1747072800-1747092600@cityfestival.thisisathens.org
SUMMARY:Queer Movie Nights
DESCRIPTION:Queer Movie Nights is a one-of-a-kind celebration of LGBTQI+ cinema in Athens. Launched in May 2022 to mark the International Day Against Homophobia\, Transphobia\, Biphobia and Interphobia\, the series has since evolved into a dedicated platform for screening queer short and feature films\, as well as documentaries. Its mission is to create a safe\, expressive space where queer stories from around the world can shine through the powerful lens of cinema.
URL:https://cityfestival.thisisathens.org/en/event/queer-movie-nights-4/
LOCATION:Trianon Cinema\, Kodrigktonos 21\, Athens\, Athens\, 104 34\, Greece
CATEGORIES:CINEMA,ENTERTAINMENT
ATTACH;FMTTYPE=image/webp:https://cityfestival.thisisathens.org/wp-content/uploads/2025/03/Queer-Movie-Nights-για-site-1399x1536.jpg-1.webp
END:VEVENT
BEGIN:VEVENT
DTSTART;TZID=Europe/Athens:20250515T193000
DTEND;TZID=Europe/Athens:20250515T230000
DTSTAMP:20260426T044052
CREATED:20250327T113505Z
LAST-MODIFIED:20250506T125707Z
UID:10001280-1747337400-1747350000@cityfestival.thisisathens.org
SUMMARY:Midnight Express: Star Trek
DESCRIPTION:Midnight Express is the brainchild of film critic Akis Kapranos\, inspired by a longing for the magical midnight screenings once held at legendary Athens cinemas like Alphaville and Cine Dexameni—a personal mission to bring them back to life.\n\nNow\, Midnight Express steps out of the dark and into the light. In the beautiful garden of the Athens Observatory\, the original Star Trek film returns to the screen—a reminder of bold\, visionary cinema. A chance for older generations to revisit it\, for younger ones to discover it\, and for everyone to share in a truly iconic viewing experience.\n\nBooking required.
URL:https://cityfestival.thisisathens.org/en/event/midnight-express-star-trek/
LOCATION:National Observatory of Athens\, Lofos Nymphon\, Athens\, Athens\, 118 10\, Greece
CATEGORIES:CINEMA,ENTERTAINMENT,FREE
ATTACH;FMTTYPE=image/jpeg:https://cityfestival.thisisathens.org/wp-content/uploads/2023/02/20220519-GMK-AthensCityFestival-Αστεροσκοπείο-011.jpg
END:VEVENT
BEGIN:VEVENT
DTSTART;TZID=Europe/Athens:20250518T113000
DTEND;TZID=Europe/Athens:20250518T130000
DTSTAMP:20260426T044052
CREATED:20250507T105556Z
LAST-MODIFIED:20250507T115747Z
UID:10003935-1747567800-1747573200@cityfestival.thisisathens.org
SUMMARY:The Stones Speak
DESCRIPTION:This activity is only available in Greek.\n\nScreening of Three Educational Documentaries A screening of three experiential teaching documentaries that use inscriptions displayed at the Museum as a starting point to narrate and dramatise significant events in ancient Greek history: The Birth of Theatre The Decree of Themistocles The Plague in Athens Pre-booking required: Reserve your place by calling the Epigraphic Museum at +30 210 88 47 576 or +30 210 82 32 950 (ext: 203\, 205\, 209)\, Monday to Friday\, 08:00–14:00. Reservations open on 11 May at 12:00 (noon).
URL:https://cityfestival.thisisathens.org/en/event/the-stones-speak/
LOCATION:Epigraphic Museum\, Tositsa 1\, Athens\, Athens\, 106 82\, Greece
CATEGORIES:CINEMA,FREE,MUSEUM
ATTACH;FMTTYPE=image/jpeg:https://cityfestival.thisisathens.org/wp-content/uploads/2025/04/ΣΥΝΑΥΛΙΑ-17.5.25.jpg
END:VEVENT
BEGIN:VEVENT
DTSTART;TZID=Europe/Athens:20250522T193000
DTEND;TZID=Europe/Athens:20250522T230000
DTSTAMP:20260426T044052
CREATED:20250321T121438Z
LAST-MODIFIED:20250506T121144Z
UID:10000057-1747942200-1747954800@cityfestival.thisisathens.org
SUMMARY:Midnight Express: Purple Rain
DESCRIPTION:Midnight Express is the brainchild of film critic Akis Kapranos\, born from a deep nostalgia for the magical midnight screenings once held at historic cinemas like Alphaville and Cine Dexameni. His mission? To revive that shared passion for pure cinematic joy—so older generations can reminisce\, younger ones can discover\, and everyone can experience the thrill together.\n\nThis time\, Midnight Express steps out of the theatre and into the open air. In the garden of the Athens Observatory\, it screens Purple Rain—an iconic gem of 1980s pop culture.\n\nBooking required.
URL:https://cityfestival.thisisathens.org/en/event/midnight-express-purple-rain/
LOCATION:National Observatory of Athens\, Lofos Nymphon\, Athens\, Athens\, 118 10\, Greece
CATEGORIES:CINEMA,ENTERTAINMENT,FREE,OUTDOOR ACTIVITY
ATTACH;FMTTYPE=image/jpeg:https://cityfestival.thisisathens.org/wp-content/uploads/2025/03/MV5BMjI3OTYwMDMzOV5BMl5BanBnXkFtZTgwOTY1NDk2ODE@._V1_.jpg
END:VEVENT
BEGIN:VEVENT
DTSTART;TZID=Europe/Athens:20250524T113000
DTEND;TZID=Europe/Athens:20250524T140000
DTSTAMP:20260426T044052
CREATED:20250326T111747Z
LAST-MODIFIED:20250506T120443Z
UID:10001226-1748086200-1748095200@cityfestival.thisisathens.org
SUMMARY:Screening of Historical Documentaries
DESCRIPTION:This activity is only available in Greek.\n\nThe “Adamantios Korais” Hall at the War Museum will host screenings of five historical documentaries\, featuring rare archival footage that brings to life pivotal moments in 20th-century military history.\n\nFrom the Balkan Wars (1912–13) and the Battle of Gallipoli (1915) to the decisive victory at Skra (1918)\, the dramatic Battle of Crete (1941) and the Normandy Landings (1944)\, these films highlight the strategic importance and heroism of the forces involved through authentic\, rarely seen footage.\n\nScreenings include:\n– The Balkan Wars 1912–13: Filming History (52’)\n– The Battle of Gallipoli 1915: ANZAC (27’)\n– The Battle of Skra\, 1918 (22’)\n– The Battle of Crete\, May 1941 (25’)\n– The Normandy Landings\, June 1944 (5’)
URL:https://cityfestival.thisisathens.org/en/event/historical-documentary-screening-2/
LOCATION:War Museum\, Rizari 2-4\, Athens\, Athens\, 106 75\, Greece
CATEGORIES:CINEMA,FREE,MUSEUM
ATTACH;FMTTYPE=image/jpeg:https://cityfestival.thisisathens.org/wp-content/uploads/2025/03/ΑΙΘΡΙΟΣ-ΧΩΡΟΣ-scaled.jpg
END:VEVENT
BEGIN:VEVENT
DTSTART;TZID=Europe/Athens:20250526T200000
DTEND;TZID=Europe/Athens:20250526T230000
DTSTAMP:20260426T044052
CREATED:20250422T110033Z
LAST-MODIFIED:20250527T153337Z
UID:10003602-1748289600-1748300400@cityfestival.thisisathens.org
SUMMARY:Greek Cinema Nights
DESCRIPTION:The city’s summer cinema pops up at Eleftherias Park. Under the stars\, on the grass\, a colourful crowd gathers for four nights of open-air screenings—ready to be transported by the magic of the big screen and the very best of contemporary Greek cinema.\n\nMay 26: Buzzheart\nMay 27: The Summer with Carmen\nJune 1: Stella\nJune 1: Mythopathy
URL:https://cityfestival.thisisathens.org/en/event/greek-cinema-nights/
LOCATION:Eleftherias Park\, Eleftherias Park\, Athens\, Athens\, 115 21\, Greece
CATEGORIES:CINEMA,ENTERTAINMENT,FREE
ATTACH;FMTTYPE=image/jpeg:https://cityfestival.thisisathens.org/wp-content/uploads/2023/02/20220526-OSF-AthensCityFestival-CinemaNights-0030.jpg
END:VEVENT
BEGIN:VEVENT
DTSTART;TZID=Europe/Athens:20250526T200000
DTEND;TZID=Europe/Athens:20250526T233000
DTSTAMP:20260426T044052
CREATED:20250422T100006Z
LAST-MODIFIED:20250422T101006Z
UID:10003580-1748289600-1748302200@cityfestival.thisisathens.org
SUMMARY:Hispanic Film Festival at Aello
DESCRIPTION:The best of Spanish-language cinema takes over Athens for an entire week in May. Visionary directors\, acclaimed actors and celebrated screenwriters bring a breath of Spain\, Chile\, Argentina\, Cuba and other beloved Spanish-speaking countries to the big screen.
URL:https://cityfestival.thisisathens.org/en/event/hispanic-film-festival-at-aello/
LOCATION:Open Air Cinema “Aello”\, Patission 140\, Athens\, Athens\, 112 57\, Greece
CATEGORIES:CINEMA,ENTERTAINMENT
ATTACH;FMTTYPE=image/jpeg:https://cityfestival.thisisathens.org/wp-content/uploads/2025/04/20230531-OSF-AthensCityFestival-Ispanofono_Cinema-0002-scaled.jpg
END:VEVENT
BEGIN:VEVENT
DTSTART;TZID=Europe/Athens:20250526T200000
DTEND;TZID=Europe/Athens:20250526T233000
DTSTAMP:20260426T044052
CREATED:20250422T104405Z
LAST-MODIFIED:20250422T105014Z
UID:10003592-1748289600-1748302200@cityfestival.thisisathens.org
SUMMARY:Hispanic Film Festival at Ellinis
DESCRIPTION:A full week in May is dedicated to the highlights of Spanish-language cinema. Groundbreaking directors\, renowned actors and celebrated screenwriters bring to Athens the spirit of Spain\, Chile\, Argentina\, Cuba and other beloved Spanish-speaking countries—through stories that captivate\, move and inspire.
URL:https://cityfestival.thisisathens.org/en/event/hispanic-film-festival-at-ellinis/
LOCATION:Open Air Cinema “Ellinis”\, Leof. Kifissias 29\, Athens\, Athens\, 115 23\, Greece
CATEGORIES:CINEMA,ENTERTAINMENT
ATTACH;FMTTYPE=image/jpeg:https://cityfestival.thisisathens.org/wp-content/uploads/2025/03/20230531-OSF-AthensCityFestival-Ispanofono_Cinema-0006-scaled.jpg
END:VEVENT
BEGIN:VEVENT
DTSTART;TZID=Europe/Athens:20250527T200000
DTEND;TZID=Europe/Athens:20250527T230000
DTSTAMP:20260426T044052
CREATED:20250422T110132Z
LAST-MODIFIED:20250527T153316Z
UID:10003603-1748376000-1748386800@cityfestival.thisisathens.org
SUMMARY:Greek Cinema Nights
DESCRIPTION:The city’s summer cinema pops up at Eleftherias Park. Under the stars\, on the grass\, a colourful crowd gathers for four nights of open-air screenings—ready to be transported by the magic of the big screen and the very best of contemporary Greek cinema.\n\nMay 26: Buzzheart\nMay 27: The Summer with Carmen\nJune 1: Stella\nJune 1: Mythopathy
URL:https://cityfestival.thisisathens.org/en/event/greek-cinema-nights-2/
LOCATION:Eleftherias Park\, Eleftherias Park\, Athens\, Athens\, 115 21\, Greece
CATEGORIES:CINEMA,ENTERTAINMENT,FREE
ATTACH;FMTTYPE=image/jpeg:https://cityfestival.thisisathens.org/wp-content/uploads/2023/02/20220526-OSF-AthensCityFestival-CinemaNights-0030.jpg
END:VEVENT
BEGIN:VEVENT
DTSTART;TZID=Europe/Athens:20250527T200000
DTEND;TZID=Europe/Athens:20250527T233000
DTSTAMP:20260426T044052
CREATED:20250422T100330Z
LAST-MODIFIED:20250422T101238Z
UID:10003581-1748376000-1748388600@cityfestival.thisisathens.org
SUMMARY:Hispanic Film Festival at Aello
DESCRIPTION:The best of Spanish-language cinema takes over Athens for an entire week in May. Visionary directors\, acclaimed actors and celebrated screenwriters bring a breath of Spain\, Chile\, Argentina\, Cuba and other beloved Spanish-speaking countries to the big screen.
URL:https://cityfestival.thisisathens.org/en/event/hispanic-film-festival-at-aello-2/
LOCATION:Open Air Cinema “Aello”\, Patission 140\, Athens\, Athens\, 112 57\, Greece
CATEGORIES:CINEMA,ENTERTAINMENT
ATTACH;FMTTYPE=image/jpeg:https://cityfestival.thisisathens.org/wp-content/uploads/2025/04/20230531-OSF-AthensCityFestival-Ispanofono_Cinema-0002-scaled.jpg
END:VEVENT
BEGIN:VEVENT
DTSTART;TZID=Europe/Athens:20250527T200000
DTEND;TZID=Europe/Athens:20250527T233000
DTSTAMP:20260426T044052
CREATED:20250422T104459Z
LAST-MODIFIED:20250422T105100Z
UID:10003593-1748376000-1748388600@cityfestival.thisisathens.org
SUMMARY:Hispanic Film Festival at Ellinis
DESCRIPTION:A full week in May is dedicated to the highlights of Spanish-language cinema. Groundbreaking directors\, renowned actors and celebrated screenwriters bring to Athens the spirit of Spain\, Chile\, Argentina\, Cuba and other beloved Spanish-speaking countries—through stories that captivate\, move and inspire.
URL:https://cityfestival.thisisathens.org/en/event/hispanic-film-festival-at-ellinis-2/
LOCATION:Open Air Cinema “Ellinis”\, Leof. Kifissias 29\, Athens\, Athens\, 115 23\, Greece
CATEGORIES:CINEMA,ENTERTAINMENT
ATTACH;FMTTYPE=image/jpeg:https://cityfestival.thisisathens.org/wp-content/uploads/2025/03/20230531-OSF-AthensCityFestival-Ispanofono_Cinema-0006-scaled.jpg
END:VEVENT
BEGIN:VEVENT
DTSTART;TZID=Europe/Athens:20250528T200000
DTEND;TZID=Europe/Athens:20250528T233000
DTSTAMP:20260426T044052
CREATED:20250422T100610Z
LAST-MODIFIED:20250422T101426Z
UID:10003582-1748462400-1748475000@cityfestival.thisisathens.org
SUMMARY:Hispanic Film Festival at Aello
DESCRIPTION:The best of Spanish-language cinema takes over Athens for an entire week in May. Visionary directors\, acclaimed actors and celebrated screenwriters bring a breath of Spain\, Chile\, Argentina\, Cuba and other beloved Spanish-speaking countries to the big screen.
URL:https://cityfestival.thisisathens.org/en/event/hispanic-film-festival-at-aello-3/
LOCATION:Open Air Cinema “Aello”\, Patission 140\, Athens\, Athens\, 112 57\, Greece
CATEGORIES:CINEMA,ENTERTAINMENT
ATTACH;FMTTYPE=image/jpeg:https://cityfestival.thisisathens.org/wp-content/uploads/2025/04/20230531-OSF-AthensCityFestival-Ispanofono_Cinema-0002-scaled.jpg
END:VEVENT
BEGIN:VEVENT
DTSTART;TZID=Europe/Athens:20250528T200000
DTEND;TZID=Europe/Athens:20250528T233000
DTSTAMP:20260426T044052
CREATED:20250422T104549Z
LAST-MODIFIED:20250422T105146Z
UID:10003594-1748462400-1748475000@cityfestival.thisisathens.org
SUMMARY:Hispanic Film Festival at Ellinis
DESCRIPTION:A full week in May is dedicated to the highlights of Spanish-language cinema. Groundbreaking directors\, renowned actors and celebrated screenwriters bring to Athens the spirit of Spain\, Chile\, Argentina\, Cuba and other beloved Spanish-speaking countries—through stories that captivate\, move and inspire.
URL:https://cityfestival.thisisathens.org/en/event/hispanic-film-festival-at-ellinis-3/
LOCATION:Open Air Cinema “Ellinis”\, Leof. Kifissias 29\, Athens\, Athens\, 115 23\, Greece
CATEGORIES:CINEMA,ENTERTAINMENT
ATTACH;FMTTYPE=image/jpeg:https://cityfestival.thisisathens.org/wp-content/uploads/2025/03/20230531-OSF-AthensCityFestival-Ispanofono_Cinema-0006-scaled.jpg
END:VEVENT
BEGIN:VEVENT
DTSTART;TZID=Europe/Athens:20250529T200000
DTEND;TZID=Europe/Athens:20250529T233000
DTSTAMP:20260426T044052
CREATED:20250422T100732Z
LAST-MODIFIED:20250522T145438Z
UID:10003583-1748548800-1748561400@cityfestival.thisisathens.org
SUMMARY:Hispanic Film Festival at Aello
DESCRIPTION:The best of Spanish-language cinema takes over Athens for an entire week in May. Visionary directors\, acclaimed actors and celebrated screenwriters bring a breath of Spain\, Chile\, Argentina\, Cuba and other beloved Spanish-speaking countries to the big screen.
URL:https://cityfestival.thisisathens.org/en/event/hispanic-film-festival-at-aello-4/
LOCATION:Open Air Cinema “Aello”\, Patission 140\, Athens\, Athens\, 112 57\, Greece
CATEGORIES:CINEMA,ENTERTAINMENT
ATTACH;FMTTYPE=image/jpeg:https://cityfestival.thisisathens.org/wp-content/uploads/2025/04/20230531-OSF-AthensCityFestival-Ispanofono_Cinema-0002-scaled.jpg
END:VEVENT
BEGIN:VEVENT
DTSTART;TZID=Europe/Athens:20250529T200000
DTEND;TZID=Europe/Athens:20250529T233000
DTSTAMP:20260426T044052
CREATED:20250422T104632Z
LAST-MODIFIED:20250522T144957Z
UID:10003595-1748548800-1748561400@cityfestival.thisisathens.org
SUMMARY:Hispanic Film Festival at Ellinis
DESCRIPTION:A full week in May is dedicated to the highlights of Spanish-language cinema. Groundbreaking directors\, renowned actors and celebrated screenwriters bring to Athens the spirit of Spain\, Chile\, Argentina\, Cuba and other beloved Spanish-speaking countries—through stories that captivate\, move and inspire.
URL:https://cityfestival.thisisathens.org/en/event/hispanic-film-festival-at-ellinis-4/
LOCATION:Open Air Cinema “Ellinis”\, Leof. Kifissias 29\, Athens\, Athens\, 115 23\, Greece
CATEGORIES:CINEMA,ENTERTAINMENT
ATTACH;FMTTYPE=image/jpeg:https://cityfestival.thisisathens.org/wp-content/uploads/2025/03/20230531-OSF-AthensCityFestival-Ispanofono_Cinema-0006-scaled.jpg
END:VEVENT
BEGIN:VEVENT
DTSTART;TZID=Europe/Athens:20250530T200000
DTEND;TZID=Europe/Athens:20250530T233000
DTSTAMP:20260426T044052
CREATED:20250422T100808Z
LAST-MODIFIED:20250522T145429Z
UID:10003584-1748635200-1748647800@cityfestival.thisisathens.org
SUMMARY:Hispanic Film Festival at Aello
DESCRIPTION:The best of Spanish-language cinema takes over Athens for an entire week in May. Visionary directors\, acclaimed actors and celebrated screenwriters bring a breath of Spain\, Chile\, Argentina\, Cuba and other beloved Spanish-speaking countries to the big screen.
URL:https://cityfestival.thisisathens.org/en/event/hispanic-film-festival-at-aello-5/
LOCATION:Open Air Cinema “Aello”\, Patission 140\, Athens\, Athens\, 112 57\, Greece
CATEGORIES:CINEMA,ENTERTAINMENT
ATTACH;FMTTYPE=image/jpeg:https://cityfestival.thisisathens.org/wp-content/uploads/2025/04/20230531-OSF-AthensCityFestival-Ispanofono_Cinema-0002-scaled.jpg
END:VEVENT
BEGIN:VEVENT
DTSTART;TZID=Europe/Athens:20250530T200000
DTEND;TZID=Europe/Athens:20250530T233000
DTSTAMP:20260426T044052
CREATED:20250422T104705Z
LAST-MODIFIED:20250522T144939Z
UID:10003596-1748635200-1748647800@cityfestival.thisisathens.org
SUMMARY:Hispanic Film Festival at Ellinis
DESCRIPTION:A full week in May is dedicated to the highlights of Spanish-language cinema. Groundbreaking directors\, renowned actors and celebrated screenwriters bring to Athens the spirit of Spain\, Chile\, Argentina\, Cuba and other beloved Spanish-speaking countries—through stories that captivate\, move and inspire.\n\n 
URL:https://cityfestival.thisisathens.org/en/event/hispanic-film-festival-at-ellinis-5/
LOCATION:Open Air Cinema “Ellinis”\, Leof. Kifissias 29\, Athens\, Athens\, 115 23\, Greece
CATEGORIES:CINEMA,ENTERTAINMENT
ATTACH;FMTTYPE=image/jpeg:https://cityfestival.thisisathens.org/wp-content/uploads/2025/03/20230531-OSF-AthensCityFestival-Ispanofono_Cinema-0006-scaled.jpg
END:VEVENT
BEGIN:VEVENT
DTSTART;TZID=Europe/Athens:20250531T200000
DTEND;TZID=Europe/Athens:20250531T233000
DTSTAMP:20260426T044052
CREATED:20250422T100847Z
LAST-MODIFIED:20250522T145422Z
UID:10003585-1748721600-1748734200@cityfestival.thisisathens.org
SUMMARY:Hispanic Film Festival at Aello
DESCRIPTION:The best of Spanish-language cinema takes over Athens for an entire week in May. Visionary directors\, acclaimed actors and celebrated screenwriters bring a breath of Spain\, Chile\, Argentina\, Cuba and other beloved Spanish-speaking countries to the big screen.
URL:https://cityfestival.thisisathens.org/en/event/hispanic-film-festival-at-aello-6/
LOCATION:Open Air Cinema “Aello”\, Patission 140\, Athens\, Athens\, 112 57\, Greece
CATEGORIES:CINEMA,ENTERTAINMENT
ATTACH;FMTTYPE=image/jpeg:https://cityfestival.thisisathens.org/wp-content/uploads/2025/04/20230531-OSF-AthensCityFestival-Ispanofono_Cinema-0002-scaled.jpg
END:VEVENT
BEGIN:VEVENT
DTSTART;TZID=Europe/Athens:20250531T200000
DTEND;TZID=Europe/Athens:20250531T233000
DTSTAMP:20260426T044052
CREATED:20250422T104738Z
LAST-MODIFIED:20250522T144927Z
UID:10003597-1748721600-1748734200@cityfestival.thisisathens.org
SUMMARY:Hispanic Film Festival at Ellinis
DESCRIPTION:A full week in May is dedicated to the highlights of Spanish-language cinema. Groundbreaking directors\, renowned actors and celebrated screenwriters bring to Athens the spirit of Spain\, Chile\, Argentina\, Cuba and other beloved Spanish-speaking countries—through stories that captivate\, move and inspire.
URL:https://cityfestival.thisisathens.org/en/event/hispanic-film-festival-at-ellinis-6/
LOCATION:Open Air Cinema “Ellinis”\, Leof. Kifissias 29\, Athens\, Athens\, 115 23\, Greece
CATEGORIES:CINEMA,ENTERTAINMENT
ATTACH;FMTTYPE=image/jpeg:https://cityfestival.thisisathens.org/wp-content/uploads/2025/03/20230531-OSF-AthensCityFestival-Ispanofono_Cinema-0006-scaled.jpg
END:VEVENT
END:VCALENDAR