BEGIN:VCALENDAR
VERSION:2.0
PRODID:-//This is Athens City Festival - ECPv6.12.0.1//NONSGML v1.0//EN
CALSCALE:GREGORIAN
METHOD:PUBLISH
X-WR-CALNAME:This is Athens City Festival
X-ORIGINAL-URL:https://cityfestival.thisisathens.org/en/
X-WR-CALDESC:Events for This is Athens City Festival
REFRESH-INTERVAL;VALUE=DURATION:PT1H
X-Robots-Tag:noindex
X-PUBLISHED-TTL:PT1H
BEGIN:VTIMEZONE
TZID:Europe/Athens
BEGIN:DAYLIGHT
TZOFFSETFROM:+0200
TZOFFSETTO:+0300
TZNAME:EEST
DTSTART:20260329T010000
END:DAYLIGHT
BEGIN:STANDARD
TZOFFSETFROM:+0300
TZOFFSETTO:+0200
TZNAME:EET
DTSTART:20261025T010000
END:STANDARD
END:VTIMEZONE
BEGIN:VEVENT
DTSTART;TZID=Europe/Athens:20260524T180000
DTEND;TZID=Europe/Athens:20260524T220000
DTSTAMP:20260422T044633
CREATED:20260331T131033Z
LAST-MODIFIED:20260408T074720Z
UID:10004374-1779645600-1779660000@cityfestival.thisisathens.org
SUMMARY:NO MOTTO
DESCRIPTION:As part of the This is Athens City Festival 2026\, contemporary art finds its voice in “NO MOTTO”\, featuring the work of Markos Ntemkas and curated by Dr. Eva Kekou. This presentation of conceptual works invites the public on an aesthetic and philosophical journey exploring the boundaries of imagery\, meaning\, and artistic identity. Eschewing easy definitions or predetermined conclusions\, the exhibition carves out a space for observation and personal interpretation.\n\nThe central axis here is self-reflexivity: the way in which art can turn inward to examine its own nature\, function\, and presence. In “NO MOTTO”\, form and content exist in a constant dialogue\, creating a field of contemplation that offers no ready-made answers\, but instead proposes a more substantial way of seeing. This is an exhibition for those who appreciate a contemporary visual language that challenges\, questions\, and leaves room for a second thought.\nOpening: Sunday\, May 24\, 18:00–22:00 \nOpening hours: Monday–Friday: 18:00–21:00; Saturday: 12:30–15:00. Closed on Sunday.
URL:https://cityfestival.thisisathens.org/en/event/no-motto/2026-05-24/
LOCATION:Mosaico Fine Art Studio\, Kesarias 18-20\, Athens\, Athens\, 115 27\, Greece
CATEGORIES:EXHIBITION,FREE,GALLERY
ATTACH;FMTTYPE=image/jpeg:https://cityfestival.thisisathens.org/wp-content/uploads/2026/03/no-moto-scaled.jpg
END:VEVENT
BEGIN:VEVENT
DTSTART;TZID=Europe/Athens:20260525T180000
DTEND;TZID=Europe/Athens:20260525T210000
DTSTAMP:20260422T044633
CREATED:20260331T131033Z
LAST-MODIFIED:20260408T074720Z
UID:10004375-1779732000-1779742800@cityfestival.thisisathens.org
SUMMARY:NO MOTTO
DESCRIPTION:As part of the This is Athens City Festival 2026\, contemporary art finds its voice in “NO MOTTO”\, featuring the work of Markos Ntemkas and curated by Dr. Eva Kekou. This presentation of conceptual works invites the public on an aesthetic and philosophical journey exploring the boundaries of imagery\, meaning\, and artistic identity. Eschewing easy definitions or predetermined conclusions\, the exhibition carves out a space for observation and personal interpretation.\n\nThe central axis here is self-reflexivity: the way in which art can turn inward to examine its own nature\, function\, and presence. In “NO MOTTO”\, form and content exist in a constant dialogue\, creating a field of contemplation that offers no ready-made answers\, but instead proposes a more substantial way of seeing. This is an exhibition for those who appreciate a contemporary visual language that challenges\, questions\, and leaves room for a second thought.\nOpening: Sunday\, May 24\, 18:00–22:00 \nOpening hours: Monday–Friday: 18:00–21:00; Saturday: 12:30–15:00. Closed on Sunday.
URL:https://cityfestival.thisisathens.org/en/event/no-motto/2026-05-25/
LOCATION:Mosaico Fine Art Studio\, Kesarias 18-20\, Athens\, Athens\, 115 27\, Greece
CATEGORIES:EXHIBITION,FREE,GALLERY
ATTACH;FMTTYPE=image/jpeg:https://cityfestival.thisisathens.org/wp-content/uploads/2026/03/no-moto-scaled.jpg
END:VEVENT
BEGIN:VEVENT
DTSTART;TZID=Europe/Athens:20260526T180000
DTEND;TZID=Europe/Athens:20260526T210000
DTSTAMP:20260422T044633
CREATED:20260331T131033Z
LAST-MODIFIED:20260408T074720Z
UID:10004376-1779818400-1779829200@cityfestival.thisisathens.org
SUMMARY:NO MOTTO
DESCRIPTION:As part of the This is Athens City Festival 2026\, contemporary art finds its voice in “NO MOTTO”\, featuring the work of Markos Ntemkas and curated by Dr. Eva Kekou. This presentation of conceptual works invites the public on an aesthetic and philosophical journey exploring the boundaries of imagery\, meaning\, and artistic identity. Eschewing easy definitions or predetermined conclusions\, the exhibition carves out a space for observation and personal interpretation.\n\nThe central axis here is self-reflexivity: the way in which art can turn inward to examine its own nature\, function\, and presence. In “NO MOTTO”\, form and content exist in a constant dialogue\, creating a field of contemplation that offers no ready-made answers\, but instead proposes a more substantial way of seeing. This is an exhibition for those who appreciate a contemporary visual language that challenges\, questions\, and leaves room for a second thought.\nOpening: Sunday\, May 24\, 18:00–22:00 \nOpening hours: Monday–Friday: 18:00–21:00; Saturday: 12:30–15:00. Closed on Sunday.
URL:https://cityfestival.thisisathens.org/en/event/no-motto/2026-05-26/
LOCATION:Mosaico Fine Art Studio\, Kesarias 18-20\, Athens\, Athens\, 115 27\, Greece
CATEGORIES:EXHIBITION,FREE,GALLERY
ATTACH;FMTTYPE=image/jpeg:https://cityfestival.thisisathens.org/wp-content/uploads/2026/03/no-moto-scaled.jpg
END:VEVENT
BEGIN:VEVENT
DTSTART;TZID=Europe/Athens:20260527T180000
DTEND;TZID=Europe/Athens:20260527T210000
DTSTAMP:20260422T044633
CREATED:20260331T131033Z
LAST-MODIFIED:20260408T074720Z
UID:10004377-1779904800-1779915600@cityfestival.thisisathens.org
SUMMARY:NO MOTTO
DESCRIPTION:As part of the This is Athens City Festival 2026\, contemporary art finds its voice in “NO MOTTO”\, featuring the work of Markos Ntemkas and curated by Dr. Eva Kekou. This presentation of conceptual works invites the public on an aesthetic and philosophical journey exploring the boundaries of imagery\, meaning\, and artistic identity. Eschewing easy definitions or predetermined conclusions\, the exhibition carves out a space for observation and personal interpretation.\n\nThe central axis here is self-reflexivity: the way in which art can turn inward to examine its own nature\, function\, and presence. In “NO MOTTO”\, form and content exist in a constant dialogue\, creating a field of contemplation that offers no ready-made answers\, but instead proposes a more substantial way of seeing. This is an exhibition for those who appreciate a contemporary visual language that challenges\, questions\, and leaves room for a second thought.\nOpening: Sunday\, May 24\, 18:00–22:00 \nOpening hours: Monday–Friday: 18:00–21:00; Saturday: 12:30–15:00. Closed on Sunday.
URL:https://cityfestival.thisisathens.org/en/event/no-motto/2026-05-27/
LOCATION:Mosaico Fine Art Studio\, Kesarias 18-20\, Athens\, Athens\, 115 27\, Greece
CATEGORIES:EXHIBITION,FREE,GALLERY
ATTACH;FMTTYPE=image/jpeg:https://cityfestival.thisisathens.org/wp-content/uploads/2026/03/no-moto-scaled.jpg
END:VEVENT
BEGIN:VEVENT
DTSTART;TZID=Europe/Athens:20260528T180000
DTEND;TZID=Europe/Athens:20260528T210000
DTSTAMP:20260422T044633
CREATED:20260331T131033Z
LAST-MODIFIED:20260408T074720Z
UID:10004378-1779991200-1780002000@cityfestival.thisisathens.org
SUMMARY:NO MOTTO
DESCRIPTION:As part of the This is Athens City Festival 2026\, contemporary art finds its voice in “NO MOTTO”\, featuring the work of Markos Ntemkas and curated by Dr. Eva Kekou. This presentation of conceptual works invites the public on an aesthetic and philosophical journey exploring the boundaries of imagery\, meaning\, and artistic identity. Eschewing easy definitions or predetermined conclusions\, the exhibition carves out a space for observation and personal interpretation.\n\nThe central axis here is self-reflexivity: the way in which art can turn inward to examine its own nature\, function\, and presence. In “NO MOTTO”\, form and content exist in a constant dialogue\, creating a field of contemplation that offers no ready-made answers\, but instead proposes a more substantial way of seeing. This is an exhibition for those who appreciate a contemporary visual language that challenges\, questions\, and leaves room for a second thought.\nOpening: Sunday\, May 24\, 18:00–22:00 \nOpening hours: Monday–Friday: 18:00–21:00; Saturday: 12:30–15:00. Closed on Sunday.
URL:https://cityfestival.thisisathens.org/en/event/no-motto/2026-05-28/
LOCATION:Mosaico Fine Art Studio\, Kesarias 18-20\, Athens\, Athens\, 115 27\, Greece
CATEGORIES:EXHIBITION,FREE,GALLERY
ATTACH;FMTTYPE=image/jpeg:https://cityfestival.thisisathens.org/wp-content/uploads/2026/03/no-moto-scaled.jpg
END:VEVENT
BEGIN:VEVENT
DTSTART;TZID=Europe/Athens:20260529T180000
DTEND;TZID=Europe/Athens:20260529T210000
DTSTAMP:20260422T044633
CREATED:20260331T131033Z
LAST-MODIFIED:20260408T074720Z
UID:10004379-1780077600-1780088400@cityfestival.thisisathens.org
SUMMARY:NO MOTTO
DESCRIPTION:As part of the This is Athens City Festival 2026\, contemporary art finds its voice in “NO MOTTO”\, featuring the work of Markos Ntemkas and curated by Dr. Eva Kekou. This presentation of conceptual works invites the public on an aesthetic and philosophical journey exploring the boundaries of imagery\, meaning\, and artistic identity. Eschewing easy definitions or predetermined conclusions\, the exhibition carves out a space for observation and personal interpretation.\n\nThe central axis here is self-reflexivity: the way in which art can turn inward to examine its own nature\, function\, and presence. In “NO MOTTO”\, form and content exist in a constant dialogue\, creating a field of contemplation that offers no ready-made answers\, but instead proposes a more substantial way of seeing. This is an exhibition for those who appreciate a contemporary visual language that challenges\, questions\, and leaves room for a second thought.\nOpening: Sunday\, May 24\, 18:00–22:00 \nOpening hours: Monday–Friday: 18:00–21:00; Saturday: 12:30–15:00. Closed on Sunday.
URL:https://cityfestival.thisisathens.org/en/event/no-motto/2026-05-29/
LOCATION:Mosaico Fine Art Studio\, Kesarias 18-20\, Athens\, Athens\, 115 27\, Greece
CATEGORIES:EXHIBITION,FREE,GALLERY
ATTACH;FMTTYPE=image/jpeg:https://cityfestival.thisisathens.org/wp-content/uploads/2026/03/no-moto-scaled.jpg
END:VEVENT
BEGIN:VEVENT
DTSTART;TZID=Europe/Athens:20260530T123000
DTEND;TZID=Europe/Athens:20260530T150000
DTSTAMP:20260422T044633
CREATED:20260331T131033Z
LAST-MODIFIED:20260408T074720Z
UID:10004380-1780144200-1780153200@cityfestival.thisisathens.org
SUMMARY:NO MOTTO
DESCRIPTION:As part of the This is Athens City Festival 2026\, contemporary art finds its voice in “NO MOTTO”\, featuring the work of Markos Ntemkas and curated by Dr. Eva Kekou. This presentation of conceptual works invites the public on an aesthetic and philosophical journey exploring the boundaries of imagery\, meaning\, and artistic identity. Eschewing easy definitions or predetermined conclusions\, the exhibition carves out a space for observation and personal interpretation.\n\nThe central axis here is self-reflexivity: the way in which art can turn inward to examine its own nature\, function\, and presence. In “NO MOTTO”\, form and content exist in a constant dialogue\, creating a field of contemplation that offers no ready-made answers\, but instead proposes a more substantial way of seeing. This is an exhibition for those who appreciate a contemporary visual language that challenges\, questions\, and leaves room for a second thought.\nOpening: Sunday\, May 24\, 18:00–22:00 \nOpening hours: Monday–Friday: 18:00–21:00; Saturday: 12:30–15:00. Closed on Sunday.
URL:https://cityfestival.thisisathens.org/en/event/no-motto/2026-05-30/
LOCATION:Mosaico Fine Art Studio\, Kesarias 18-20\, Athens\, Athens\, 115 27\, Greece
CATEGORIES:EXHIBITION,FREE,GALLERY
ATTACH;FMTTYPE=image/jpeg:https://cityfestival.thisisathens.org/wp-content/uploads/2026/03/no-moto-scaled.jpg
END:VEVENT
END:VCALENDAR