BEGIN:VCALENDAR
VERSION:2.0
PRODID:-//This is Athens City Festival - ECPv6.12.0.1//NONSGML v1.0//EN
CALSCALE:GREGORIAN
METHOD:PUBLISH
X-WR-CALNAME:This is Athens City Festival
X-ORIGINAL-URL:https://cityfestival.thisisathens.org/en/
X-WR-CALDESC:Events for This is Athens City Festival
REFRESH-INTERVAL;VALUE=DURATION:PT1H
X-Robots-Tag:noindex
X-PUBLISHED-TTL:PT1H
BEGIN:VTIMEZONE
TZID:Europe/Athens
BEGIN:DAYLIGHT
TZOFFSETFROM:+0200
TZOFFSETTO:+0300
TZNAME:EEST
DTSTART:20250330T010000
END:DAYLIGHT
BEGIN:STANDARD
TZOFFSETFROM:+0300
TZOFFSETTO:+0200
TZNAME:EET
DTSTART:20251026T010000
END:STANDARD
END:VTIMEZONE
BEGIN:VEVENT
DTSTART;TZID=Europe/Athens:20250516T183000
DTEND;TZID=Europe/Athens:20250516T200000
DTSTAMP:20260419T215630
CREATED:20250328T131826Z
LAST-MODIFIED:20250414T122424Z
UID:10003351-1747420200-1747425600@cityfestival.thisisathens.org
SUMMARY:The History of the Katakouzenos House Through Time and the Role of a House-Museum in Our Era
DESCRIPTION:This event will only be available in Greek.\n\nA lecture on the literary salon of the Katakouzenos family in the 1960s\, focusing on the history\, work\, and contributions of the Katakouzenos couple\, and how it transformed into a house-museum from 2008 to the present. The lecture will also explore what a house-museum can offer in an era of constant change.\n\nSpeaker: Sophia E. Peloponisiou-Vassilakou\, Museologist\, Curator of the Katakouzenos House
URL:https://cityfestival.thisisathens.org/en/event/history-of-katakouzenos-house-through-time-role-of-house-museum/
LOCATION:The Katakouzenos House\, Vasilisis Amalias 4\, Athens\, Athens\, 105 57\, Greece
CATEGORIES:FREE,MUSEUM
ATTACH;FMTTYPE=image/jpeg:https://cityfestival.thisisathens.org/wp-content/uploads/2025/03/OWN-Museums-KatakouzenosMuseum1.jpg
END:VEVENT
BEGIN:VEVENT
DTSTART;TZID=Europe/Athens:20250515T183000
DTEND;TZID=Europe/Athens:20250515T200000
DTSTAMP:20260419T215630
CREATED:20250509T205831Z
LAST-MODIFIED:20250509T210121Z
UID:10003940-1747333800-1747339200@cityfestival.thisisathens.org
SUMMARY:The History of the Katakouzenos House Through Time and the Role of a House-Museum in Our Era
DESCRIPTION:This event will only be available in Greek. A lecture on the literary salon of the Katakouzenos family in the 1960s\, focusing on the history\, work\, and contributions of the Katakouzenos couple\, and how it transformed into a house-museum from 2008 to the present. The lecture will also explore what a house-museum can offer in an era of constant change. Speaker: Sophia E. Peloponisiou-Vassilakou\, Museologist\, Curator of the Katakouzenos House
URL:https://cityfestival.thisisathens.org/en/event/the-history-of-the-katakouzenos-house-through-time-and-the-role-of-a-house-museum-in-our-era/
LOCATION:The Katakouzenos House\, Vasilisis Amalias 4\, Athens\, Athens\, 105 57\, Greece
CATEGORIES:FREE,MUSEUM
ATTACH;FMTTYPE=image/jpeg:https://cityfestival.thisisathens.org/wp-content/uploads/2025/05/Salon-1.jpg
END:VEVENT
END:VCALENDAR