BEGIN:VCALENDAR
VERSION:2.0
PRODID:-//Το Φεστιβάλ του Δήμου Αθηναίων - ECPv6.12.0.1//NONSGML v1.0//EN
CALSCALE:GREGORIAN
METHOD:PUBLISH
X-WR-CALNAME:Το Φεστιβάλ του Δήμου Αθηναίων
X-ORIGINAL-URL:https://cityfestival.thisisathens.org
X-WR-CALDESC:Events for Το Φεστιβάλ του Δήμου Αθηναίων
REFRESH-INTERVAL;VALUE=DURATION:PT1H
X-Robots-Tag:noindex
X-PUBLISHED-TTL:PT1H
BEGIN:VTIMEZONE
TZID:Europe/Athens
BEGIN:DAYLIGHT
TZOFFSETFROM:+0200
TZOFFSETTO:+0300
TZNAME:EEST
DTSTART:20250330T010000
END:DAYLIGHT
BEGIN:STANDARD
TZOFFSETFROM:+0300
TZOFFSETTO:+0200
TZNAME:EET
DTSTART:20251026T010000
END:STANDARD
END:VTIMEZONE
BEGIN:VEVENT
DTSTART;TZID=Europe/Athens:20250503T110000
DTEND;TZID=Europe/Athens:20250503T123000
DTSTAMP:20260421T130652
CREATED:20250326T120053Z
LAST-MODIFIED:20250408T084405Z
UID:10001228-1746270000-1746275400@cityfestival.thisisathens.org
SUMMARY:Οι Ζωγραφιές των Λουλουδιών
DESCRIPTION:Ελάτε να γιορτάσουμε τον μήνα των λουλουδιών με βιώσιμες δραστηριότητες τέχνης!\n\nΕμπνεόμαστε από τα ανεξερεύνητα δάση στα έργα του Βασίλη Θεοχαράκη και ανακαλύπτουμε τη φύση του Εθνικού Κήπου. Πάνω σε φύλλα χαρτιού αποτυπώνουμε τα άπειρα σχήματα των φλοιών των δέντρων και εξερευνούμε τα μοναδικά μοτίβα της φύσης γύρω μας.\n\nΤο ήξερες ότι η φύση μπορεί να ζωγραφίσει; Δημιουργούμε χρώματα από φυσικά υλικά και χρωματίζουμε τις δικές μας συνθέσεις. Μια συναρπαστική δραστηριότητα που διεγείρει τις αισθήσεις μας\, αναπτύσσοντας μια διαφορετική ματιά για ό\,τι μας περιβάλλει.\n\nΗ δράση απευθύνεται σε παιδιά ηλικίας 4-7 ετών.\n\nΑπαιτείται η κράτηση θέσης μία εβδομάδα πριν την ημερομηνία υλοποίησης της δράσης.
URL:https://cityfestival.thisisathens.org/event/zografies-louloudion/
LOCATION:Ίδρυμα Θεοχαράκη\, Βασ. Σοφίας 9 & Μέρλιν 1\, Αθήνα\, Athens\, 106 71\, Greece
CATEGORIES:ΔΩΡΕΑΝ,ΜΟΥΣΕΙΟ,ΠΑΙΔΙ
ATTACH;FMTTYPE=image/jpeg:https://cityfestival.thisisathens.org/wp-content/uploads/2025/03/ta_xromata_ton_louloudion_02-scaled.jpeg
END:VEVENT
BEGIN:VEVENT
DTSTART;TZID=Europe/Athens:20250503T110000
DTEND;TZID=Europe/Athens:20250503T130000
DTSTAMP:20260421T130652
CREATED:20250326T105818Z
LAST-MODIFIED:20250425T120527Z
UID:10001221-1746270000-1746277200@cityfestival.thisisathens.org
SUMMARY:Παραμύθια στην Αυλή του Μουσείου: Ηλέκτρα Νέγκα - Αλέξανδρος Κοντογεωργακόπουλος
DESCRIPTION:Σσσ…παραμύθι θα αρχινήσει.\nΈξω από το παράθυρο του παιδικού μου δωματίου\, στην πίσω αυλή του σπιτιού που μεγάλωσα\, ο παππούς μου είχε ανοίξει ένα τεράστιο πηγάδι. Δεν ήταν σκεπασμένο\, παρά μονάχα προσεκτικά περιφραγμένο με συρματόπλεγμα από τον πατέρα μου\, «μη και πέσει μέσα κανένα παιδί»\, όπως έλεγε. Εγώ το πηγάδι δεν το πλησίαζα ποτέ\, σκιαζόμουν. Όχι\, «μη και πέσω μέσα» αλλά γιατί ήξερα πως στον πάτο του πηγαδιού φώλιαζε ένα μεγάλο νερόφιδο με χρυσό στέμμα στο κεφάλι. Το άκουγα τις νύχτες που τραγουδούσε μαζί με τα βατράχια…\n\nΕίμαι η Ηλέκτρα Νέγκα\, αφηγήτρια παραμυθιών της προφορικής παράδοσης των λαών του κόσμου. Ελάτε να πούμε παραμύθια για μικρούς και μεγάλους ήρωες\, που με πίστη στον εαυτό τους και αγάπη στην καρδιά κατάφεραν αυτά που σε όλους φάνταζαν αδύνατα.\n\nΟ Αλέξανδρος Κοντογεωργακόπουλος είναι ακαδημαϊκός και καλλιτέχνης\, του οποίου η διεπιστημονική δουλειά γεφυρώνει την τέχνη\, την επιστήμη και την τεχνολογία. Είναι Επίκουρος Καθηγητής Διαδραστικών Τεχνών στο Τμήμα Ψηφιακών Τεχνών και Κινηματογράφου του Εθνικού και Καποδιστριακού Πανεπιστημίου Αθηνών.\n\nΑφήγηση: Ηλέκτρα Νέγκα\nΜουσική: Αλέξανδρος Κοντογεωργακόπουλος\n\nΑπαιτείται η κράτηση θέσης.
URL:https://cityfestival.thisisathens.org/event/paramithia-mouseio-nega/
LOCATION:Μουσείο Ελληνικών Λαϊκών Μουσικών Οργάνων “Φοίβος Ανωγειανάκης” – Κέντρο Εθνομουσικολογίας\, Διογένους 1\, Αθήνα\, Αθήνα\, 105 56\, Greece
CATEGORIES:ΔΩΡΕΑΝ,ΠΑΙΔΙ,ΥΠΑΙΘΡΙΑ ΔΡΑΣΗ,ΨΥΧΑΓΩΓΙΑ
ATTACH;FMTTYPE=image/jpeg:https://cityfestival.thisisathens.org/wp-content/uploads/2025/03/20240525-TiACF-GMK-TaxiarchisMpeligiannisMouseio-0004-scaled.jpg
END:VEVENT
BEGIN:VEVENT
DTSTART;TZID=Europe/Athens:20250503T110000
DTEND;TZID=Europe/Athens:20250503T130000
DTSTAMP:20260421T130652
CREATED:20250422T122739Z
LAST-MODIFIED:20250506T134114Z
UID:10003608-1746270000-1746277200@cityfestival.thisisathens.org
SUMMARY:Οτιδήποτε Άλλο Εκτός Από Μάρμαρο
DESCRIPTION:Για σχεδόν 60 χρόνια\, η Βρετανίδα καλλιτέχνις\, Phyllida Barlow\, δημιουργούσε επιβλητικές εγκαταστάσεις\, που χαρακτηρίζονταν ως «απειλητικές» αλλά και «παιχνιδιάρικες». Δημιούργησε γλυπτά μεγάλης κλίμακας\, φτιαγμένα από φθηνά και ευτελή υλικά όπως χαρτόνι\, ύφασμα\, κόντρα πλακέ\, γάζα\, και γύψο. Όπως δηλώνει η ίδια\, «στο παρελθόν\, η γλυπτική ενείχε ιστορικές αφηγήσεις. Κυριαρχούσε το μάρμαρο και εξυμνούσε τα άτομα».\n\nΈνα από τα άτομα που εξυμνούσε η παραδοσιακή γλυπτική ήταν ο Δαρβίνος\, ο οποίος ήταν μακρινός της πρόγονος\, κάτι που απέκρυπτε με ιδιαίτερη προσοχή\, ώστε να μην θεωρηθεί «ευνοημένη» λόγω της καταγωγής της.\n\nΑπορρίπτοντας την παραδοσιακή γλυπτική\, αποκήρυττε\, μέσα από το έργο της\, το ίδιο της το παρελθόν\, βρίσκοντας τη δική της μοναδική καλλιτεχνική ταυτότητα.\n\nΑντλώντας έμπνευση από την πρακτική της\, θα δουλέψουμε με ευτελή υλικά και θα φτιάξουμε μικρής κλίμακας κρεμαστά γλυπτά.\n\nΥπεύθυνες εργαστηρίου: Βίβιαν Εμμανουηλίδου\, Εικαστικός-Μουσειοπαιδαγωγός & Μάγδα Αθανασίου\, Παιδαγωγός-Μουσειοπαιδαγωγός\n\nΤο εργαστήριο απευθύνεται σε παιδιά ηλικίας 7-11 ετών.\n\nΑπαιτείται η κράτηση θέσης.
URL:https://cityfestival.thisisathens.org/event/otidipote-allo-ektos-apo-marmaro/
LOCATION:Μουσείο Κυκλαδικής Τέχνης\, Νεοφύτου Δούκα 4\, Αθήνα\, Αθήνα\, 106 74\, Greece
CATEGORIES:ΔΩΡΕΑΝ,ΕΚΘΕΣΗ,ΜΟΥΣΕΙΟ,ΠΑΙΔΙ,ΨΥΧΑΓΩΓΙΑ
ATTACH;FMTTYPE=image/jpeg:https://cityfestival.thisisathens.org/wp-content/uploads/2025/04/Photo1-scaled.jpg
END:VEVENT
END:VCALENDAR