BEGIN:VCALENDAR
VERSION:2.0
PRODID:-//Το Φεστιβάλ του Δήμου Αθηναίων - ECPv6.12.0.1//NONSGML v1.0//EN
CALSCALE:GREGORIAN
METHOD:PUBLISH
X-ORIGINAL-URL:https://cityfestival.thisisathens.org
X-WR-CALDESC:Events for Το Φεστιβάλ του Δήμου Αθηναίων
REFRESH-INTERVAL;VALUE=DURATION:PT1H
X-Robots-Tag:noindex
X-PUBLISHED-TTL:PT1H
BEGIN:VTIMEZONE
TZID:Europe/Athens
BEGIN:DAYLIGHT
TZOFFSETFROM:+0200
TZOFFSETTO:+0300
TZNAME:EEST
DTSTART:20250330T010000
END:DAYLIGHT
BEGIN:STANDARD
TZOFFSETFROM:+0300
TZOFFSETTO:+0200
TZNAME:EET
DTSTART:20251026T010000
END:STANDARD
END:VTIMEZONE
BEGIN:VEVENT
DTSTART;TZID=Europe/Athens:20250505T170000
DTEND;TZID=Europe/Athens:20250505T190000
DTSTAMP:20260421T161540
CREATED:20250418T045613Z
LAST-MODIFIED:20250506T133238Z
UID:10003527-1746464400-1746471600@cityfestival.thisisathens.org
SUMMARY:Ινουκσούκ: Φως του Βορρά στην Καρδιά της Αθήνας
DESCRIPTION:Η Πρεσβεία του Καναδά σας προσκαλεί σε μια ξεχωριστή γιορτή στο Άλσος Ιλισίων\, στο πλαίσιο του Φεστιβάλ του Δήμου Αθηναίων!\nΓιορτάζουμε μαζί τον ένα χρόνο από τα εγκαίνια του Ινουκσούκ\, του μοναδικού συμβόλου φιλίας που ενώνει τον Καναδά και την Ελλάδα στην καρδιά της Αθήνας. Η εκδήλωση\, αφιερωμένη στους αυτόχθονες πολιτισμούς του Καναδά\, είναι μια μοναδική ευκαιρία να γνωρίσουμε βαθύτερα την ιστορία αυτού του έργου\, καθώς θα μας τιμήσουν με την παρουσία τους η δημιουργός του\, καλλιτέχνης Heather Carroll\, καθώς και ο εκπρόσωπος της κοινότητας των Ινουίτ.\nΤο Ινουκσούκ\, το παραδοσιακό πέτρινο ορόσημο των Ινουίτ που στον βόρειο Καναδά καθοδηγεί τους ταξιδιώτες και σηματοδοτεί ιερους χώρους\, απέκτησε το αθηναϊκό του «αδελφάκι» το 2022. Ήταν μια δωρεά της Πρεσβείας για την 80ή επέτειο των διπλωματικών σχέσεων με την Ελλάδα\, ένα σύμβολο διαρκούς φιλίας\, αλληλεγγύης και της κοινής δέσμευσης για συνεργασία. Σχεδιασμένο από την Heather Carroll\, με καταγωγή Ινουίτ και Ευρώπης\, το γλυπτό συνδυάζει την αυθεντικότητα με μια μοναδική αθηναϊκή ταυτότητα.\n\nΑντί για τις συνηθισμένες ακανόνιστες πέτρες\, το αθηναϊκό Ινουκσούκ λάμπει φτιαγμένο από Πεντελικό μάρμαρο\, το υλικό του Παρθενώνα\, αποτίοντας φόρο τιμής στην κλασική ελληνική τέχνη. Αυτή η επιλογή συμβολίζει τη γόνιμη συνάντηση της ελληνικής και της αυτόχθονης καναδικής κληρονομιάς – μια σύνδεση που αντανακλάται και στην ίδια τη σημασία της λέξης «Ινουκσούκ»: «με τη μορφή ανθρώπου». Η τοποθέτησή του εδώ τιμά τόσο την τεράστια συνεισφορά της Αθήνας στον Δυτικό πολιτισμό\, όσο και τους αυτόχθονες πολιτισμούς του Καναδά.\nΣας περιμένουμε\, λοιπόν\, στη γιορτή για τον πρώτο χρόνο αυτού του σύγχρονου ορόσημου της πόλης\, που εγκαινιάστηκε επίσημα πέρυσι τον Μάιο. Ελάτε να γιορτάσουμε μαζί αυτή τη γέφυρα πολιτισμών\, να ακούσουμε τις ιστορίες πίσω από το σύμβολο αυτό από την ίδια τη δημιουργό του και τον εκπρόσωπο των Ινουίτ και να ανανεώσουμε τους δεσμούς φιλίας που το Ινουκσούκ αντιπροσωπεύει.
URL:https://cityfestival.thisisathens.org/event/inouksuk-fos-tou-vorra-stin-kardia-tis-athinas/
LOCATION:Πάρκο Ιλισίων\, Δραγούμη και Δημητρέσσα\, Αθήνα\, Αθήνα\, 115 28\, Greece
CATEGORIES:ΕΚΘΕΣΗ,ΥΠΑΙΘΡΙΑ ΔΡΑΣΗ
ATTACH;FMTTYPE=image/png:https://cityfestival.thisisathens.org/wp-content/uploads/2025/04/image007.png
END:VEVENT
BEGIN:VEVENT
DTSTART;TZID=Europe/Athens:20250505T180000
DTEND;TZID=Europe/Athens:20250505T210000
DTSTAMP:20260421T161540
CREATED:20250424T105959Z
LAST-MODIFIED:20250502T214618Z
UID:10003851-1746468000-1746478800@cityfestival.thisisathens.org
SUMMARY:Evi Papagianni: A Finding Place
DESCRIPTION:Ο εικαστικός χώρος Mosaico Fine Art Studio φιλοξενεί την έκθεση «A Finding Place» της καλλιτέχνιδας και εικαστικής θεραπεύτριας\, Παρασκευής Παπαγιάννη.\n\nΔευτέρα έως Παρασκευή\, 18:00-21:00\, Σάββατο 11:00-15:00\, Κυριακή κλειστά
URL:https://cityfestival.thisisathens.org/event/eva-papagianni-a-finding-place/2025-05-05/
LOCATION:Mosaico Fine Art Studio\, Καισαρείας 18-20\, Αθήνα\, Αθήνα\, 115 27\, Greece
CATEGORIES:ΓΚΑΛΕΡΙ,ΔΩΡΕΑΝ,ΕΚΘΕΣΗ,ΨΥΧΑΓΩΓΙΑ
ATTACH;FMTTYPE=image/jpeg:https://cityfestival.thisisathens.org/wp-content/uploads/2025/04/a-finding-place.jpg
END:VEVENT
BEGIN:VEVENT
DTSTART;TZID=Europe/Athens:20250505T203000
DTEND;TZID=Europe/Athens:20250505T223000
DTSTAMP:20260421T161540
CREATED:20250324T111205Z
LAST-MODIFIED:20250506T133228Z
UID:10001211-1746477000-1746484200@cityfestival.thisisathens.org
SUMMARY:Το Ταξίδι της Καντάδας από τα Επτάνησα στην Αθήνα: Ένας Μουσικός Περίπατος με Καντάδες στα Στενά της Πλάκας
DESCRIPTION:Tο μουσικό συγκρότημα των σύγχρονων τροβαδούρων\, αδελφών Καραβιώτη\, θα παρουσιάσει το δρώμενο της καντάδας στα σοκάκια της Πλάκας.\n\nΜια νοσταλγική αναδρομή στις ερωτικές μουσικές της παλιάς Αθήνας. Οι ήχοι που άλλοτε γέμιζαν τις ταβέρνες του κέντρου της πόλης στην Πλάκα\, του Ψυρρή και την Ομόνοια\, αναβιώνουν μέσα από λάτρεις του είδους\, που με μεράκι και αγάπη συντηρούν τις παλιές μελωδίες.\n\nΣημείο συνάντησης: Αγία Αικατερίνη\, Πλάκα
URL:https://cityfestival.thisisathens.org/event/to-taxidi-tis-kantadas-apo-ta-eptanisa-stin-athina-enas-mousikos-peripatos/
LOCATION:Ιερός Ναός Αγίας Αικατερίνης\, Χαιρεφώντος 10\, Αθήνα\, Αθήνα\, 105 58\, Greece
CATEGORIES:ΔΩΡΕΑΝ,ΥΠΑΙΘΡΙΑ ΔΡΑΣΗ,ΨΥΧΑΓΩΓΙΑ
ATTACH;FMTTYPE=image/jpeg:https://cityfestival.thisisathens.org/wp-content/uploads/2025/03/20240506-TiACF24-TGR-ToTaxidiTisKantadas-0221-1-scaled.jpg
END:VEVENT
BEGIN:VEVENT
DTSTART;TZID=Europe/Athens:20250505T203000
DTEND;TZID=Europe/Athens:20250505T223000
DTSTAMP:20260421T161540
CREATED:20250327T110818Z
LAST-MODIFIED:20250506T133054Z
UID:10001263-1746477000-1746484200@cityfestival.thisisathens.org
SUMMARY:Πολυζωγόπουλος - Μίαρης: Mirrors
DESCRIPTION:Δύο από τους πιο ξεχωριστούς καλλιτέχνες της ελληνικής και διεθνούς μουσικής σκηνής\, ο Αλέξανδρος Μίαρης και ο Ανδρέας Πολυζωγόπουλος\, ενώνουν τις δυνάμεις τους σε μια μοναδική συναυλία στο πλαίσιο του Φεστιβάλ του Δήμου Αθηναίων.\n\nΟ Ανδρέας Πολυζωγόπουλος\, ένας από τους πιο ιδιαίτερους τρομπετίστες της ευρωπαϊκής τζαζ\, γνωστός για τις ατμοσφαιρικές συνθέσεις και τις αυτοσχεδιαστικές του ικανότητες\, συναντά τον Αλέξανδρο Μίαρη\, συνθέτη κινηματογραφικής μουσικής και frontman των Electric Litany\, μιας μπάντας που έχει αφήσει το δικό της στίγμα στο alternative/post-rock τοπίο.\n\nΟι δύο καλλιτέχνες\, που γνωρίστηκαν αρχικά επί σκηνής στο Λονδίνο και στη συνέχεια συνεργάστηκαν δισκογραφικά στο άλμπουμ «Under a Common Sky» των Electric Litany\, καθώς και σε διάφορα soundtracks\, θα εμφανιστούν ως ντουέτο\, παρουσιάζοντας για πρώτη φορά νέο υλικό από τα επερχόμενα άλμπουμ τους. Μαζί\, θα δημιουργήσουν μια μαγευτική ηχητική εμπειρία\, με αυτοσχεδιαστικά στοιχεία\, ηλεκτρονικές υφές και μελωδίες που κινούνται ανάμεσα στον λυρισμό και τη μελαγχολία.\n\nΑνδρέας Πολυζωγόπουλος : Τρομπέτα\, Φλούγκελχορν\, Εφφέ\nΑλέξανδρος Μίαρης : Πιάνο\, Κιθάρα\, Φωνή\, Modular
URL:https://cityfestival.thisisathens.org/event/polyzogopoulos-miaris-mirros/
LOCATION:Βυζαντινό και Χριστιανικό Μουσείο\, Βασ. Σοφίας 22\, Αθήνα\, Αθήνα\, 10 75\, Greece
CATEGORIES:ΔΩΡΕΑΝ,ΨΥΧΑΓΩΓΙΑ
ATTACH;FMTTYPE=image/jpeg:https://cityfestival.thisisathens.org/wp-content/uploads/2025/03/AP-5-@-Aris-Vedertsis-copy-Recovered-scaled.jpg
END:VEVENT
END:VCALENDAR