BEGIN:VCALENDAR
VERSION:2.0
PRODID:-//Το Φεστιβάλ του Δήμου Αθηναίων - ECPv6.12.0.1//NONSGML v1.0//EN
CALSCALE:GREGORIAN
METHOD:PUBLISH
X-ORIGINAL-URL:https://cityfestival.thisisathens.org
X-WR-CALDESC:Events for Το Φεστιβάλ του Δήμου Αθηναίων
REFRESH-INTERVAL;VALUE=DURATION:PT1H
X-Robots-Tag:noindex
X-PUBLISHED-TTL:PT1H
BEGIN:VTIMEZONE
TZID:Europe/Athens
BEGIN:DAYLIGHT
TZOFFSETFROM:+0200
TZOFFSETTO:+0300
TZNAME:EEST
DTSTART:20250330T010000
END:DAYLIGHT
BEGIN:STANDARD
TZOFFSETFROM:+0300
TZOFFSETTO:+0200
TZNAME:EET
DTSTART:20251026T010000
END:STANDARD
END:VTIMEZONE
BEGIN:VEVENT
DTSTART;TZID=Europe/Athens:20250506T110000
DTEND;TZID=Europe/Athens:20250506T200000
DTSTAMP:20260420T081849
CREATED:20250423T132202Z
LAST-MODIFIED:20250506T134512Z
UID:10003659-1746529200-1746561600@cityfestival.thisisathens.org
SUMMARY:Ομαδική Έκθεση: Abandoned Cartographies and Other Odd Hours
DESCRIPTION:Η έκθεση Abandoned Cartographies and Other Odd Hours διερευνά αχαρτογράφητες περιοχές του υποσυνείδητου\, διαμορφώνοντας ένα σύνολο αναζητήσεων που υπερβαίνει τον ορθολογισμό\, την τάξη και την αφηγηματική συνοχή. Εστιάζει σε βιωματικές εμπειρίες που δεν οριοθετούνται από τη συνειδητή αντίληψη ή την πληροφορία αλλά\, αντίθετα\, ανοίγουν νέους δρόμους ενδοσκόπησης\, αποκαλύπτοντας αθέατες πτυχές του ψυχισμού. Παράλληλα\, ενεργοποιεί ερεθίσματα που ανασύρουν θαμμένες αναμνήσεις και ανησυχίες.\n\nΕπιμέλεια: Ντίνος Χατζηραφαηλίδης\n\nΣυμμετέχουν οι καλλιτέχνες/-ιδες: Έλλη Αντωνίου\, Γιώργος Γιατρομανωλάκης\, Κωνσταντίνος Λιανός\, Στεφανία Στρούζα\, Δημήτρης Ταμπάκης\, Σωκράτης Φατούρος\, Δέσποινα Χαριτωνίδη\, James Fuller\, Shambhavi Kaul\, Louis-Philippe Scoufaras\, Sasha Streshna\n\nΏρες Λειτουργίας: Τρίτη – Παρασκευή: 11π.μ. – 3μ.μ. και 5μ.μ. – 8μ.μ.\, Σάββατο: 11π.μ. – 4μ.μ.
URL:https://cityfestival.thisisathens.org/event/omadiki-ekthesi-abandoned-cartographies-and-other-odd-hours/2025-05-06/
LOCATION:CAN Christina Androulidaki Gallery\, Χαλκοκονδύλη 19\, Αθήνα\, Αθήνα\, 104 32\, Greece
CATEGORIES:ΓΚΑΛΕΡΙ,ΔΩΡΕΑΝ,ΕΚΘΕΣΗ
ATTACH;FMTTYPE=image/jpeg:https://cityfestival.thisisathens.org/wp-content/uploads/2025/04/1-1.jpg
END:VEVENT
BEGIN:VEVENT
DTSTART;TZID=Europe/Athens:20250506T113000
DTEND;TZID=Europe/Athens:20250506T130000
DTSTAMP:20260420T081849
CREATED:20250422T124522Z
LAST-MODIFIED:20250506T133022Z
UID:10003613-1746531000-1746536400@cityfestival.thisisathens.org
SUMMARY:Ξενάγηση στο ΕΜΣΤ στην Έκθεση ΓΥΝΑΙΚΕΣ ΜΑΖΙ
DESCRIPTION:Η έκθεση «ΓΥΝΑΙΚΕΣ\, ΜΑΖΙ» αποτελείται αποκλειστικά από έργα γυναικών δημιουργών και παίρνει θέση σε ένα κεφαλαιώδες ζήτημα της ιστορίας της τέχνης και της σύγχρονης πραγματικότητας: την υποεκπροσώπηση των γυναικών και την επιτακτική ανάγκη για την ανάληψη δράσης και την επίτευξη της έμφυλης ισότητας.\n\nΜολονότι τα περισσότερα έργα δεν εστιάζουν στη γυναικεία συνθήκη αυτή καθαυτή\, εγείρουν ζητήματα ισότητας\, καταπίεσης και ετερότητας ενώ εμπλέκονται με αφηγήσεις σύγχρονων και ιστορικών πολιτικοκοινωνικών ζητημάτων καθώς και όψεις προσωπικής και συλλογικής μνήμης και ταυτότητας.\n\nΠληροφορίες: https://www.emst.gr/exhibitions/ekthesi-syllogis\n\nΑπαιτείται η κράτηση θέσης.
URL:https://cityfestival.thisisathens.org/event/xenagisi-emst-ginaikes-mazi-2/
LOCATION:Εθνικό Μουσείο Σύγχρονης Τέχνης\, National Museum of Contemporary Art Αthens (ΕΜΣΤ)\, Αθήνα\, Αθήνα\, 117 43\, Greece
CATEGORIES:ΔΩΡΕΑΝ,ΕΚΘΕΣΗ,ΜΟΥΣΕΙΟ,ΠΕΡΙΗΓΗΣΗ
ATTACH;FMTTYPE=image/jpeg:https://cityfestival.thisisathens.org/wp-content/uploads/2025/03/ΕΜΣΤ-scaled.jpg
END:VEVENT
BEGIN:VEVENT
DTSTART;TZID=Europe/Athens:20250506T180000
DTEND;TZID=Europe/Athens:20250506T210000
DTSTAMP:20260420T081849
CREATED:20250424T105959Z
LAST-MODIFIED:20250502T214618Z
UID:10003852-1746554400-1746565200@cityfestival.thisisathens.org
SUMMARY:Evi Papagianni: A Finding Place
DESCRIPTION:Ο εικαστικός χώρος Mosaico Fine Art Studio φιλοξενεί την έκθεση «A Finding Place» της καλλιτέχνιδας και εικαστικής θεραπεύτριας\, Παρασκευής Παπαγιάννη.\n\nΔευτέρα έως Παρασκευή\, 18:00-21:00\, Σάββατο 11:00-15:00\, Κυριακή κλειστά
URL:https://cityfestival.thisisathens.org/event/eva-papagianni-a-finding-place/2025-05-06/
LOCATION:Mosaico Fine Art Studio\, Καισαρείας 18-20\, Αθήνα\, Αθήνα\, 115 27\, Greece
CATEGORIES:ΓΚΑΛΕΡΙ,ΔΩΡΕΑΝ,ΕΚΘΕΣΗ,ΨΥΧΑΓΩΓΙΑ
ATTACH;FMTTYPE=image/jpeg:https://cityfestival.thisisathens.org/wp-content/uploads/2025/04/a-finding-place.jpg
END:VEVENT
END:VCALENDAR