BEGIN:VCALENDAR
VERSION:2.0
PRODID:-//Το Φεστιβάλ του Δήμου Αθηναίων - ECPv6.12.0.1//NONSGML v1.0//EN
CALSCALE:GREGORIAN
METHOD:PUBLISH
X-ORIGINAL-URL:https://cityfestival.thisisathens.org
X-WR-CALDESC:Events for Το Φεστιβάλ του Δήμου Αθηναίων
REFRESH-INTERVAL;VALUE=DURATION:PT1H
X-Robots-Tag:noindex
X-PUBLISHED-TTL:PT1H
BEGIN:VTIMEZONE
TZID:Europe/Athens
BEGIN:DAYLIGHT
TZOFFSETFROM:+0200
TZOFFSETTO:+0300
TZNAME:EEST
DTSTART:20250330T010000
END:DAYLIGHT
BEGIN:STANDARD
TZOFFSETFROM:+0300
TZOFFSETTO:+0200
TZNAME:EET
DTSTART:20251026T010000
END:STANDARD
END:VTIMEZONE
BEGIN:VEVENT
DTSTART;TZID=Europe/Athens:20250507T103000
DTEND;TZID=Europe/Athens:20250507T120000
DTSTAMP:20260421T100749
CREATED:20250422T133137Z
LAST-MODIFIED:20250506T132903Z
UID:10003622-1746613800-1746619200@cityfestival.thisisathens.org
SUMMARY:Γνωρίστε το Μουσείο του Εθνικού Τυπογραφείου - ΜΕΤ
DESCRIPTION:Μια επίσκεψη στο Μουσείο του Εθνικού Τυπογραφείου και την ιστορική συλλογή του. Οι επισκέπτες θα δουν από κοντά αντιπροσωπευτικά δείγματα του μηχανολογικού εξοπλισμού και των εκτυπωτικών προϊόντων του Τυπογραφείου. Παράλληλα\, θα έχουν την ευκαιρία να εξοικειωθούν με τις παραδοσιακές τεχνικές της τυπογραφίας και τις συνθήκες του επαγγέλματος του τυπογράφου.\n\nΑπαιτείται η κράτηση θέσης.
URL:https://cityfestival.thisisathens.org/event/gnoriste-mouseio-ethnikou-typografeiou/
LOCATION:Μουσείο Εθνικού Τυπογραφείου\, Καποδιστρίου 34\, Αθήνα\, Αθήνα\, 104 32\, Greece
CATEGORIES:ΔΩΡΕΑΝ,ΕΚΘΕΣΗ,ΜΟΥΣΕΙΟ,ΠΕΡΙΗΓΗΣΗ
ATTACH;FMTTYPE=image/jpeg:https://cityfestival.thisisathens.org/wp-content/uploads/2025/04/ΑΙΘΟΥΣΑ-Α-ΜΟΥΣΕΙΟΥ-ΕΤ-scaled.jpg
END:VEVENT
END:VCALENDAR