BEGIN:VCALENDAR
VERSION:2.0
PRODID:-//Το Φεστιβάλ του Δήμου Αθηναίων - ECPv6.12.0.1//NONSGML v1.0//EN
CALSCALE:GREGORIAN
METHOD:PUBLISH
X-WR-CALNAME:Το Φεστιβάλ του Δήμου Αθηναίων
X-ORIGINAL-URL:https://cityfestival.thisisathens.org
X-WR-CALDESC:Events for Το Φεστιβάλ του Δήμου Αθηναίων
REFRESH-INTERVAL;VALUE=DURATION:PT1H
X-Robots-Tag:noindex
X-PUBLISHED-TTL:PT1H
BEGIN:VTIMEZONE
TZID:Europe/Athens
BEGIN:DAYLIGHT
TZOFFSETFROM:+0200
TZOFFSETTO:+0300
TZNAME:EEST
DTSTART:20250330T010000
END:DAYLIGHT
BEGIN:STANDARD
TZOFFSETFROM:+0300
TZOFFSETTO:+0200
TZNAME:EET
DTSTART:20251026T010000
END:STANDARD
END:VTIMEZONE
BEGIN:VEVENT
DTSTART;TZID=Europe/Athens:20250509T100000
DTEND;TZID=Europe/Athens:20250509T180000
DTSTAMP:20260420T112938
CREATED:20250424T102622Z
LAST-MODIFIED:20250425T160020Z
UID:10003778-1746784800-1746813600@cityfestival.thisisathens.org
SUMMARY:CONQUISTADORS
DESCRIPTION:Ο Νίκος Κυριακόπουλος και οι conquistadors του\, αποβιβάζονται στη Λένορμαν.\nΔράκοι και άγρια θηρία\, ντόπιοι και conquistadors αλλά και ο Θάνατος αυτοπροσώπως\, μάχονται μέσα σε απάτητες ζούγκλες.\n\nΤα 36 έργα που απαρτίζουν την έκθεση\, δεν έχουν στόχο να υπηρετήσουν την ιστορία ή το ιστορικό genre της ζωγραφικής. Ο καλλιτέχνης αντλεί το υλικό του από τον μύθο που συνοδεύει την Εποχή των Ανακαλύψεων και πλάθει εικόνες μακριά και πέραν του νατουραλισμού\, τόσο σε μορφολογικό όσο και σε επίπεδο θεματικού περιεχομένου.\nΤα έργα έχουν δημιουργηθεί με την μέθοδο της μονοτυπίας\, τεχνική που χρονολογείται από τον 16ο αιώνα και που\, σε συνδυασμό με τις ιστορίες που περιγράφουν\, αποκτούν ένα ακόμη ιδιαίτερο ενδιαφέρον.\nΟι περιπέτειες των ηρώων αποτελούν αφορμή όχι μόνο για τις περιπέτειες της γραμμής και του χρώματος\, αλλά και αφετηρία για στοχασμό πάνω σε έννοιες όπως αυτές της επιθυμίας\, του φόβου\, της σύγκρουσης ή της πλάνης.\n\nΕγκαίνια: Πέμπτη 8 Μαΐου 2025 και ώρα 19:30 – 23:00\n\nΏρες λειτουργίας:\nΚαθημερινά 10:00 – 18:00\nΣάββατο 11:00 – 15:00\nΚυριακή κλειστά
URL:https://cityfestival.thisisathens.org/event/conquistadors/2025-05-09/
LOCATION:Πολιτιστικός Χώρος Macart\, Λένορμαν 244\, Αθήνα\, Αθήνα\, 104 43\, Greece
CATEGORIES:ΓΚΑΛΕΡΙ,ΔΩΡΕΑΝ,ΕΚΘΕΣΗ,ΨΥΧΑΓΩΓΙΑ
ATTACH;FMTTYPE=image/jpeg:https://cityfestival.thisisathens.org/wp-content/uploads/2025/04/DSC_7775-1.jpg
END:VEVENT
BEGIN:VEVENT
DTSTART;TZID=Europe/Athens:20250509T113000
DTEND;TZID=Europe/Athens:20250509T203000
DTSTAMP:20260420T112938
CREATED:20250424T085600Z
LAST-MODIFIED:20250506T132608Z
UID:10003736-1746790200-1746822600@cityfestival.thisisathens.org
SUMMARY:Βασίλης Παπαγεωργίου - Ζωγραφική και Γλυπτική: Lignea Creatura Stans
DESCRIPTION:Ο φυτικός\, ζωικός και ανθρώπινος κόσμος\, ο θρύλος\, ο μύθος\, η φαντασία και το όνειρο συνθέτουν τη νέα εικαστική θεματική του Βασίλη Παπαγεωργίου. Οι οξύμωροι ήρωες του\, τα ξυλοπλάσματα που εφευρίσκει\, βρίσκονται στον δισδιάστατο και τρισδιάστατο χώρο που μας περιβάλλει\, σε μια διαρκή περιδίνηση. Εποπτεύοντας αισθητικά\, το βάθος των συνεπειών της καταστροφής του κόσμου από την ανθρώπινη παρέμβαση\, δημιουργεί αξίες από πολιτισμικές αναφορές της παράδοσης και της φύσης\, οι οποίες ορίζουν τις παραμέτρους της συνύπαρξης.\n\nΏρες λειτουργίας: Δευτέρα-Παρασκευή 11:30- 14:30 & 17:30 – 20:30\, Σάββατο: 11:30-15:00
URL:https://cityfestival.thisisathens.org/event/vassilis-papageorgiou-zografiki-lignea-creatura-stans-2/2025-05-09/
LOCATION:Γκαλερί Έρση\, Κλεομένους 4\, Αθήνα\, Αθήνα\, 106 75\, Greece
CATEGORIES:ΓΚΑΛΕΡΙ,ΔΩΡΕΑΝ,ΕΚΘΕΣΗ,ΨΥΧΑΓΩΓΙΑ
ATTACH;FMTTYPE=image/jpeg:https://cityfestival.thisisathens.org/wp-content/uploads/2025/04/ΒΑΣΙΛΗΣ-ΠΑΠΑΓΕΩΡΓΙΟΥΑνάγνωση2023-Λάδι-σε-λινό-160-195-cm.jpg
END:VEVENT
BEGIN:VEVENT
DTSTART;TZID=Europe/Athens:20250509T170000
DTEND;TZID=Europe/Athens:20250509T230000
DTSTAMP:20260420T112938
CREATED:20250422T091737Z
LAST-MODIFIED:20250506T131721Z
UID:10003559-1746810000-1746831600@cityfestival.thisisathens.org
SUMMARY:Πρωτογένους Spring City
DESCRIPTION:Η οδός Πρωτογένους αποτελεί ένα αντιπροσωπευτικό παράδειγμα για το πως μπορείς να μετατρέψεις έναν στενό και σκοτεινό δρόμο στο κέντρο της πόλης σε απόλυτο προορισμό. Σήμερα αποτελεί το σημείο συνάντησης των εκπροσώπων κάθε κουλτούρας. Σε αυτόν τον δρόμο που δεν κοιμάται ποτέ\, όλοι μπορούν να βρουν μουσική\, φαγητό\, ρούχα\, έπιπλα\, ποτά\, γλυκά\, χαμόγελα\, καλή διάθεση καθώς και ένα τριήμερο γεμάτο συναυλίες\, dj sets\, street food\, αγορές και πολλές εκπλήξεις.\n\nΤο δεύτερο Παρασκευοσαββατοκύριακο του Μαΐου\, το κέντρο του Ψυρρή γιορτάζει την άρτι αφιχθείσα άνοιξη με σπέσιαλ dj sets\, fashion bazaars και live shows στον δρόμο\, σε ένα τριήμερο street party από αυτά που αγαπήσατε.\n\nΠαρασκευή 9 Μαΐου: DJ set: Driving In Reverse (Μάκης Παπασημακόπουλος\, Pene\, Vercetti Technicolor)\n\nΕίσοδος ελεύθερη\nΈναρξη 17.00\n\nΜε τη συνεργασία των Barrett\, Syd Records\, Crust\, Ringo Kalamaki pub\, Tranzistor\, Kokkion\, Color Skates\, Like Yesterdays\, Prime Timers\, The Potheads\, Treasure Hunt\, The Fountain\, Badila\, Lemon Poppy Seed
URL:https://cityfestival.thisisathens.org/event/protogenous-spring-city/
LOCATION:Πρωτογένους\, Πρωτογένους\, Αθήνα\, Athens\, 105 54\, Greece
CATEGORIES:DJ SET,ΓΑΣΤΡΟΝΟΜΙΑ,ΔΩΡΕΑΝ,ΠΑΡΤΙ,ΥΠΑΙΘΡΙΑ ΔΡΑΣΗ,ΧΟΡΟΣ,ΨΥΧΑΓΩΓΙΑ
ATTACH;FMTTYPE=image/jpeg:https://cityfestival.thisisathens.org/wp-content/uploads/2025/03/20220616-TGR-StreetView-Protogenous-0885-1-scaled.jpg
END:VEVENT
BEGIN:VEVENT
DTSTART;TZID=Europe/Athens:20250509T170000
DTEND;TZID=Europe/Athens:20250509T233000
DTSTAMP:20260420T112939
CREATED:20250418T143719Z
LAST-MODIFIED:20250506T131641Z
UID:10003529-1746810000-1746833400@cityfestival.thisisathens.org
SUMMARY:World of Beer Festival
DESCRIPTION:Ψάχνεις μία ξεχωριστή πρόταση διασκέδασης; Σου αρέσει η μπίρα και η καλή μουσική; Λατρεύεις το stand up; Είσαι fun των φεστιβάλ;\n\nTo World of Beer Festival είναι το μεγαλύτερο φεστιβάλ μπίρας στην Ελλάδα και έρχεται από τις 9 έως τις 11 Μαίου στην Τεχνόπολη του Δήμου Αθηναίων.\n\nLager\, Ale\, Weiss\, Pils\, Pale Ale\, Trappist\, Αbbey\, Tripel\, Dinkel\, Draught αλλά και Μηλίτη… ότι και να πίνεις\, στο φεστιβάλ θα βρεις αμέτρητες ετικέτες μπίρας από τις καλύτερες ζυθοποιίες και μικροζυθοποιίες. Επίσης\, εξαιρετικές επιλογές σε comfort food\, street food\, snacks\, προτάσεις σε είδη σερβιρίσματος της μπίρας αλλά και αξεσουάρ.\n\nΚάθε ημέρα\, η σκηνή του φεστιβάλ φιλοξενεί συναυλίες με διάσημους καλλιτέχνες: Onirama\, Stavento\, Μελίνα Κανά\, Χρήστο Δάντη\, Υπόγεια Ρεύματα\, Γιαγκίνηδες\, Wedding Singers\, The Speakeasies Swing Band\, Prestige the Βand.\nΟ Λάμπρος Φισφής και ο Διονύσης Ατζαράκης\, οι special guest hosts του φεστιβάλ\, θα πραγματοποιήσουν stand-up και sit down shows.\n\nΜπες τώρα και κλείσε το εισιτήριό σου και επωφελήσου από την προνομιακή τιμή προπώλησης των 5€.*\n\n*Το εισιτήριο\, τις ημέρες του φεστιβάλ θα πωλείται online και στα φυσικά ταμεία 7€.\n\nΤι άλλο πρέπει να γνωρίζεις;\nΌλοι οι επισκέπτες θα λάβουν\, κατά την είσοδο τους\, tote bag που θα περιλαμβάνει συλλεκτικά και branded δώρα όπως 1 ποτήρι 330ml με χάραξη στα 100ml\, 1 σουβέρ κ.ά.
URL:https://cityfestival.thisisathens.org/event/world-of-beer-festival/
LOCATION:Τεχνόπολη Δήμου Αθηναίων\, Πειραιώς 100\, Αθήνα\, Αθήνα\, 118 54\, Greece
CATEGORIES:DJ SET,ΓΑΣΤΡΟΝΟΜΙΑ,ΨΥΧΑΓΩΓΙΑ
ATTACH;FMTTYPE=image/jpeg:https://cityfestival.thisisathens.org/wp-content/uploads/2025/04/IAK00743.jpeg
END:VEVENT
BEGIN:VEVENT
DTSTART;TZID=Europe/Athens:20250509T180000
DTEND;TZID=Europe/Athens:20250509T193000
DTSTAMP:20260420T112939
CREATED:20250327T123820Z
LAST-MODIFIED:20250506T131627Z
UID:10001682-1746813600-1746819000@cityfestival.thisisathens.org
SUMMARY:Παραμύθια στον Κήπο: Γεωργία Λεμπέση - Γιάννης Ψαριώτης
DESCRIPTION:Κύματα ταξιδιάρικα μας φέραν παραμύθια!\n\nΣαν ταξιδιάρικο πουλί το κύμα του πελάγους\,\nφέρνει φωνές αλαργινών τρανών παραμυθάδων…\nκαι σου λαλούνε ψέματα και σου λαλούν αλήθεια!\nΜπείτε μες στη βάρκα μας\, να πούμε παραμύθια!\n\nΕλάτε να ακολουθήσουμε τους ήρωες των ελληνικών παραμυθιών! Από το Ιόνιο στα Δωδεκάνησα\, από τις Σποράδες στις Κυκλάδες! Nα σαλπάρουμε με πλοία μαγικά\, να πολεμήσουμε με δράκους και γίγαντες\, να ξεγελάσουμε γοργόνες και νεράιδες! Εμπρός και πρύμα πλώρα!\n\nΜια παράσταση αφήγησης για όλη την οικογένεια!\n\n“Πλατεία” έξω από την παιδική χαρά.
URL:https://cityfestival.thisisathens.org/event/paramithia-ston-kipo-lebesi-psariotis/
LOCATION:Εθνικός Κήπος\, Βασ. Αμαλίας 1\, Αθήνα\, Αθήνα\, 105 57\, Greece
CATEGORIES:ΔΩΡΕΑΝ,ΠΑΙΔΙ,ΥΠΑΙΘΡΙΑ ΔΡΑΣΗ,ΨΥΧΑΓΩΓΙΑ
ATTACH;FMTTYPE=image/jpeg:https://cityfestival.thisisathens.org/wp-content/uploads/2025/03/20240515-TiACF-GMK-FairytalesSousourades-0038-scaled.jpg
END:VEVENT
BEGIN:VEVENT
DTSTART;TZID=Europe/Athens:20250509T180000
DTEND;TZID=Europe/Athens:20250509T210000
DTSTAMP:20260420T112939
CREATED:20250424T105959Z
LAST-MODIFIED:20250502T214618Z
UID:10003855-1746813600-1746824400@cityfestival.thisisathens.org
SUMMARY:Evi Papagianni: A Finding Place
DESCRIPTION:Ο εικαστικός χώρος Mosaico Fine Art Studio φιλοξενεί την έκθεση «A Finding Place» της καλλιτέχνιδας και εικαστικής θεραπεύτριας\, Παρασκευής Παπαγιάννη.\n\nΔευτέρα έως Παρασκευή\, 18:00-21:00\, Σάββατο 11:00-15:00\, Κυριακή κλειστά
URL:https://cityfestival.thisisathens.org/event/eva-papagianni-a-finding-place/2025-05-09/
LOCATION:Mosaico Fine Art Studio\, Καισαρείας 18-20\, Αθήνα\, Αθήνα\, 115 27\, Greece
CATEGORIES:ΓΚΑΛΕΡΙ,ΔΩΡΕΑΝ,ΕΚΘΕΣΗ,ΨΥΧΑΓΩΓΙΑ
ATTACH;FMTTYPE=image/jpeg:https://cityfestival.thisisathens.org/wp-content/uploads/2025/04/a-finding-place.jpg
END:VEVENT
BEGIN:VEVENT
DTSTART;TZID=Europe/Athens:20250509T180000
DTEND;TZID=Europe/Athens:20250509T233000
DTSTAMP:20260420T112939
CREATED:20250422T094405Z
LAST-MODIFIED:20250422T094405Z
UID:10003566-1746813600-1746833400@cityfestival.thisisathens.org
SUMMARY:Queer Movie Nights
DESCRIPTION:Τα Queer Movie Nights αποτελούν μια μοναδική γιορτή για το LGBTQI+ σινεμά στην Αθήνα. Ξεκίνησαν τον Μάιο του 2022 με αφορμή τη Διεθνή Ημέρα κατά της Ομοφοβίας\, Τρανσφοβίας\, Αμφιφοβίας και Ιντερφοβίας και από τότε έχουν καθιερωθεί ως μια πλατφόρμα προβολής queer ταινιών μικρού και μεγάλου μήκους\, καθώς και ντοκιμαντέρ.\nΣτόχος των Queer Movie Nights είναι να δημιουργήσουν έναν ασφαλή χώρο ελεύθερης έκφρασης\, όπου οι ιστορίες της queer κοινότητας από όλο τον κόσμο θα μπορούν να λάμπουν μέσα από την μαγική τέχνη του κινηματογράφου.
URL:https://cityfestival.thisisathens.org/event/queer-movie-nights-2/
LOCATION:Κινηματογράφος “Τριανόν”\, Κοδριγκτώνος 21\, Αθήνα\, Αθήνα\, 104 34\, Greece
CATEGORIES:ΣΙΝΕΜΑ,ΨΥΧΑΓΩΓΙΑ
ATTACH;FMTTYPE=image/webp:https://cityfestival.thisisathens.org/wp-content/uploads/2025/03/Queer-Movie-Nights-για-site-1399x1536.jpg-1.webp
END:VEVENT
END:VCALENDAR