BEGIN:VCALENDAR
VERSION:2.0
PRODID:-//Το Φεστιβάλ του Δήμου Αθηναίων - ECPv6.12.0.1//NONSGML v1.0//EN
CALSCALE:GREGORIAN
METHOD:PUBLISH
X-ORIGINAL-URL:https://cityfestival.thisisathens.org
X-WR-CALDESC:Events for Το Φεστιβάλ του Δήμου Αθηναίων
REFRESH-INTERVAL;VALUE=DURATION:PT1H
X-Robots-Tag:noindex
X-PUBLISHED-TTL:PT1H
BEGIN:VTIMEZONE
TZID:Europe/Athens
BEGIN:DAYLIGHT
TZOFFSETFROM:+0200
TZOFFSETTO:+0300
TZNAME:EEST
DTSTART:20250330T010000
END:DAYLIGHT
BEGIN:STANDARD
TZOFFSETFROM:+0300
TZOFFSETTO:+0200
TZNAME:EET
DTSTART:20251026T010000
END:STANDARD
END:VTIMEZONE
BEGIN:VEVENT
DTSTART;TZID=Europe/Athens:20250510T103000
DTEND;TZID=Europe/Athens:20250510T113000
DTSTAMP:20260422T010045
CREATED:20250423T124054Z
LAST-MODIFIED:20250506T131348Z
UID:10003644-1746873000-1746876600@cityfestival.thisisathens.org
SUMMARY:Ξενάγηση στο Σπίτι του Ελύτη
DESCRIPTION:Στο νεοκλασικό κτήριο στην οδό Διοσκούρων 4 & Πολυγνώτου\, από την 1η Νοεμβρίου 2024 λειτουργεί το νέο Μουσείο «ΣΠΙΤΙ ΤΟΥ ΕΛΥΤΗ».\n\nΤο Μουσείο φιλοξενεί μία μόνιμη έκθεση αφιερωμένη στη ζωή και στο έργο του μεγάλου ποιητή. Χειρόγραφα\, εκδόσεις ελληνικές και ξένες\, εικαστικά έργα\, ποικίλα αυθεντικά τεκμήρια από το σπίτι του Ελύτη\, παρουσιάζονται μαζί με το σύνολο του γραφείου του ποιητή\, του χώρου όπου εργαζόταν από το 1962 έως το τέλος της ζωής του.\n\nΑπαιτείται η κράτηση θέσης: info@elytishousemuseum.gr
URL:https://cityfestival.thisisathens.org/event/xenagisi-spiti-elyti/
LOCATION:Σπίτι του Ελύτη – Μουσείο\, Πολυγνώτου 7\, Αθήνα\, Αθήνα\, 105 55\, Greece
CATEGORIES:ΔΩΡΕΑΝ,ΕΚΘΕΣΗ,ΛΟΓΟΤΕΧΝΙΑ,ΜΟΥΣΕΙΟ,ΠΕΡΙΗΓΗΣΗ
ATTACH;FMTTYPE=image/jpeg:https://cityfestival.thisisathens.org/wp-content/uploads/2025/03/elitis_banner.jpg
END:VEVENT
BEGIN:VEVENT
DTSTART;TZID=Europe/Athens:20250510T110000
DTEND;TZID=Europe/Athens:20250510T130000
DTSTAMP:20260422T010045
CREATED:20250416T140717Z
LAST-MODIFIED:20250502T100027Z
UID:10003517-1746874800-1746882000@cityfestival.thisisathens.org
SUMMARY:Περιήγηση στο Ριζόκαστρο και τα Αναφιώτικα
DESCRIPTION:Ο αρχαιολόγος και διπλωματούχος ξεναγος Μιχάλης Γιοχάλας\, σε συνεργασία με το Φεστιβάλ του Δήμου Αθηναίων\, πραγματοποιεί μία περιήγηση στα Αναφιώτικα και την ιστορία τους.\n\nΤο Ριζόκαστρο\, η περιοχή κάτω από την ρίζα του Βράχου\, και τα Αναφιώτικα είναι δύο εκ των πλέον ιστορικών περιοχών της Αθήνας. Με οδηγούς τα μέχρι σήμερα σωζόμενα μνημεία και κτίρια\, τα σπαράγματα αυτών που δεν υπάρχουν πλέον αλλά και τα ονόματα των δρόμων\, θα επιχειρήσουμε να ανασυνθέσουμε τη μνήμη και την εικόνα μίας πόλης διαφορετικής\, αλλά όχι ολότελα χαμένης\, αφουγκραζόμενοι τις απηχήσεις των δοξασιών\, των μύθων και των θρύλων των αρχαίων τοποθεσιών\, που επιβιώνουν μέχρι σήμερα.\n\nΣημείο Συνάντησης: Σταθμός Μετρό Ακρόπολη – Έξοδος Οδός Μακρυγιάννη\n\nΑπαιτείται η κράτηση θέσης.
URL:https://cityfestival.thisisathens.org/event/periigisi-rizokastro-anafiotika/
LOCATION:Σταθμός Μετρό Ακρόπολη\, Μακρυγιάννη 9\, Αθήνα\, Αθήνα\, 117 42\, Greece
CATEGORIES:ΔΩΡΕΑΝ,ΙΣΤΟΡΙΑ,ΠΕΡΙΗΓΗΣΗ,ΥΠΑΙΘΡΙΑ ΔΡΑΣΗ
ATTACH;FMTTYPE=image/jpeg:https://cityfestival.thisisathens.org/wp-content/uploads/2025/04/20240516-TiACF-GMK-RizokastroAnafiotikaTour-0026-scaled.jpg
END:VEVENT
END:VCALENDAR