BEGIN:VCALENDAR
VERSION:2.0
PRODID:-//Το Φεστιβάλ του Δήμου Αθηναίων - ECPv6.12.0.1//NONSGML v1.0//EN
CALSCALE:GREGORIAN
METHOD:PUBLISH
X-ORIGINAL-URL:https://cityfestival.thisisathens.org
X-WR-CALDESC:Events for Το Φεστιβάλ του Δήμου Αθηναίων
REFRESH-INTERVAL;VALUE=DURATION:PT1H
X-Robots-Tag:noindex
X-PUBLISHED-TTL:PT1H
BEGIN:VTIMEZONE
TZID:Europe/Athens
BEGIN:DAYLIGHT
TZOFFSETFROM:+0200
TZOFFSETTO:+0300
TZNAME:EEST
DTSTART:20250330T010000
END:DAYLIGHT
BEGIN:STANDARD
TZOFFSETFROM:+0300
TZOFFSETTO:+0200
TZNAME:EET
DTSTART:20251026T010000
END:STANDARD
END:VTIMEZONE
BEGIN:VEVENT
DTSTART;TZID=Europe/Athens:20250511T140000
DTEND;TZID=Europe/Athens:20250511T150000
DTSTAMP:20260422T010044
CREATED:20250416T134444Z
LAST-MODIFIED:20250506T130824Z
UID:10003511-1746972000-1746975600@cityfestival.thisisathens.org
SUMMARY:Περιήγηση στο Πολεμικό Μουσείο για Ενήλικες
DESCRIPTION:Μία περιήγηση στη στρατιωτική ιστορία και την πολιτιστική κληρονομιά της χώρας\, μέσα από τις εκθέσεις του του Πολεμικού Μουσείου. Οι επισκέπτες θα έχουν την ευκαιρία να ανακαλύψουν σπάνια εκθέματα\, ιστορικά τεκμήρια και αφηγήσεις από το παρελθόν.\n\nΗ δράση απευθύνεται σε ενήλικες.\n\nΑπαιτείται η κράτηση θέσης.
URL:https://cityfestival.thisisathens.org/event/periigisi-polemiko-mouseio-enilikes/
LOCATION:Πολεμικό Μουσείο\, Ριζάρη 2-4\, Αθήνα\, Αθήνα\, 106 75\, Greece
CATEGORIES:ΔΩΡΕΑΝ,ΕΚΘΕΣΗ,ΜΟΥΣΕΙΟ,ΠΕΡΙΗΓΗΣΗ
ATTACH;FMTTYPE=image/jpeg:https://cityfestival.thisisathens.org/wp-content/uploads/2025/03/02.jpg
END:VEVENT
BEGIN:VEVENT
DTSTART;TZID=Europe/Athens:20250511T180000
DTEND;TZID=Europe/Athens:20250511T193000
DTSTAMP:20260422T010044
CREATED:20250423T125037Z
LAST-MODIFIED:20250506T130525Z
UID:10003648-1746986400-1746991800@cityfestival.thisisathens.org
SUMMARY:Περίπατος Μαθητείας: 20 και 1 Στάσεις
DESCRIPTION:Επίσημα χαρακτηρισμένος ως «ιστορικός τόπος»\, ο Εθνικός (άλλοτε Βασιλικός) Κήπος είναι ένα σημείο νηνεμίας\, περιτριγυρισμένο από την ένταση της πόλης\, που φέρει μέσα του τη μνήμη και την ιστορία της. Ανάμεσα στα 500 είδη φυτών\, που ήρθαν απ’ όλο τον κόσμο με τη φροντίδα της βασίλισσας Αμαλίας και των βοτανολόγων της\, περιμένουν να συναντήσουν τους επισκέπτες μορφές μαρμάρινες: ο Διονύσιος Σολωμός\, ο Αριστοτέλης Βαλαωρίτης\, ο Ζαν Μωρεάς\, ο Καποδίστριας\, αλλά και ο Ιωάννης Εϋνάρδος\, άξια τέκνα μιας Ελλάδας που δεν της έλειψε η φωτισμένη ηγεσία.\n\nΟ Θοδωρής Γκόνης\, με βασικούς ερμηνευτές την Ελένη Ουζουνίδου και τον Θανάση Δήμου\, προτείνει μια ποιητική περιήγηση με υλικό\, κείμενα και ντοκουμέντα αυτών των μόνιμων κατοίκων του Κήπου\, των ποιητών\, των πολιτικών\, των γεωπόνων και των μηχανικών που τον διαμόρφωσαν και της εικοσάχρονης βασίλισσας που τον ονειρεύτηκε και μας τον χάρισε.\n\nΣύλληψη-Σκηνοθεσία: Θοδωρής Γκόνης\nΔραματουργία: Θοδωρής Γκόνης\, Ελένη Στρούλια\nΚοστούμια: Ματίνα Μέγκλα\nΗθοποιοί: Ελένη Ουζουνίδου\, Θανάσης Δήμου\, Ρωξάνη Καρφή\, Χριστίνα Χαλκιά\nΜουσικοί: Πάρις Κιμιωνής- Δανάη Τσιρώνη\n\nΠροτείνεται οι θεατές να φορούν άνετα ρούχα και υποδήματα.\n\nΣημείο Συνάντησης: Ηλιακό ρολόι (είσοδος από Λεωφ. Αμαλίας)
URL:https://cityfestival.thisisathens.org/event/peripatos-mathiteias-20-1-staseis/
LOCATION:Εθνικός Κήπος\, Βασ. Αμαλίας 1\, Αθήνα\, Αθήνα\, 105 57\, Greece
CATEGORIES:ΔΩΡΕΑΝ,ΘΕΑΤΡΟ,ΠΕΡΙΗΓΗΣΗ,ΥΠΑΙΘΡΙΑ ΔΡΑΣΗ,ΨΥΧΑΓΩΓΙΑ
ATTACH;FMTTYPE=image/jpeg:https://cityfestival.thisisathens.org/wp-content/uploads/2025/03/IMG_6798-scaled.jpg
END:VEVENT
END:VCALENDAR