BEGIN:VCALENDAR
VERSION:2.0
PRODID:-//Το Φεστιβάλ του Δήμου Αθηναίων - ECPv6.12.0.1//NONSGML v1.0//EN
CALSCALE:GREGORIAN
METHOD:PUBLISH
X-ORIGINAL-URL:https://cityfestival.thisisathens.org
X-WR-CALDESC:Events for Το Φεστιβάλ του Δήμου Αθηναίων
REFRESH-INTERVAL;VALUE=DURATION:PT1H
X-Robots-Tag:noindex
X-PUBLISHED-TTL:PT1H
BEGIN:VTIMEZONE
TZID:Europe/Athens
BEGIN:DAYLIGHT
TZOFFSETFROM:+0200
TZOFFSETTO:+0300
TZNAME:EEST
DTSTART:20250330T010000
END:DAYLIGHT
BEGIN:STANDARD
TZOFFSETFROM:+0300
TZOFFSETTO:+0200
TZNAME:EET
DTSTART:20251026T010000
END:STANDARD
END:VTIMEZONE
BEGIN:VEVENT
DTSTART;TZID=Europe/Athens:20250513T100000
DTEND;TZID=Europe/Athens:20250513T180000
DTSTAMP:20260420T081900
CREATED:20250424T102622Z
LAST-MODIFIED:20250425T160020Z
UID:10003781-1747130400-1747159200@cityfestival.thisisathens.org
SUMMARY:CONQUISTADORS
DESCRIPTION:Ο Νίκος Κυριακόπουλος και οι conquistadors του\, αποβιβάζονται στη Λένορμαν.\nΔράκοι και άγρια θηρία\, ντόπιοι και conquistadors αλλά και ο Θάνατος αυτοπροσώπως\, μάχονται μέσα σε απάτητες ζούγκλες.\n\nΤα 36 έργα που απαρτίζουν την έκθεση\, δεν έχουν στόχο να υπηρετήσουν την ιστορία ή το ιστορικό genre της ζωγραφικής. Ο καλλιτέχνης αντλεί το υλικό του από τον μύθο που συνοδεύει την Εποχή των Ανακαλύψεων και πλάθει εικόνες μακριά και πέραν του νατουραλισμού\, τόσο σε μορφολογικό όσο και σε επίπεδο θεματικού περιεχομένου.\nΤα έργα έχουν δημιουργηθεί με την μέθοδο της μονοτυπίας\, τεχνική που χρονολογείται από τον 16ο αιώνα και που\, σε συνδυασμό με τις ιστορίες που περιγράφουν\, αποκτούν ένα ακόμη ιδιαίτερο ενδιαφέρον.\nΟι περιπέτειες των ηρώων αποτελούν αφορμή όχι μόνο για τις περιπέτειες της γραμμής και του χρώματος\, αλλά και αφετηρία για στοχασμό πάνω σε έννοιες όπως αυτές της επιθυμίας\, του φόβου\, της σύγκρουσης ή της πλάνης.\n\nΕγκαίνια: Πέμπτη 8 Μαΐου 2025 και ώρα 19:30 – 23:00\n\nΏρες λειτουργίας:\nΚαθημερινά 10:00 – 18:00\nΣάββατο 11:00 – 15:00\nΚυριακή κλειστά
URL:https://cityfestival.thisisathens.org/event/conquistadors/2025-05-13/
LOCATION:Πολιτιστικός Χώρος Macart\, Λένορμαν 244\, Αθήνα\, Αθήνα\, 104 43\, Greece
CATEGORIES:ΓΚΑΛΕΡΙ,ΔΩΡΕΑΝ,ΕΚΘΕΣΗ,ΨΥΧΑΓΩΓΙΑ
ATTACH;FMTTYPE=image/jpeg:https://cityfestival.thisisathens.org/wp-content/uploads/2025/04/DSC_7775-1.jpg
END:VEVENT
BEGIN:VEVENT
DTSTART;TZID=Europe/Athens:20250513T110000
DTEND;TZID=Europe/Athens:20250513T203000
DTSTAMP:20260420T081900
CREATED:20250506T071617Z
LAST-MODIFIED:20250506T073519Z
UID:10003899-1747134000-1747168200@cityfestival.thisisathens.org
SUMMARY:Γιώργος Γύζης: Clippings: Athens
DESCRIPTION:Η θεματική ενότητα «Clippings: Athens» αποτελεί τον τρίτο κύκλο ζωγραφικών έργων του Γιώργου Γύζη\, που βασίζεται σε αποκόμματα παλιών εφημερίδων. Φωτογραφίες\, σχέδια και άρθρα για την Αθήνα αναδύονται μέσα από τα αρχεία με την όψη εικαστικού έργου για να προκαλέσουν συναισθήματα.\n\nΤα έργα που παρουσιάζονται στην έκθεση\, συνθέτουν μία σύντομη αναδρομή στη μορφολογία της Αθήνας\, ξεκινώντας από τα χαρακτηριστικά σχέδια των Άγγλων περιηγητών στην Αττική του 19ου αιώνα και καταλήγοντας στη περίοδο της κορύφωσης του μοντερνισμού των δεκαετιών του ‘ 50 και του ’60.\n\nΕγκαίνια Έκθεσης: Σάββατο 10 Μαΐου 2025\, ώρα 12:00-17:00\n\nΏρες Λειτουργίας: Τρίτη\, Πέμπτη\, Παρασκευή 11:00 – 14:30/ 17:30 – 20:30\nΤετάρτη\, Σάββατο 11:00 – 16:00\n\nΚυριακή και Δευτέρα κλειστά
URL:https://cityfestival.thisisathens.org/event/giorgos-gyzis-clippings-athens/2025-05-13/
LOCATION:Εικαστικός Κύκλος ΔΛ\, Ακαδημίας 6\, Αθήνα\, Αθήνα\, 106 71\, Greece
CATEGORIES:ΓΚΑΛΕΡΙ,ΔΩΡΕΑΝ,ΕΚΘΕΣΗ
ATTACH;FMTTYPE=image/jpeg:https://cityfestival.thisisathens.org/wp-content/uploads/2025/05/9817.jpg
END:VEVENT
BEGIN:VEVENT
DTSTART;TZID=Europe/Athens:20250513T113000
DTEND;TZID=Europe/Athens:20250513T203000
DTSTAMP:20260420T081900
CREATED:20250424T085600Z
LAST-MODIFIED:20250506T132608Z
UID:10003739-1747135800-1747168200@cityfestival.thisisathens.org
SUMMARY:Βασίλης Παπαγεωργίου - Ζωγραφική και Γλυπτική: Lignea Creatura Stans
DESCRIPTION:Ο φυτικός\, ζωικός και ανθρώπινος κόσμος\, ο θρύλος\, ο μύθος\, η φαντασία και το όνειρο συνθέτουν τη νέα εικαστική θεματική του Βασίλη Παπαγεωργίου. Οι οξύμωροι ήρωες του\, τα ξυλοπλάσματα που εφευρίσκει\, βρίσκονται στον δισδιάστατο και τρισδιάστατο χώρο που μας περιβάλλει\, σε μια διαρκή περιδίνηση. Εποπτεύοντας αισθητικά\, το βάθος των συνεπειών της καταστροφής του κόσμου από την ανθρώπινη παρέμβαση\, δημιουργεί αξίες από πολιτισμικές αναφορές της παράδοσης και της φύσης\, οι οποίες ορίζουν τις παραμέτρους της συνύπαρξης.\n\nΏρες λειτουργίας: Δευτέρα-Παρασκευή 11:30- 14:30 & 17:30 – 20:30\, Σάββατο: 11:30-15:00
URL:https://cityfestival.thisisathens.org/event/vassilis-papageorgiou-zografiki-lignea-creatura-stans-2/2025-05-13/
LOCATION:Γκαλερί Έρση\, Κλεομένους 4\, Αθήνα\, Αθήνα\, 106 75\, Greece
CATEGORIES:ΓΚΑΛΕΡΙ,ΔΩΡΕΑΝ,ΕΚΘΕΣΗ,ΨΥΧΑΓΩΓΙΑ
ATTACH;FMTTYPE=image/jpeg:https://cityfestival.thisisathens.org/wp-content/uploads/2025/04/ΒΑΣΙΛΗΣ-ΠΑΠΑΓΕΩΡΓΙΟΥΑνάγνωση2023-Λάδι-σε-λινό-160-195-cm.jpg
END:VEVENT
BEGIN:VEVENT
DTSTART;TZID=Europe/Athens:20250513T120000
DTEND;TZID=Europe/Athens:20250513T130000
DTSTAMP:20260420T081900
CREATED:20250327T141912Z
LAST-MODIFIED:20250506T130045Z
UID:10002468-1747137600-1747141200@cityfestival.thisisathens.org
SUMMARY:Piano City Athens
DESCRIPTION:Η θεραπευτική δύναμη της μουσικής είναι κάτι που δεν αμφισβητείται. Το Φεστιβάλ του Δήμου Αθηναίων\, σε συνεργασία με το Piano City Athens\, φέρνει τη μουσική στο μεγαλύτερο νοσοκομείο της πόλης\, τον Ευαγγελισμό\, χαρίζοντας στιγμές χαλάρωσης στους ανθρώπους που τη χρειάζονται περισσότερο.\n\nΗ δράση απευθύνεται αποκλειστικά στο ιατρικό\, νοσηλευτικό και διοικητικό προσωπικό του νοσοκομείου.\n\n 
URL:https://cityfestival.thisisathens.org/event/piano-city-athens-4/
LOCATION:Νοσοκομείο Ευαγγελισμός\, Υψηλάντου 45-47\, Αθήνα\, Αθήνα\, 106 76\, Greece
CATEGORIES:ΔΩΡΕΑΝ,ΣΥΝΑΥΛΙΑ,ΨΥΧΑΓΩΓΙΑ
ATTACH;FMTTYPE=image/jpeg:https://cityfestival.thisisathens.org/wp-content/uploads/2025/03/20240516-TiACF-TGR-PianoCityAmerikisSq-0137-scaled.jpg
END:VEVENT
BEGIN:VEVENT
DTSTART;TZID=Europe/Athens:20250513T120000
DTEND;TZID=Europe/Athens:20250513T210000
DTSTAMP:20260420T081900
CREATED:20250424T104023Z
LAST-MODIFIED:20250506T131919Z
UID:10003822-1747137600-1747170000@cityfestival.thisisathens.org
SUMMARY:Βασίλης Καρακατσάνης: Αστικά Εργαλεία
DESCRIPTION:Το έργο του Βασίλη Καρακατσάνη μας προσκαλεί σε ένα ταξίδι μέσα στο φάσμα της σύγχρονης ύπαρξης: ένα πολύπλοκο\, συνεχώς εξελισσόμενο μείγμα αναμνήσεων\, συλλογικών ιστοριών και κοινωνικών δυναμικών. Η έκθεση «Αστικά Εργαλεία» παρουσιάζει μια συναρπαστική διαπραγμάτευση ανάμεσα στο παρελθόν και το παρόν\, το προσωπικό και το μνημειώδες. Επτά ζωγραφικά έργα μεγάλης κλίμακας\, μαζί με πλήθος μικρότερων έργων—όλα φτιαγμένα με ακρυλικό\, λάδι και γκουάς σε καμβά—μας προτρέπουν σε μια βαθιά διερεύνηση της ζωής σε όλες τις αποχρώσεις και τις υφές της.\n\nΣτον πυρήνα της πρακτικής του Καρακατσάνη βρίσκεται μια υπερβατική εσωτερική διεργασία υπό το πρίσμα της μνήμης και της υλικότητας. Ο τίτλος της έκθεσης υπονοεί τους κρυμμένους μηχανισμούς που ορίζουν την ουσία ενός τόπου: τα διεισδυτικά\, συχνά αθέατα εργαλεία που μας βοηθούν να πλοηγηθούμε\, να ορίσουμε και να ερμηνεύσουμε τα περιβάλλοντα που κατοικούμε\, καθώς και εκείνα που καθορίζουν και συνθέτουν την ίδια μας την ύπαρξη.\n\nΤο αστικό τοπίο δεν αποτελεί μόνο το αντικείμενο του καλλιτέχνη\, είναι το ίδιο το μέσο του. Κάθε πινελιά αποκαλύπτει την περίπλοκη σχέση μεταξύ της μοναδικότητάς του και των ιστοριών που κουβαλά. Σύμβολα προσωπικής και συλλογικής ταυτότητας\, ιδεολογιών και συναισθημάτων είναι συνυφασμένα στoν ιστό της καθημερινής πραγματικότητας.\n\nΕγκαίνια: Πέμπτη 8 Μαΐου 2025 και ώρα 20:00\n\nΏρες λειτουργίας: Τρίτη\, Πέμπτη\, Παρασκευή 12:00 – 21:00\, Σάββατο 12:00 – 15:00\, Τετάρτη\, Κυριακή και Δευτέρα\, κλειστά.
URL:https://cityfestival.thisisathens.org/event/vassilis-karakatsanis-astika-ergaleia/2025-05-13/
LOCATION:GenesisGallery\, Ιπποκράτους 121\, Αθήνα\, Αθήνα\, 114 72\, Greece
CATEGORIES:ΓΚΑΛΕΡΙ,ΔΩΡΕΑΝ,ΕΚΘΕΣΗ
ATTACH;FMTTYPE=image/jpeg:https://cityfestival.thisisathens.org/wp-content/uploads/2025/04/genesis-gallery-Vassilis-Karakatsanis-Urban-Tools-No34-the-drawerssecrets-2024-140X140cm.-acrylic-oil-gouache-on-canvas-scaled.jpg
END:VEVENT
END:VCALENDAR