BEGIN:VCALENDAR
VERSION:2.0
PRODID:-//Το Φεστιβάλ του Δήμου Αθηναίων - ECPv6.12.0.1//NONSGML v1.0//EN
CALSCALE:GREGORIAN
METHOD:PUBLISH
X-WR-CALNAME:Το Φεστιβάλ του Δήμου Αθηναίων
X-ORIGINAL-URL:https://cityfestival.thisisathens.org
X-WR-CALDESC:Events for Το Φεστιβάλ του Δήμου Αθηναίων
REFRESH-INTERVAL;VALUE=DURATION:PT1H
X-Robots-Tag:noindex
X-PUBLISHED-TTL:PT1H
BEGIN:VTIMEZONE
TZID:Europe/Athens
BEGIN:DAYLIGHT
TZOFFSETFROM:+0200
TZOFFSETTO:+0300
TZNAME:EEST
DTSTART:20250330T010000
END:DAYLIGHT
BEGIN:STANDARD
TZOFFSETFROM:+0300
TZOFFSETTO:+0200
TZNAME:EET
DTSTART:20251026T010000
END:STANDARD
END:VTIMEZONE
BEGIN:VEVENT
DTSTART;TZID=Europe/Athens:20250514T103000
DTEND;TZID=Europe/Athens:20250514T120000
DTSTAMP:20260422T035022
CREATED:20250422T133421Z
LAST-MODIFIED:20250506T125945Z
UID:10003623-1747218600-1747224000@cityfestival.thisisathens.org
SUMMARY:Γνωρίστε το Μουσείο του Εθνικού Τυπογραφείου - ΜΕΤ
DESCRIPTION:Μια επίσκεψη στο Μουσείο του Εθνικού Τυπογραφείου και την ιστορική συλλογή του. Οι επισκέπτες θα δουν από κοντά αντιπροσωπευτικά δείγματα του μηχανολογικού εξοπλισμού και των εκτυπωτικών προϊόντων του Τυπογραφείου. Παράλληλα\, θα έχουν την ευκαιρία να εξοικειωθούν με τις παραδοσιακές τεχνικές της τυπογραφίας και τις συνθήκες του επαγγέλματος του τυπογράφου.\n\nΑπαιτείται η κράτηση θέσης.
URL:https://cityfestival.thisisathens.org/event/gnoriste-mouseio-ethnikou-typografeiou-2/
LOCATION:Μουσείο Εθνικού Τυπογραφείου\, Καποδιστρίου 34\, Αθήνα\, Αθήνα\, 104 32\, Greece
CATEGORIES:ΔΩΡΕΑΝ,ΕΚΘΕΣΗ,ΜΟΥΣΕΙΟ,ΠΕΡΙΗΓΗΣΗ
ATTACH;FMTTYPE=image/jpeg:https://cityfestival.thisisathens.org/wp-content/uploads/2025/04/ΑΙΘΟΥΣΑ-Α-ΜΟΥΣΕΙΟΥ-ΕΤ-scaled.jpg
END:VEVENT
BEGIN:VEVENT
DTSTART;TZID=Europe/Athens:20250514T120000
DTEND;TZID=Europe/Athens:20250514T133000
DTSTAMP:20260422T035022
CREATED:20250411T082853Z
LAST-MODIFIED:20250506T125915Z
UID:10003473-1747224000-1747229400@cityfestival.thisisathens.org
SUMMARY:Μουσείο Κοσμήματος Ηλία Λαλαούνη: Curators Tour
DESCRIPTION:• Ξενάγηση στις μόνιμες συλλογές του ΜΚΗΛ από Επιμελητή του ΜΚΗΛ.\n• Βίντεο – προβολή σε ειδικά διαμορφωμένους χώρους αναφορικά με την ιστορία των συλλογών\, αλλά και τις αρχαίες τεχνικές της μεταλλοτεχνίας.\n• Επίσκεψη στα Ζωντανά Εργαστήρια Μεταλλοτεχνίας & Διακοσμητικών και Εικαστικών Τεχνών: τα δύο ζωντανά εργαστήρια προσφέρουν στους επισκέπτες την εμπειρία διάδρασης με τους καλλιτέχνες και τους δημιουργούς\, δίνοντας την ευκαιρία να συμμετέχουν ενεργά στην ανταλλαγή γνώσεων και πληροφοριών σχετικά με τα μυστικά της κοσμηματοποιίας και της σύγχρονης δημιουργίας και σχεδιασμού.\n\nΑπαιτείται η κράτηση θέσης: +210 92 21 044 ή στο +210 92 39 709\n\nΟι κρατήσεις ανοίγουν 7/5\, στις 12:00 το μεσημέρι.
URL:https://cityfestival.thisisathens.org/event/mouseio-kosmimatos-ilia-lalouni-curators-tour/
LOCATION:Μουσείο Κοσμήματος Ηλία Λαλαούνη\, Καλλισπέρη 12\, Αθήνα\, Αθήνα\, 117 42\, Greece
CATEGORIES:ΔΩΡΕΑΝ,ΕΚΘΕΣΗ,ΜΟΥΣΕΙΟ,ΠΕΡΙΗΓΗΣΗ
ATTACH;FMTTYPE=image/jpeg:https://cityfestival.thisisathens.org/wp-content/uploads/2025/04/ILJM-PERMANENT-COLLECTION-1-scaled.jpg
END:VEVENT
BEGIN:VEVENT
DTSTART;TZID=Europe/Athens:20250514T123000
DTEND;TZID=Europe/Athens:20250514T133000
DTSTAMP:20260422T035022
CREATED:20250423T121947Z
LAST-MODIFIED:20250506T125842Z
UID:10003636-1747225800-1747229400@cityfestival.thisisathens.org
SUMMARY:Κύπρος 74 - Δεν Ξεχνώ
DESCRIPTION:Ξενάγηση στην έκθεση μνήμης με αφορμή τη συμπλήρωση 50 χρόνων από την τουρκική εισβολή στην Κύπρο. Μέσα από σπάνιες αφίσες της εποχής και αντίστοιχο φωτογραφικό υλικό\, η έκθεση φιλοδοξεί να αναδείξει τα γεγονότα της κυπριακής τραγωδίας\, την πανελλήνια συμπαράσταση στον λαό της Κύπρου και τον συνεχή αγώνα του για ελευθερία και δικαιοσύνη.\n\nΑπαιτείται η κράτηση θέσης: +210 322 2266 (εσωτ. 109)\, Τρίτη-Παρασκευή\, 09:00-15:00.\nΟι κρατήσεις ανοίγουν μία εβδομάδα πριν τη δράση\, στις 12:00 το μεσημέρι.
URL:https://cityfestival.thisisathens.org/event/kypros-74-den-ksexnw/
LOCATION:Εθνικό Ιστορικό Μουσείο\, Σταδίου 13\, Αθήνα\, Αθήνα\, 105 61\, Greece
CATEGORIES:ΔΩΡΕΑΝ,ΕΚΘΕΣΗ,ΜΟΥΣΕΙΟ,ΠΕΡΙΗΓΗΣΗ
ATTACH;FMTTYPE=image/jpeg:https://cityfestival.thisisathens.org/wp-content/uploads/2025/04/ΚΥΠΡΟΣ.jpg
END:VEVENT
END:VCALENDAR