BEGIN:VCALENDAR
VERSION:2.0
PRODID:-//Το Φεστιβάλ του Δήμου Αθηναίων - ECPv6.12.0.1//NONSGML v1.0//EN
CALSCALE:GREGORIAN
METHOD:PUBLISH
X-WR-CALNAME:Το Φεστιβάλ του Δήμου Αθηναίων
X-ORIGINAL-URL:https://cityfestival.thisisathens.org
X-WR-CALDESC:Events for Το Φεστιβάλ του Δήμου Αθηναίων
REFRESH-INTERVAL;VALUE=DURATION:PT1H
X-Robots-Tag:noindex
X-PUBLISHED-TTL:PT1H
BEGIN:VTIMEZONE
TZID:Europe/Athens
BEGIN:DAYLIGHT
TZOFFSETFROM:+0200
TZOFFSETTO:+0300
TZNAME:EEST
DTSTART:20250330T010000
END:DAYLIGHT
BEGIN:STANDARD
TZOFFSETFROM:+0300
TZOFFSETTO:+0200
TZNAME:EET
DTSTART:20251026T010000
END:STANDARD
END:VTIMEZONE
BEGIN:VEVENT
DTSTART;TZID=Europe/Athens:20250515T190000
DTEND;TZID=Europe/Athens:20250515T220000
DTSTAMP:20260419T174207
CREATED:20250509T212910Z
LAST-MODIFIED:20250509T215302Z
UID:10003941-1747335600-1747346400@cityfestival.thisisathens.org
SUMMARY:Από τη Γη στον Ουρανό
DESCRIPTION:Αρχαιολογικός και Αστρονομικός Περίπατος. Μια διαδρομή αρχαιολογικού και αστρονομικού ενδιαφέροντος στους λόφους γύρω από το Αστεροσκοπείο\, την ώρα του μαγευτικού δειλινού.\nΗ περιήγηση ξεκινά από τους δυτικούς λόφους της Ακρόπολης\, της Πνύκας\, των Νυμφών και του Φιλοπάππου (Μουσών)\, όπου αποτυπώνεται η ιστορία και η καθημερινότητα της αρχαίας Αθήνας. Το ιερό των Μουσών\, ο εντυπωσιακός τάφος του πρίγκιπα Φιλοπάππου\, τα Κιμώνεια Μνήματα\, η εκκλησία του Αγίου Δημητρίου Λουμπαρδιάρη\, τα λαξεύματα στους βράχους των αρχαίων συνοικιών της Μελίτης και της Κοίλης\, η Πνύκα\, το Ηλιοτρόπιο του Μέτωνα – ένα αρχαίο παρατηρητήριο και οι «φυλακές» του Σωκράτη αποτελούν τους κύριους σταθμούς της περιήγησής μας.\nΣυνδετικός κρίκος όλων αυτών τα λιθόστρωτα μονοπάτια του Πικιώνη\, ένα έργο μοναδικό στο είδος του που συνδυάζει το παλιό με το νέο\, το τότε με το τώρα. Ένας μοναδικός αρχαιολογικός χώρος και υπέροχες όψεις της πόλης από ψηλά και το κτίριο Σίνα\, στο λόφο των Νυμφών\, το οποίο ιδρύθηκε το 1842 για να στεγάσει το πρώτο ερευνητικό ίδρυμα της χώρας μας\, το Εθνικό Αστεροσκοπείο Αθηνών.\nΣτο μουσείο Γεωαστροφυσικής οι επισκέπτες θα έχουν την ευκαιρία να γνωρίσουν την σύγχρονη ιστορία της Αστρονομίας στη χώρα μας. Η περιήγηση καταλήγει σε παρατήρηση του ουρανού μέσα από τηλεσκόπιο του Αστεροσκοπείου.\n\nΣημείο Συνάντησης: Ιερός Ναός Αγίου Δημητρίου Λουμπαρδιάρη\n\nΑπαιτείται η κράτηση θέσης.
URL:https://cityfestival.thisisathens.org/event/apo-ti-gi-ston-ourano/
LOCATION:Ιερός Ναός Αγίου Δημητρίου Λουμπαρδιάρη\, Λόφος Φιλοπάππου\, Αθήνα\, Αθήνα\, 117 41\, Greece
CATEGORIES:ΔΩΡΕΑΝ,ΠΕΡΙΗΓΗΣΗ,ΥΠΑΙΘΡΙΑ ΔΡΑΣΗ
ATTACH;FMTTYPE=image/jpeg:https://cityfestival.thisisathens.org/wp-content/uploads/2025/05/Sinas_building_day_Papanikolaou.jpg
END:VEVENT
END:VCALENDAR