BEGIN:VCALENDAR
VERSION:2.0
PRODID:-//Το Φεστιβάλ του Δήμου Αθηναίων - ECPv6.12.0.1//NONSGML v1.0//EN
CALSCALE:GREGORIAN
METHOD:PUBLISH
X-ORIGINAL-URL:https://cityfestival.thisisathens.org
X-WR-CALDESC:Events for Το Φεστιβάλ του Δήμου Αθηναίων
REFRESH-INTERVAL;VALUE=DURATION:PT1H
X-Robots-Tag:noindex
X-PUBLISHED-TTL:PT1H
BEGIN:VTIMEZONE
TZID:Europe/Athens
BEGIN:DAYLIGHT
TZOFFSETFROM:+0200
TZOFFSETTO:+0300
TZNAME:EEST
DTSTART:20250330T010000
END:DAYLIGHT
BEGIN:STANDARD
TZOFFSETFROM:+0300
TZOFFSETTO:+0200
TZNAME:EET
DTSTART:20251026T010000
END:STANDARD
END:VTIMEZONE
BEGIN:VEVENT
DTSTART;TZID=Europe/Athens:20250516T100000
DTEND;TZID=Europe/Athens:20250516T180000
DTSTAMP:20260420T111641
CREATED:20250424T102622Z
LAST-MODIFIED:20250425T160020Z
UID:10003784-1747389600-1747418400@cityfestival.thisisathens.org
SUMMARY:CONQUISTADORS
DESCRIPTION:Ο Νίκος Κυριακόπουλος και οι conquistadors του\, αποβιβάζονται στη Λένορμαν.\nΔράκοι και άγρια θηρία\, ντόπιοι και conquistadors αλλά και ο Θάνατος αυτοπροσώπως\, μάχονται μέσα σε απάτητες ζούγκλες.\n\nΤα 36 έργα που απαρτίζουν την έκθεση\, δεν έχουν στόχο να υπηρετήσουν την ιστορία ή το ιστορικό genre της ζωγραφικής. Ο καλλιτέχνης αντλεί το υλικό του από τον μύθο που συνοδεύει την Εποχή των Ανακαλύψεων και πλάθει εικόνες μακριά και πέραν του νατουραλισμού\, τόσο σε μορφολογικό όσο και σε επίπεδο θεματικού περιεχομένου.\nΤα έργα έχουν δημιουργηθεί με την μέθοδο της μονοτυπίας\, τεχνική που χρονολογείται από τον 16ο αιώνα και που\, σε συνδυασμό με τις ιστορίες που περιγράφουν\, αποκτούν ένα ακόμη ιδιαίτερο ενδιαφέρον.\nΟι περιπέτειες των ηρώων αποτελούν αφορμή όχι μόνο για τις περιπέτειες της γραμμής και του χρώματος\, αλλά και αφετηρία για στοχασμό πάνω σε έννοιες όπως αυτές της επιθυμίας\, του φόβου\, της σύγκρουσης ή της πλάνης.\n\nΕγκαίνια: Πέμπτη 8 Μαΐου 2025 και ώρα 19:30 – 23:00\n\nΏρες λειτουργίας:\nΚαθημερινά 10:00 – 18:00\nΣάββατο 11:00 – 15:00\nΚυριακή κλειστά
URL:https://cityfestival.thisisathens.org/event/conquistadors/2025-05-16/
LOCATION:Πολιτιστικός Χώρος Macart\, Λένορμαν 244\, Αθήνα\, Αθήνα\, 104 43\, Greece
CATEGORIES:ΓΚΑΛΕΡΙ,ΔΩΡΕΑΝ,ΕΚΘΕΣΗ,ΨΥΧΑΓΩΓΙΑ
ATTACH;FMTTYPE=image/jpeg:https://cityfestival.thisisathens.org/wp-content/uploads/2025/04/DSC_7775-1.jpg
END:VEVENT
BEGIN:VEVENT
DTSTART;TZID=Europe/Athens:20250516T113000
DTEND;TZID=Europe/Athens:20250516T203000
DTSTAMP:20260420T111641
CREATED:20250424T085600Z
LAST-MODIFIED:20250506T132608Z
UID:10003742-1747395000-1747427400@cityfestival.thisisathens.org
SUMMARY:Βασίλης Παπαγεωργίου - Ζωγραφική και Γλυπτική: Lignea Creatura Stans
DESCRIPTION:Ο φυτικός\, ζωικός και ανθρώπινος κόσμος\, ο θρύλος\, ο μύθος\, η φαντασία και το όνειρο συνθέτουν τη νέα εικαστική θεματική του Βασίλη Παπαγεωργίου. Οι οξύμωροι ήρωες του\, τα ξυλοπλάσματα που εφευρίσκει\, βρίσκονται στον δισδιάστατο και τρισδιάστατο χώρο που μας περιβάλλει\, σε μια διαρκή περιδίνηση. Εποπτεύοντας αισθητικά\, το βάθος των συνεπειών της καταστροφής του κόσμου από την ανθρώπινη παρέμβαση\, δημιουργεί αξίες από πολιτισμικές αναφορές της παράδοσης και της φύσης\, οι οποίες ορίζουν τις παραμέτρους της συνύπαρξης.\n\nΏρες λειτουργίας: Δευτέρα-Παρασκευή 11:30- 14:30 & 17:30 – 20:30\, Σάββατο: 11:30-15:00
URL:https://cityfestival.thisisathens.org/event/vassilis-papageorgiou-zografiki-lignea-creatura-stans-2/2025-05-16/
LOCATION:Γκαλερί Έρση\, Κλεομένους 4\, Αθήνα\, Αθήνα\, 106 75\, Greece
CATEGORIES:ΓΚΑΛΕΡΙ,ΔΩΡΕΑΝ,ΕΚΘΕΣΗ,ΨΥΧΑΓΩΓΙΑ
ATTACH;FMTTYPE=image/jpeg:https://cityfestival.thisisathens.org/wp-content/uploads/2025/04/ΒΑΣΙΛΗΣ-ΠΑΠΑΓΕΩΡΓΙΟΥΑνάγνωση2023-Λάδι-σε-λινό-160-195-cm.jpg
END:VEVENT
BEGIN:VEVENT
DTSTART;TZID=Europe/Athens:20250516T170000
DTEND;TZID=Europe/Athens:20250516T210000
DTSTAMP:20260420T111641
CREATED:20250513T132858Z
LAST-MODIFIED:20250514T082709Z
UID:10003951-1747414800-1747429200@cityfestival.thisisathens.org
SUMMARY:Παρασκευή στην Πλατεία με τις Πρεσβείες της Γεωργίας της Ουγγαρίας και της Σερβίας
DESCRIPTION:H Πρεσβεία της Ουγγαρίας στην Αθήνα\, σε συνεργασία με τις Πρεσβείες της Σερβίας και της Γεωργίας\, διοργανώνει μια μοναδική πολιτιστική δράση στην ιστορική πλατεία Κλαυθμώνος\, στο κέντρο της πόλης.\nΤο πρόγραμμα περιλαμβάνει γευσιγνωσία παραδοσιακών εδεσμάτων και ποτών\, όπως gulyás\, pogácsa και το γλυκό «καμινάδα».\n\nΣτις 19:30\, η χορευτική ομάδα του Ελληνικού Κέντρου Λαογραφικών Μελετών (ΕΛ.ΚΕ.ΛΑ.Μ) θα παρουσιάσει παραδοσιακούς ουγγρικούς χορούς.
URL:https://cityfestival.thisisathens.org/event/paraskevi-stin-plateia/
LOCATION:Πλατεία Κλαυθμώνος\, Πλατεία Κλαυθμώνος\, Αθήνα\, Αθήνα\, 105 61\, Greece
CATEGORIES:ΓΑΣΤΡΟΝΟΜΙΑ,ΔΩΡΕΑΝ,ΥΠΑΙΘΡΙΑ ΔΡΑΣΗ,ΧΟΡΟΣ,ΨΥΧΑΓΩΓΙΑ
ATTACH;FMTTYPE=image/jpeg:https://cityfestival.thisisathens.org/wp-content/uploads/2025/05/tom-feb-Qqmk9ap9JPY-unsplash-scaled.jpg
END:VEVENT
BEGIN:VEVENT
DTSTART;TZID=Europe/Athens:20250516T173000
DTEND;TZID=Europe/Athens:20250516T223000
DTSTAMP:20260420T111641
CREATED:20250512T173413Z
LAST-MODIFIED:20250512T185512Z
UID:10003944-1747416600-1747434600@cityfestival.thisisathens.org
SUMMARY:6ο Φεστιβάλ Αστυνομικής Λογοτεχνίας
DESCRIPTION:Το 6ο Φεστιβάλ Αστυνομικής Λογοτεχνίας Agatha στην Αθήνα είναι γεγονός! \nΗ διοργάνωση-σταθμός για την ελληνική αστυνομική λογοτεχνία έρχεται ξανά\, για έκτη συνεχόμενη χρονιά\, να φέρει κοντά ανα-γνώστες\, συγγραφείς και εκδότες στη μεγάλη γιορτή του βιβλίου.\nΟι εργασίες του φεστιβάλ κορυφώνονται το τριήμερο 16\, 17 και 18 Μαΐου 2025\, στο Πολεμικό Μουσείο (Βασ. Σοφίας & Ριζάρη 2\, Αθήνα). \nΤιμές Εισιτηρίων: \nΗμερήσιο 6€ \nΤριήμερο 14€\n \nΑναλυτικό πρόγραμμα: \n \n\nΠαρασκευή 16 Μαΐου – Αίθουσα Ρήγας Φεραίος\n\n17:30: Πέτρος Μάρκαρης vs Κώστας Χαρίτος.\n\nΜια συζήτηση εφ’ όλης της ύλης για τον συγγραφέα και τον άνθρωπο Πέτρο Μάρκαρη και τον πασίγνωστο ήρωα του Κώστα Χαρίτο.\n\nΟμιλητές: Γρηγόρης Αζαριάδης (συγγραφέας\, κριτικός αστυνομικής λογοτεχνίας)\, Βάσω Κυριαζάκου (μεταφράστρια\, επιμελήτρια).\n\n \n\n19:00: Αφιέρωμα: Romy Hausmann\n\nΠαρουσίαση και ομιλία της συγγραφέα\, σε συνεργασία με το Ινστιτούτο ÖSD Ελλάδας και τις εκδόσεις Μεταίχμιο.\n\nΟμιλητές: Βαγγέλης Γιαννίσης (συγγραφέας και μεταφραστής)\, Κλαίρη Θεοδώρου (συγγραφέας).\n\nΣτην εκδήλωση θα υπάρχει διαδοχική διερμηνεία από την Κλαίρη Θεοδώρου.\n\n \n\n20:30: Debate: Κλασικό VS σύγχρονο αστυνομικό μυθιστόρημα\n\nΗ Ελληνική Λέσχη Συγγραφέων Αστυνομικής Λογοτεχνίας (ΕΛΣΑΛ) διοργανώνει μια εκδήλωση που πλέον έχει γίνει παράδοση. Από τη μια πλευρά του «ρινγκ»\, υποστηρίζοντας τους «δεινόσαυρους» της αστυνομικής λογοτεχνίας\, οι συγγραφείς Αλίκη Αλιφέρη\, Γεωργία Παπαλυμπέρη και Κώστας Στοφόρος\, ενώ απέναντι\, στο πλευρό της πιο «φρέσκιας» άποψης\, οι Τεύκρος Μιχαηλίδης\, Τέση Παπαθανασίου και Έλενα Χουσνή.\n\nΣυντονίζει η Έρικα Αθανασίου (συγγραφέας).\n 
URL:https://cityfestival.thisisathens.org/event/6o-festival-astynomikis-logotehnias/
LOCATION:Πολεμικό Μουσείο\, Ριζάρη 2-4\, Αθήνα\, Αθήνα\, 106 75\, Greece
CATEGORIES:ΛΟΓΟΤΕΧΝΙΑ,ΨΥΧΑΓΩΓΙΑ
ATTACH;FMTTYPE=image/jpeg:https://cityfestival.thisisathens.org/wp-content/uploads/2025/05/Φεστιβάλ-Αστυνομικής-Λογοτεχνίαςjpg.jpg
END:VEVENT
BEGIN:VEVENT
DTSTART;TZID=Europe/Athens:20250516T180000
DTEND;TZID=Europe/Athens:20250516T230000
DTSTAMP:20260420T111641
CREATED:20250403T113417Z
LAST-MODIFIED:20250516T124405Z
UID:10003353-1747418400-1747436400@cityfestival.thisisathens.org
SUMMARY:Γκύζη Street Party
DESCRIPTION:Ένας από τους πιο καταξιωμένους Έλληνες δισκοθέτες επιστρέφει στη γειτονιά του για ένα tribute\, στο πλαίσιο του Gyzi Street Party.\n\nΗ συμμετοχή των Reverb Sessions στο Φεστιβάλ του Δήμου Αθηναίων αναδεικνύει την αυθεντική εναλλακτική κουλτούρα της πόλης\, μέσα από τις διαφορετικές μορφές τέχνης\, τη διαφορετικότητα των συντελεστών\, την ποικιλομορφία και την πολυφυλετικότητα. Με έμβλημα τη δύναμη της ενότητας και συνδετικό κρίκο την τέχνη\, κυρίως τη χορευτική ηλεκτρονική μουσική\, η ομάδα των Reverb Sessions μετατρέπει για ένα απόγευμα μία από τις πιο κεντρικές πλατείες της πόλης σε ένα open-air club\, όπου παρελθόν\, παρόν και μέλλον συνδέονται.
URL:https://cityfestival.thisisathens.org/event/gyzi-street-party/
LOCATION:Πλατεία Γκύζη\, Πλατεία Γκύζη\, Αθήνα\, Αθήνα\, 114 74\, Greece
CATEGORIES:DJ SET,ΔΩΡΕΑΝ,ΠΑΡΤΙ,ΥΠΑΙΘΡΙΑ ΔΡΑΣΗ,ΨΥΧΑΓΩΓΙΑ
ATTACH;FMTTYPE=image/jpeg:https://cityfestival.thisisathens.org/wp-content/uploads/2025/04/20240509-TiACF-OSF-GyziParty-0004-scaled.jpg
END:VEVENT
BEGIN:VEVENT
DTSTART;TZID=Europe/Athens:20250516T183000
DTEND;TZID=Europe/Athens:20250516T230000
DTSTAMP:20260420T111641
CREATED:20250403T115200Z
LAST-MODIFIED:20250509T111502Z
UID:10003357-1747420200-1747436400@cityfestival.thisisathens.org
SUMMARY:Best 92 6 Party
DESCRIPTION:Εδώ και πάνω από δύο δεκαετίες\, ο Best 92.6 αποτελεί σταθερή αξία στο ραδιόφωνο. Έχοντας δημιουργήσει ένα πιστό κοινό που τον ακολουθεί με πάθος\, ο Best 92.6 επιστρέφει στο Φεστιβάλ του Δήμου Αθηναίων για να μας χαρίσει τις πιο φρέσκιες μουσικές επιλογές από την ηλεκτρονική σκηνή\, στο Best 92.6 Party\, που θα πραγματοποιηθεί στον θερινό κινηματογράφο της Αίγλης Ζαππείου.
URL:https://cityfestival.thisisathens.org/event/best-92-6-party/
LOCATION:Αίγλη Ζαππείου\, Aigli Zappeiou\, Αθήνα\, Αθήνα\, 105 57\, Greece
CATEGORIES:DJ SET,ΔΩΡΕΑΝ,ΠΑΡΤΙ,ΥΠΑΙΘΡΙΑ ΔΡΑΣΗ,ΨΥΧΑΓΩΓΙΑ
ATTACH;FMTTYPE=image/jpeg:https://cityfestival.thisisathens.org/wp-content/uploads/2025/04/Best-92.6-Party.jpg
END:VEVENT
END:VCALENDAR