BEGIN:VCALENDAR
VERSION:2.0
PRODID:-//Το Φεστιβάλ του Δήμου Αθηναίων - ECPv6.12.0.1//NONSGML v1.0//EN
CALSCALE:GREGORIAN
METHOD:PUBLISH
X-ORIGINAL-URL:https://cityfestival.thisisathens.org
X-WR-CALDESC:Events for Το Φεστιβάλ του Δήμου Αθηναίων
REFRESH-INTERVAL;VALUE=DURATION:PT1H
X-Robots-Tag:noindex
X-PUBLISHED-TTL:PT1H
BEGIN:VTIMEZONE
TZID:Europe/Athens
BEGIN:DAYLIGHT
TZOFFSETFROM:+0200
TZOFFSETTO:+0300
TZNAME:EEST
DTSTART:20250330T010000
END:DAYLIGHT
BEGIN:STANDARD
TZOFFSETFROM:+0300
TZOFFSETTO:+0200
TZNAME:EET
DTSTART:20251026T010000
END:STANDARD
END:VTIMEZONE
BEGIN:VEVENT
DTSTART;TZID=Europe/Athens:20250517T110000
DTEND;TZID=Europe/Athens:20250517T150000
DTSTAMP:20260420T111536
CREATED:20250424T102622Z
LAST-MODIFIED:20250425T160020Z
UID:10003785-1747479600-1747494000@cityfestival.thisisathens.org
SUMMARY:CONQUISTADORS
DESCRIPTION:Ο Νίκος Κυριακόπουλος και οι conquistadors του\, αποβιβάζονται στη Λένορμαν.\nΔράκοι και άγρια θηρία\, ντόπιοι και conquistadors αλλά και ο Θάνατος αυτοπροσώπως\, μάχονται μέσα σε απάτητες ζούγκλες.\n\nΤα 36 έργα που απαρτίζουν την έκθεση\, δεν έχουν στόχο να υπηρετήσουν την ιστορία ή το ιστορικό genre της ζωγραφικής. Ο καλλιτέχνης αντλεί το υλικό του από τον μύθο που συνοδεύει την Εποχή των Ανακαλύψεων και πλάθει εικόνες μακριά και πέραν του νατουραλισμού\, τόσο σε μορφολογικό όσο και σε επίπεδο θεματικού περιεχομένου.\nΤα έργα έχουν δημιουργηθεί με την μέθοδο της μονοτυπίας\, τεχνική που χρονολογείται από τον 16ο αιώνα και που\, σε συνδυασμό με τις ιστορίες που περιγράφουν\, αποκτούν ένα ακόμη ιδιαίτερο ενδιαφέρον.\nΟι περιπέτειες των ηρώων αποτελούν αφορμή όχι μόνο για τις περιπέτειες της γραμμής και του χρώματος\, αλλά και αφετηρία για στοχασμό πάνω σε έννοιες όπως αυτές της επιθυμίας\, του φόβου\, της σύγκρουσης ή της πλάνης.\n\nΕγκαίνια: Πέμπτη 8 Μαΐου 2025 και ώρα 19:30 – 23:00\n\nΏρες λειτουργίας:\nΚαθημερινά 10:00 – 18:00\nΣάββατο 11:00 – 15:00\nΚυριακή κλειστά
URL:https://cityfestival.thisisathens.org/event/conquistadors/2025-05-17/
LOCATION:Πολιτιστικός Χώρος Macart\, Λένορμαν 244\, Αθήνα\, Αθήνα\, 104 43\, Greece
CATEGORIES:ΓΚΑΛΕΡΙ,ΔΩΡΕΑΝ,ΕΚΘΕΣΗ,ΨΥΧΑΓΩΓΙΑ
ATTACH;FMTTYPE=image/jpeg:https://cityfestival.thisisathens.org/wp-content/uploads/2025/04/DSC_7775-1.jpg
END:VEVENT
BEGIN:VEVENT
DTSTART;TZID=Europe/Athens:20250517T113000
DTEND;TZID=Europe/Athens:20250517T150000
DTSTAMP:20260420T111536
CREATED:20250424T085600Z
LAST-MODIFIED:20250506T132608Z
UID:10003743-1747481400-1747494000@cityfestival.thisisathens.org
SUMMARY:Βασίλης Παπαγεωργίου - Ζωγραφική και Γλυπτική: Lignea Creatura Stans
DESCRIPTION:Ο φυτικός\, ζωικός και ανθρώπινος κόσμος\, ο θρύλος\, ο μύθος\, η φαντασία και το όνειρο συνθέτουν τη νέα εικαστική θεματική του Βασίλη Παπαγεωργίου. Οι οξύμωροι ήρωες του\, τα ξυλοπλάσματα που εφευρίσκει\, βρίσκονται στον δισδιάστατο και τρισδιάστατο χώρο που μας περιβάλλει\, σε μια διαρκή περιδίνηση. Εποπτεύοντας αισθητικά\, το βάθος των συνεπειών της καταστροφής του κόσμου από την ανθρώπινη παρέμβαση\, δημιουργεί αξίες από πολιτισμικές αναφορές της παράδοσης και της φύσης\, οι οποίες ορίζουν τις παραμέτρους της συνύπαρξης.\n\nΏρες λειτουργίας: Δευτέρα-Παρασκευή 11:30- 14:30 & 17:30 – 20:30\, Σάββατο: 11:30-15:00
URL:https://cityfestival.thisisathens.org/event/vassilis-papageorgiou-zografiki-lignea-creatura-stans-2/2025-05-17/
LOCATION:Γκαλερί Έρση\, Κλεομένους 4\, Αθήνα\, Αθήνα\, 106 75\, Greece
CATEGORIES:ΓΚΑΛΕΡΙ,ΔΩΡΕΑΝ,ΕΚΘΕΣΗ,ΨΥΧΑΓΩΓΙΑ
ATTACH;FMTTYPE=image/jpeg:https://cityfestival.thisisathens.org/wp-content/uploads/2025/04/ΒΑΣΙΛΗΣ-ΠΑΠΑΓΕΩΡΓΙΟΥΑνάγνωση2023-Λάδι-σε-λινό-160-195-cm.jpg
END:VEVENT
BEGIN:VEVENT
DTSTART;TZID=Europe/Athens:20250517T173000
DTEND;TZID=Europe/Athens:20250517T230000
DTSTAMP:20260420T111536
CREATED:20250403T125043Z
LAST-MODIFIED:20250506T125115Z
UID:10003368-1747503000-1747522800@cityfestival.thisisathens.org
SUMMARY:Yucatan
DESCRIPTION:Το όνομα Yucatan φιγουράρει σε μερικά από τα πιο εντυπωσιακά πάρτυ των τελευταίων ετών. Η ομάδα-φαινόμενο\, που έχει καταφέρει να μετατρέψει το lifestyle της σε trend\, συνεργάζεται με την Sensory Production και έρχεται στο Φεστιβάλ του Δήμου Αθηναίων.\n\nΜε εμφανίσεις που χαρακτηρίζονται από την απόλυτη προσοχή στη λεπτομέρεια\, συνεργασίες με καταξιωμένους καλλιτέχνες και τον συνδυασμό μουσικής\, μόδας και τέχνης\, οι δυο ομάδες ενώνουν τις δυνάμεις τους και μεταμορφώνουν το μονοπάτι με τις γιακαράντες στο Ζάππειο σε ένα μοναδικό open air club\, με απίστευτη μουσική και μοναδική ατμόσφαιρα.
URL:https://cityfestival.thisisathens.org/event/yucatan/
LOCATION:Ζάππειο Μέγαρο\, Zappeion Hall\, Αθήνα\, Αθήνα\, 105 57\, Greece
CATEGORIES:DJ SET,ΔΩΡΕΑΝ,ΠΑΡΤΙ,ΥΠΑΙΘΡΙΑ ΔΡΑΣΗ,ΨΥΧΑΓΩΓΙΑ
ATTACH;FMTTYPE=image/jpeg:https://cityfestival.thisisathens.org/wp-content/uploads/2025/04/20240510-TiACF-GMK-Yucatan-0033-scaled.jpg
GEO:37.971705378867;23.736738299693
X-APPLE-STRUCTURED-LOCATION;VALUE=URI;X-ADDRESS=Ζάππειο Μέγαρο Zappeion Hall Αθήνα Αθήνα 105 57 Greece;X-APPLE-RADIUS=500;X-TITLE=Zappeion Hall:geo:23.736738299693,37.971705378867
END:VEVENT
BEGIN:VEVENT
DTSTART;TZID=Europe/Athens:20250517T180000
DTEND;TZID=Europe/Athens:20250517T190000
DTSTAMP:20260420T111536
CREATED:20250403T121443Z
LAST-MODIFIED:20250506T124600Z
UID:10003363-1747504800-1747508400@cityfestival.thisisathens.org
SUMMARY:Λύκειον των Ελληνίδων
DESCRIPTION:Το Λύκειον των Ελληνίδων\, σωματείο μη κερδοσκοπικού χαρακτήρα\, ιδρύθηκε το 1911 από την Καλλιρρόη Σιγανού-Παρρέν\, πρωτοπόρο του φεμινιστικού κινήματος και του εθελοντισμού στην Ελλάδα.\n\nΕίναι διαρθρωμένο σε τμήματα\, τα οποία συστάθηκαν για την πληρέστερη επίτευξη των πολλαπλών σκοπών του. Στο Καταστατικό του 1911 περιλαμβάνονταν μόλις 4 τμήματα τα οποία διακρίνονταν σε επιμέρους εφορείες. Σήμερα το ΛτΕ απαρτίζεται από 17 τμήματα\, ένα εκ των οποίων είναι το Τμήμα Εθνικών Χορών.\n\nΗ Χορευτική Ομάδα του ΛτΕ θα παρουσιάσει ένα πρόγραμμα αντιπροσωπευτικών ελληνικών παραδοσιακών χορών\, συνοδεία ζωντανής παραδοσιακής μουσικής\, μέσω του οποίου οι θεατές θα έχουν την ευκαιρία να θαυμάσουν την ποικιλομορφία της ελληνικής τοπικής φορεσιάς.\n\n“Πλατεία” πίσω από το ηλιακό ρολόι\, από την είσοδο της Λεωφόρου Βασιλίσσης Αμαλίας
URL:https://cityfestival.thisisathens.org/event/lykeion-ton-ellinidon/
LOCATION:Εθνικός Κήπος\, Βασ. Αμαλίας 1\, Αθήνα\, Αθήνα\, 105 57\, Greece
CATEGORIES:ΔΩΡΕΑΝ,ΥΠΑΙΘΡΙΑ ΔΡΑΣΗ,ΧΟΡΟΣ,ΨΥΧΑΓΩΓΙΑ
ATTACH;FMTTYPE=image/jpeg:https://cityfestival.thisisathens.org/wp-content/uploads/2025/04/λτε.jpg
END:VEVENT
BEGIN:VEVENT
DTSTART;TZID=Europe/Athens:20250517T180000
DTEND;TZID=Europe/Athens:20250517T230000
DTSTAMP:20260420T111536
CREATED:20250513T162308Z
LAST-MODIFIED:20250513T162702Z
UID:10003956-1747504800-1747522800@cityfestival.thisisathens.org
SUMMARY:Πρατίνου Street Party
DESCRIPTION:Μια πραγματική και ολοζώντανη  γειτονιά στο κέντρο της πόλης γιορτάζει! Ο Pepper 96.6 και τα καταστήματα της οδού Πρατίνου στο Παγκράτι σας προσκαλούν σε ένα μοναδικό Street Party για όλους. Ετοιμαστείτε για ένα Σαββατιάτικο απόγευμα γεμάτο μουσική\, φαγητό\, ποτό\, window shopping και ατελείωτο κέφι! Από τις 6 το απόγευμα\, οι  αγαπημένοι ραδιοφωνικοί παραγωγοί του Pepper 96.6 Λευτέρης Κεφαλάς και dj Spector αναλαμβάνουν τα decks για να ξεσηκώσουν μικρούς και μεγάλους με τις κορυφαίες μουσικές τους επιλογές. Mια γιορτή για όλες τις ηλικίες\, μια γιορτή που ζωντανεύει την εικόνα της γειτονιάς που όλοι αγαπάμε και ονειρευόμαστε!
URL:https://cityfestival.thisisathens.org/event/pratinou-street-party/
LOCATION:Οδός Πρατίνου\, Πρατίνου και Αμασείας\, Αθήνα\, Αθήνα\, 116 34\, Greece
CATEGORIES:DJ SET,ΥΠΑΙΘΡΙΑ ΔΡΑΣΗ,ΨΥΧΑΓΩΓΙΑ
ATTACH;FMTTYPE=image/jpeg:https://cityfestival.thisisathens.org/wp-content/uploads/2025/05/Pratinou-street-party.jpg
END:VEVENT
BEGIN:VEVENT
DTSTART;TZID=Europe/Athens:20250517T190000
DTEND;TZID=Europe/Athens:20250517T203000
DTSTAMP:20260420T111536
CREATED:20250403T115935Z
LAST-MODIFIED:20250506T124527Z
UID:10003359-1747508400-1747513800@cityfestival.thisisathens.org
SUMMARY:Παραμύθια στην Πλατεία: Γεωργία Χαϊκάλη - Ιωάννα Ρήγα - Μαρίνα Δακανάλη
DESCRIPTION:Μια φορά και τρεις καιρούς…\nΠαραμύθια για παιδιά από 6 έως 106 ετών. Η Γεωργία Χαϊκάλη\, η Μαρίνα Δακανάλη και η Ιωάννα Ρήγα ταξιδεύουν με τον λόγο και τη μουσική στις εποχές\, στις ηπείρους\, στις καρδιές. Είναι σκοτάδι; Είναι μακριά; Είναι ασφυκτικά; Η άνοιξη θα μας πει τα μυστικά μέσα από τα μελωδικά μας παραμύθια.\n\nΑφήγηση: Γεωργία Χαϊκάλη\nΦωνητικά/κρουστά: Μαρίνα Δακανάλη\nΣαντούρι: Ιωάννα Ρήγα\n\n 
URL:https://cityfestival.thisisathens.org/event/paramythia-plateia-chaikali-riga-dakanali/
LOCATION:Πλατεία Μεσολογγίου\, Πλατεία Μεσολογγίου\, Αθήνα\, Αθήνα\, 116 34\, Greece
CATEGORIES:ΔΩΡΕΑΝ,ΠΑΙΔΙ,ΥΠΑΙΘΡΙΑ ΔΡΑΣΗ,ΨΥΧΑΓΩΓΙΑ
ATTACH;FMTTYPE=image/jpeg:https://cityfestival.thisisathens.org/wp-content/uploads/2025/03/230507-GMK-Aθηνοπεριπέτειες_21-min-1-scaled.jpg
END:VEVENT
BEGIN:VEVENT
DTSTART;TZID=Europe/Athens:20250517T190000
DTEND;TZID=Europe/Athens:20250517T230000
DTSTAMP:20260420T111536
CREATED:20250403T131441Z
LAST-MODIFIED:20250506T124454Z
UID:10003373-1747508400-1747522800@cityfestival.thisisathens.org
SUMMARY:Athens Disco
DESCRIPTION:Οι δισκοθήκες ανοίγουν και οι καλύτερες μουσικές στιγμές των θρυλικών club των early 70’s γεμίζουν τον αέρα της πόλης με επιλογές από κορυφαίους συλλέκτες και Djs της Αθήνας. Ένα μοναδικό αφιέρωμα στην αυθεντική Disco εποχή\, ένα ασταμάτητο κυνήγι της απόλυτης χορευτικής φιγούρας\, ένα κάλεσμα στη «φυλή» που υποκλίνεται στη ντισκομπάλα. Ο ορισμός της λέξης «πάρτυ» στην καρδιά της πρωτεύουσας.
URL:https://cityfestival.thisisathens.org/event/athens-disco/
LOCATION:Στοά Δραγατσανίου\, Δραγατσανίου 8\, Αθήνα\, Αθήνα\, 10561\, Greece
CATEGORIES:DJ SET,ΔΩΡΕΑΝ,ΠΑΡΤΙ,ΥΠΑΙΘΡΙΑ ΔΡΑΣΗ,ΨΥΧΑΓΩΓΙΑ
ATTACH;FMTTYPE=image/jpeg:https://cityfestival.thisisathens.org/wp-content/uploads/2025/04/20220522-OSF-AthensCityFestival-StreetOutdoorsPlateiaTheatrou-0104-scaled.jpg
END:VEVENT
BEGIN:VEVENT
DTSTART;TZID=Europe/Athens:20250517T190000
DTEND;TZID=Europe/Athens:20250517T230000
DTSTAMP:20260420T111536
CREATED:20250422T130711Z
LAST-MODIFIED:20250506T124423Z
UID:10003620-1747508400-1747522800@cityfestival.thisisathens.org
SUMMARY:Βραδιά Παραδοσιακών Βουλγαρικών Χορών στην Αθήνα
DESCRIPTION:Η Πρεσβεία της Δημοκρατίας της Βουλγαρίας στην Ελλάδα και το Φεστιβάλ του Δήμου Αθηναίων παρουσιάζουν μια παράσταση παραδοσιακών χορών με τρία βουλγαρικά φολκλορικά συγκροτήματα από την Αθήνα.\nΟι ταλαντούχοι χορευτές\, αναμεσά τους και μαθητές\, θα είναι ντυμένοι με παραδοσιακές φορεσιές\, ενώ θα παρουσιάσουν ένα πλούσιο πρόγραμμα με χορούς από όλη τη Βουλγαρία. Οι επισκέπτες μπορούν να απολαύσουν μια βραδιά γεμάτη με ανοιξιάτικη διάθεση\, ρυθμό και πολλή μουσική.\nΑς ενωθούμε όλοι σε έναν πολύχρωμο και χαρούμενο χορό!
URL:https://cityfestival.thisisathens.org/event/vradia-paradosiakon-voulgarikon-xoron/
LOCATION:Πλατεία Κοραή\, Κοραή 1\, Αθήνα\, Αθήνα\, 105 64\, Greece
CATEGORIES:ΔΩΡΕΑΝ,ΥΠΑΙΘΡΙΑ ΔΡΑΣΗ,ΧΟΡΟΣ,ΨΥΧΑΓΩΓΙΑ
ATTACH;FMTTYPE=image/jpeg:https://cityfestival.thisisathens.org/wp-content/uploads/2025/04/хоро-5.jpg
END:VEVENT
BEGIN:VEVENT
DTSTART;TZID=Europe/Athens:20250517T203000
DTEND;TZID=Europe/Athens:20250517T213000
DTSTAMP:20260420T111536
CREATED:20250403T120753Z
LAST-MODIFIED:20250506T124348Z
UID:10003361-1747513800-1747517400@cityfestival.thisisathens.org
SUMMARY:De Profundis Live: VBH
DESCRIPTION:Vivaldi-Bach-Handel\nΤρεις από τους σημαντικότερους συνθέτες όλων των εποχών\, οι οποίοι ποτέ δεν συναντήθηκαν αλλά «βρέθηκαν» μέσα από τη γραφή – τη μουσική γραφή.\nΟ Γιόχαν Σεμπάστιαν Μπαχ γνώρισε\, μέσα από τη γραπτή μουσική γλώσσα\, τον Αντόνιο Βιβάλντι κι έμαθε τη μουσική σκέψη μέσα από τις συνθέσεις του σπουδαίου Βενετού συνθέτη. Ο Χαίντελ και ο Μπαχ\, αν και οι δύο Γερμανοί και οι δύο γεννημένοι το 1685\, ποτέ δεν κατάφεραν να συναντηθούν. Και πάλι η μουσική γλώσσα «ταξίδεψε» μέσω της γραφής\, δημιουργώντας πολλά χειρόγραφα του Μπαχ με μουσική του Χαίντελ\, ενώ και η μουσική του Χαίντελ είναι γεμάτη με επιρροές του Αντόνιο Βιβάλντι.\n\nΜία παράσταση γεμάτη από τα αριστουργήματα της μουσικής τέχνης τριών ιδιοφυών συνθετών\, μία πρώτη συνάντησή τους μέσω της μουσικής στο αίθριο του Επιγραφικού Μουσείου Αθηνών.\n\nDe profundis ensemble\n\nA’ Βιολιά\nΗλίας Γυφτονικολός\nΖωή Προκοπίου\n\nΒ’ Βιολιά\nΧρυσή Τζάβλα\nΜαρία Αργύρη\n\nΒιόλα\nΕλένη Φουρλάνου\n\nΤσέλο\nΜυρτώ Ξηρουχάκη\n\nΚοντραμπάσο\nΓιώργος Ντάνης\n\nΑπαιτείται η κράτηση θέσης.
URL:https://cityfestival.thisisathens.org/event/de-profundis-live-vbh/
LOCATION:Επιγραφικό Μουσείο\, Τοσίτσα 1\, Αθήνα\, Αθήνα\, 106 82\, Greece
CATEGORIES:ΔΩΡΕΑΝ,ΜΟΥΣΕΙΟ,ΣΥΝΑΥΛΙΑ,ΨΥΧΑΓΩΓΙΑ
ATTACH;FMTTYPE=image/jpeg:https://cityfestival.thisisathens.org/wp-content/uploads/2025/04/IMG_8694-scaled.jpg
END:VEVENT
END:VCALENDAR