BEGIN:VCALENDAR
VERSION:2.0
PRODID:-//Το Φεστιβάλ του Δήμου Αθηναίων - ECPv6.12.0.1//NONSGML v1.0//EN
CALSCALE:GREGORIAN
METHOD:PUBLISH
X-WR-CALNAME:Το Φεστιβάλ του Δήμου Αθηναίων
X-ORIGINAL-URL:https://cityfestival.thisisathens.org
X-WR-CALDESC:Events for Το Φεστιβάλ του Δήμου Αθηναίων
REFRESH-INTERVAL;VALUE=DURATION:PT1H
X-Robots-Tag:noindex
X-PUBLISHED-TTL:PT1H
BEGIN:VTIMEZONE
TZID:Europe/Athens
BEGIN:DAYLIGHT
TZOFFSETFROM:+0200
TZOFFSETTO:+0300
TZNAME:EEST
DTSTART:20250330T010000
END:DAYLIGHT
BEGIN:STANDARD
TZOFFSETFROM:+0300
TZOFFSETTO:+0200
TZNAME:EET
DTSTART:20251026T010000
END:STANDARD
END:VTIMEZONE
BEGIN:VEVENT
DTSTART;TZID=Europe/Athens:20250518T110000
DTEND;TZID=Europe/Athens:20250518T120000
DTSTAMP:20260421T100637
CREATED:20250328T103824Z
LAST-MODIFIED:20250506T124246Z
UID:10003242-1747566000-1747569600@cityfestival.thisisathens.org
SUMMARY:130 Χρόνια Σύλλογος των Αθηναίων - Ξενάγηση στο Αθηναϊκό Μουσείο
DESCRIPTION:Γιορτάζουμε τη Διεθνή Ημέρα Μουσείων με μια δωρεάν ξενάγηση στον Σύλλογο των Αθηναίων και στο Αθηναϊκό Μουσείο.\n\nΟι επισκέπτες θα έχουν την ευκαιρία να περιηγηθούν στο “Αθηναϊκό Μουσείο” και να ταξιδέψουν νοητά σε δύο αιώνες αθηναϊκής ιστορίας\, μέσα από σημαντικά τεκμήρια-δωρεές οικογενειών πού διαμόρφωσαν τη φυσιογνωμία της πόλης και συλλογές πού αντικατοπτρίζουν τον αστικό τρόπο ζωής τού 19ού και τού 20ού αιώνα.\n\nΗ περιήγηση περιλαμβάνει επίσκεψη στον “Σύλλογο των Αθηναίων”\, που φέτος συμπληρώνει τα 130 χρόνια προσφοράς στην πόλη των Αθηνών.\n\nΗ ξενάγηση θα πραγματοποιηθεί από τη μουσειολόγο του «Αθηναϊκού Μουσείου»\, Έλενα Γκοτσίνα.\n\nΑπαιτείται η κράτηση θέσης: info@syllogostonathinaion.gr (Ονοματεπώνυμο\, Αριθμός Ατόμων\, Ημερομηνία Δράσης)
URL:https://cityfestival.thisisathens.org/event/130-xronia-sillogos-athinaion-xenagisi-athinaiko-mouseio/
LOCATION:Σύλλογος των Αθηναίων\, Κέκροπος 10\, Αθήνα\, Αθήνα\, 105 58\, Greece
CATEGORIES:ΔΩΡΕΑΝ,ΕΚΘΕΣΗ,ΜΟΥΣΕΙΟ,ΠΕΡΙΗΓΗΣΗ
ATTACH;FMTTYPE=image/jpeg:https://cityfestival.thisisathens.org/wp-content/uploads/2025/03/PST_3464.jpg
END:VEVENT
BEGIN:VEVENT
DTSTART;TZID=Europe/Athens:20250518T110000
DTEND;TZID=Europe/Athens:20250518T123000
DTSTAMP:20260421T100637
CREATED:20250407T113919Z
LAST-MODIFIED:20250506T124138Z
UID:10003455-1747566000-1747571400@cityfestival.thisisathens.org
SUMMARY:Η Τιμοθέα στα εν Άστει Διονύσια
DESCRIPTION:Μια δράση για παιδιά δημοτικού\, εμπνευσμένη από μια επιγραφή του Επιγραφικού Μουσείου\, που φέρει δύο ψηφίσματα της Εκκλησίας του Δήμου. Η δράση θα πραγματοποιηθεί από την αρχαιολόγο και εικαστικό του Μουσείου\, στο πλαίσιο του εορτασμού της Διεθνούς Ημέρας Μουσείων.\n\nΗ δράση απευθύνεται σε παιδιά ηλικίας 7-11 ετών.\n\nΑπαιτείται η κράτηση θέσης: Δήλωση συμμετοχής στα τηλέφωνα του Επιγραφικού Μουσείου +210 88 47 576 και +210 82 32 950 (εσωτ: 203\, 205\, 209) και ώρες 08:00 – 14:00\n\nΟι κρατήσεις ανοίγουν 11/5\, στις 12:00 το μεσημέρι.
URL:https://cityfestival.thisisathens.org/event/timothea-astei-dionysia/
LOCATION:Επιγραφικό Μουσείο\, Τοσίτσα 1\, Αθήνα\, Αθήνα\, 106 82\, Greece
CATEGORIES:ΔΩΡΕΑΝ,ΜΟΥΣΕΙΟ,ΠΑΙΔΙ
ATTACH;FMTTYPE=image/jpeg:https://cityfestival.thisisathens.org/wp-content/uploads/2025/04/8.jpg
END:VEVENT
BEGIN:VEVENT
DTSTART;TZID=Europe/Athens:20250518T110000
DTEND;TZID=Europe/Athens:20250518T150000
DTSTAMP:20260421T100637
CREATED:20250403T134817Z
LAST-MODIFIED:20250422T103047Z
UID:10003375-1747566000-1747580400@cityfestival.thisisathens.org
SUMMARY:Μια Μέρα στο Μουσείο Αλέκος Φασιανός
DESCRIPTION:Στo πλαίσιo της Διεθνούς Ημέρας Μουσείων\, το Μουσείο Αλέκος Φασιανός προσφέρει ελεύθερη είσοδο στους κατοίκους και στους επισκέπτες της πόλης.\n\nΗ έκθεση του μουσείου συστήνει στους συμμετέχοντες το εύρος του έργου του Αλέκου Φασιανού. Παρουσιάζονται έργα από το 1954 έως το τέλος της ζωής του καλλιτέχνη. Στην έκθεση συναντάμε πρώιμα έργα με αφαιρετική διάθεση της δεκαετίας του ’60 και των πρώτων χρόνων του στο Παρίσι. Έργα επηρεασμένα από τη βυζαντινή τέχνη\, κολάζ\, μεικτές τεχνικές\, αφανείς αλλά και ευρέως αναγνωρίσιμους πίνακες με την πλέον χαρακτηριστική πινελιά του Φασιανού.\nΟ μύθος της γειτονιάς του ξετυλίγεται μέσα από έργα\, τα οποία αναπαριστούν εικόνες και βιώματα που απέκτησε στη γειτονιά του Αγίου Παύλου\, όπου μεγάλωσε\, και στις περιπλανήσεις του στην Αθήνα. Ήρωες της παιδικής του ηλικίας σμίγουν με ήρωες της ελληνικής μυθολογίας\, δημιουργώντας τον αιώνιο ήρωα\, τον άνθρωπο.\n\nΠέραν των ζωγραφικών έργων\, η έκθεση επιθυμεί να αναδείξει την πολύπλευρη προσωπικότητα του καλλιτέχνη\, παρουσιάζοντας χειροποίητα αντικείμενα\, έπιπλα και φωτιστικά\, καθώς και κείμενα που έγραψε\, βιβλία που εικονογράφησε και ένα πλούσιο αρχειακό υλικό της εμπλοκής του στη σκηνογραφία και στη σχεδίαση κοστουμιών για κωμωδίες του Αριστοφάνη και θεατρικά έργα του Eugene Ionesco.\nΗ έκθεση ξετυλίγεται μέσα σε ένα χειροποίητο αρχιτεκτόνημα του Κυριάκου Κρόκου\, όπου κάθε λεπτομέρεια είναι επιμελημένη από τον Φασιανό – από τα πόμολα στις πόρτες\, τα χερούλια στα ντουλάπια\, τα καρφιά στους καθρέφτες\, μέχρι τις νωπογραφίες και τα μωσαϊκά δάπεδα.\nΤο Μουσείο Αλέκος Φασιανός έχει ιδιαίτερη σημασία για τον σύγχρονο εικαστικό και αρχιτεκτονικό χάρτη της Αθήνας\, μιας και είναι ένα από τα λίγα μουσεία στον κόσμο όπου η συνέργεια καλλιτέχνη και αρχιτέκτονα στηρίζει τον διάλογο μεταξύ των έργων και του χώρου που τα στεγάζει.
URL:https://cityfestival.thisisathens.org/event/mera-sto-mouseio-alekos-fassianos/
LOCATION:Μουσείο Αλέκος Φασιανός\, Νεοφύτου Μεταξά 15\, Αθήνα\, Αθήνα\, 104 39\, Greece
CATEGORIES:ΔΩΡΕΑΝ,ΕΚΘΕΣΗ,ΜΟΥΣΕΙΟ
ATTACH;FMTTYPE=image/jpeg:https://cityfestival.thisisathens.org/wp-content/uploads/2025/04/Leti-Krokou_fassianos2--scaled.jpg
END:VEVENT
BEGIN:VEVENT
DTSTART;TZID=Europe/Athens:20250518T113000
DTEND;TZID=Europe/Athens:20250518T130000
DTSTAMP:20260421T100637
CREATED:20250507T105556Z
LAST-MODIFIED:20250509T174435Z
UID:10003934-1747567800-1747573200@cityfestival.thisisathens.org
SUMMARY:Ομιλούντες Λίθοι
DESCRIPTION:Προβολή τριών ντοκιμαντέρ βιωματικής διδασκαλίας.\nΜε αφετηρία επιγραφές που εκτίθενται στο Μουσείο\, τα ντοκιμαντέρ δραματοποιούν σημαντικά γεγονότα της αρχαίας ελληνικής ιστορίας:\n«Η Γέννηση του Θεάτρου»\n«Το ψήφισμα του Θεμιστοκλή»\n«Ο λοιμός στην Αθήνα»\n\nΑπαιτείται η κράτηση θέσης: Δήλωση συμμετοχής στα τηλέφωνα του Επιγραφικού Μουσείου 210 88 47 576 και 210 82 32 950 (εσωτ: 203\, 205\, 209) και ώρες 08:00 – 14:00\n\nΟι κρατήσεις ανοίγουν 11/5\, στις 12:00 το μεσημέρι.
URL:https://cityfestival.thisisathens.org/event/omilountes-lithoi/
LOCATION:Επιγραφικό Μουσείο\, Τοσίτσα 1\, Αθήνα\, Αθήνα\, 106 82\, Greece
CATEGORIES:ΔΩΡΕΑΝ,ΜΟΥΣΕΙΟ,ΣΙΝΕΜΑ
ATTACH;FMTTYPE=image/jpeg:https://cityfestival.thisisathens.org/wp-content/uploads/2025/04/ΣΥΝΑΥΛΙΑ-17.5.25.jpg
END:VEVENT
BEGIN:VEVENT
DTSTART;TZID=Europe/Athens:20250518T120000
DTEND;TZID=Europe/Athens:20250518T130000
DTSTAMP:20260421T100637
CREATED:20250403T135230Z
LAST-MODIFIED:20250422T102933Z
UID:10003376-1747569600-1747573200@cityfestival.thisisathens.org
SUMMARY:Ξενάγηση στο Μουσείο Αλέκος Φασιανός
DESCRIPTION:Στo πλαίσιo της διεθνούς ημέρας Μουσείων\, το Μουσείο Αλέκος Φασιανός προσφέρει μία ξενάγηση για 30 άτομα.\n\nΗ έκθεση του μουσείου συστήνει στους συμμετέχοντες το εύρος του έργου του Αλέκου Φασιανού. Παρουσιάζονται έργα από το 1954 έως το τέλος της ζωής του καλλιτέχνη. Στην έκθεση συναντάμε πρώιμα έργα με αφαιρετική διάθεση της δεκαετίας του ’60 και των πρώτων χρόνων του στο Παρίσι. Έργα επηρεασμένα από τη βυζαντινή τέχνη\, κολάζ\, μεικτές τεχνικές\, αφανείς αλλά και ευρέως αναγνωρίσιμους πίνακες με την πλέον χαρακτηριστική πινελιά του Φασιανού.\nΟ μύθος της γειτονιάς του ξετυλίγεται μέσα από έργα\, τα οποία αναπαριστούν εικόνες και βιώματα που απέκτησε στη γειτονιά του Αγίου Παύλου\, όπου μεγάλωσε\, και στις περιπλανήσεις του στην Αθήνα. Ήρωες της παιδικής του ηλικίας σμίγουν με ήρωες της ελληνικής μυθολογίας\, δημιουργώντας τον αιώνιο ήρωα\, τον άνθρωπο.\n\nΠέραν των ζωγραφικών έργων\, η έκθεση επιθυμεί να αναδείξει την πολύπλευρη προσωπικότητα του καλλιτέχνη\, παρουσιάζοντας χειροποίητα αντικείμενα\, έπιπλα και φωτιστικά\, καθώς και κείμενα που έγραψε\, βιβλία που εικονογράφησε και ένα πλούσιο αρχειακό υλικό της εμπλοκής του στη σκηνογραφία και στη σχεδίαση κοστουμιών για κωμωδίες του Αριστοφάνη και θεατρικά έργα του Eugene Ionesco.\nΗ έκθεση ξετυλίγεται μέσα σε ένα χειροποίητο αρχιτεκτόνημα του Κυριάκου Κρόκου\, όπου κάθε λεπτομέρεια είναι επιμελημένη από τον Φασιανό – από τα πόμολα στις πόρτες\, τα χερούλια στα ντουλάπια\, τα καρφιά στους καθρέφτες\, μέχρι τις νωπογραφίες και τα μωσαϊκά δάπεδα.\nΤο Μουσείο Αλέκος Φασιανός έχει ιδιαίτερη σημασία για τον σύγχρονο εικαστικό και αρχιτεκτονικό χάρτη της Αθήνας\, μιας και είναι ένα από τα λίγα μουσεία στον κόσμο όπου η συνέργεια καλλιτέχνη και αρχιτέκτονα στηρίζει τον διάλογο μεταξύ των έργων και του χώρου που τα στεγάζει.\n\nΣημείο συνάντησης: Έξω από το Μουσείο\n\nΑπαιτείται η κράτηση θέσης.
URL:https://cityfestival.thisisathens.org/event/xenagisi-mouseio-alekos-fassianos/
LOCATION:Μουσείο Αλέκος Φασιανός\, Νεοφύτου Μεταξά 15\, Αθήνα\, Αθήνα\, 104 39\, Greece
CATEGORIES:ΔΩΡΕΑΝ,ΕΚΘΕΣΗ,ΜΟΥΣΕΙΟ,ΠΕΡΙΗΓΗΣΗ
ATTACH;FMTTYPE=image/jpeg:https://cityfestival.thisisathens.org/wp-content/uploads/2025/04/OWN-Fassianos_installations.jpg
END:VEVENT
END:VCALENDAR