BEGIN:VCALENDAR
VERSION:2.0
PRODID:-//Το Φεστιβάλ του Δήμου Αθηναίων - ECPv6.12.0.1//NONSGML v1.0//EN
CALSCALE:GREGORIAN
METHOD:PUBLISH
X-WR-CALNAME:Το Φεστιβάλ του Δήμου Αθηναίων
X-ORIGINAL-URL:https://cityfestival.thisisathens.org
X-WR-CALDESC:Events for Το Φεστιβάλ του Δήμου Αθηναίων
REFRESH-INTERVAL;VALUE=DURATION:PT1H
X-Robots-Tag:noindex
X-PUBLISHED-TTL:PT1H
BEGIN:VTIMEZONE
TZID:Europe/Athens
BEGIN:DAYLIGHT
TZOFFSETFROM:+0200
TZOFFSETTO:+0300
TZNAME:EEST
DTSTART:20250330T010000
END:DAYLIGHT
BEGIN:STANDARD
TZOFFSETFROM:+0300
TZOFFSETTO:+0200
TZNAME:EET
DTSTART:20251026T010000
END:STANDARD
END:VTIMEZONE
BEGIN:VEVENT
DTSTART;TZID=Europe/Athens:20250518T110000
DTEND;TZID=Europe/Athens:20250518T123000
DTSTAMP:20260421T130632
CREATED:20250407T113919Z
LAST-MODIFIED:20250506T124138Z
UID:10003455-1747566000-1747571400@cityfestival.thisisathens.org
SUMMARY:Η Τιμοθέα στα εν Άστει Διονύσια
DESCRIPTION:Μια δράση για παιδιά δημοτικού\, εμπνευσμένη από μια επιγραφή του Επιγραφικού Μουσείου\, που φέρει δύο ψηφίσματα της Εκκλησίας του Δήμου. Η δράση θα πραγματοποιηθεί από την αρχαιολόγο και εικαστικό του Μουσείου\, στο πλαίσιο του εορτασμού της Διεθνούς Ημέρας Μουσείων.\n\nΗ δράση απευθύνεται σε παιδιά ηλικίας 7-11 ετών.\n\nΑπαιτείται η κράτηση θέσης: Δήλωση συμμετοχής στα τηλέφωνα του Επιγραφικού Μουσείου +210 88 47 576 και +210 82 32 950 (εσωτ: 203\, 205\, 209) και ώρες 08:00 – 14:00\n\nΟι κρατήσεις ανοίγουν 11/5\, στις 12:00 το μεσημέρι.
URL:https://cityfestival.thisisathens.org/event/timothea-astei-dionysia/
LOCATION:Επιγραφικό Μουσείο\, Τοσίτσα 1\, Αθήνα\, Αθήνα\, 106 82\, Greece
CATEGORIES:ΔΩΡΕΑΝ,ΜΟΥΣΕΙΟ,ΠΑΙΔΙ
ATTACH;FMTTYPE=image/jpeg:https://cityfestival.thisisathens.org/wp-content/uploads/2025/04/8.jpg
END:VEVENT
BEGIN:VEVENT
DTSTART;TZID=Europe/Athens:20250518T120000
DTEND;TZID=Europe/Athens:20250518T130000
DTSTAMP:20260421T130632
CREATED:20250327T125454Z
LAST-MODIFIED:20250506T123933Z
UID:10001687-1747569600-1747573200@cityfestival.thisisathens.org
SUMMARY:Piano City Athens
DESCRIPTION:Γνωρίζοντας τη θεραπευτική δύναμη της μουσικής\, το Φεστιβάλ του Δήμου Αθηναίων\, σε συνεργασία με το Piano City Athens\, φέρνει τους ήχους της στο Νοσοκομείο Παίδων «Αγία Σοφία»\, χαρίζοντας λίγες στιγμές χαράς και ηρεμίας στα νοσηλευόμενα παιδιά που τις έχουν περισσότερο ανάγκη.\n\nΗ δράση απευθύνεται αποκλειστικά στα παιδιά που νοσηλεύονται στο νοσοκομείο\, καθώς επίσης και στο ιατρικό\, νοσηλευτικό και διοικητικό προσωπικό.
URL:https://cityfestival.thisisathens.org/event/piano-city-athens-3/
LOCATION:Νοσοκομείο Παίδων “Η Αγία Σοφία”\, Θηβών & Παπαδιαμαντοπούλου\, Αθήνα\, Αθήνα\, 115 27\, Greece
CATEGORIES:ΔΩΡΕΑΝ,ΠΑΙΔΙ,ΣΥΝΑΥΛΙΑ,ΨΥΧΑΓΩΓΙΑ
ATTACH;FMTTYPE=image/jpeg:https://cityfestival.thisisathens.org/wp-content/uploads/2025/03/i-BHgjvPM-X2.jpg
GEO:37.984815905885;23.768904956648
X-APPLE-STRUCTURED-LOCATION;VALUE=URI;X-ADDRESS=Νοσοκομείο Παίδων “Η Αγία Σοφία” Θηβών & Παπαδιαμαντοπούλου Αθήνα Αθήνα 115 27 Greece;X-APPLE-RADIUS=500;X-TITLE=Θηβών & Παπαδιαμαντοπούλου:geo:23.768904956648,37.984815905885
END:VEVENT
END:VCALENDAR