BEGIN:VCALENDAR
VERSION:2.0
PRODID:-//Το Φεστιβάλ του Δήμου Αθηναίων - ECPv6.12.0.1//NONSGML v1.0//EN
CALSCALE:GREGORIAN
METHOD:PUBLISH
X-WR-CALNAME:Το Φεστιβάλ του Δήμου Αθηναίων
X-ORIGINAL-URL:https://cityfestival.thisisathens.org
X-WR-CALDESC:Events for Το Φεστιβάλ του Δήμου Αθηναίων
REFRESH-INTERVAL;VALUE=DURATION:PT1H
X-Robots-Tag:noindex
X-PUBLISHED-TTL:PT1H
BEGIN:VTIMEZONE
TZID:Europe/Athens
BEGIN:DAYLIGHT
TZOFFSETFROM:+0200
TZOFFSETTO:+0300
TZNAME:EEST
DTSTART:20250330T010000
END:DAYLIGHT
BEGIN:STANDARD
TZOFFSETFROM:+0300
TZOFFSETTO:+0200
TZNAME:EET
DTSTART:20251026T010000
END:STANDARD
END:VTIMEZONE
BEGIN:VEVENT
DTSTART;TZID=Europe/Athens:20250519T180000
DTEND;TZID=Europe/Athens:20250519T193000
DTSTAMP:20260419T174213
CREATED:20250423T125507Z
LAST-MODIFIED:20250506T123549Z
UID:10003651-1747677600-1747683000@cityfestival.thisisathens.org
SUMMARY:Περίπατος Μαθητείας: 20 και 1 Στάσεις
DESCRIPTION:Επίσημα χαρακτηρισμένος ως «ιστορικός τόπος»\, ο Εθνικός (άλλοτε Βασιλικός) Κήπος είναι ένα σημείο νηνεμίας\, περιτριγυρισμένο από την ένταση της πόλης\, που φέρει μέσα του τη μνήμη και την ιστορία της. Ανάμεσα στα 500 είδη φυτών\, που ήρθαν απ’ όλο τον κόσμο με τη φροντίδα της βασίλισσας Αμαλίας και των βοτανολόγων της\, περιμένουν να συναντήσουν τους επισκέπτες μορφές μαρμάρινες: ο Διονύσιος Σολωμός\, ο Αριστοτέλης Βαλαωρίτης\, ο Ζαν Μωρεάς\, ο Καποδίστριας\, αλλά και ο Ιωάννης Εϋνάρδος\, άξια τέκνα μιας Ελλάδας που δεν της έλειψε η φωτισμένη ηγεσία.\n\nΟ Θοδωρής Γκόνης\, με βασικούς ερμηνευτές την Ελένη Ουζουνίδου και τον Θανάση Δήμου\, προτείνει μια ποιητική περιήγηση με υλικό\, κείμενα και ντοκουμέντα αυτών των μόνιμων κατοίκων του Κήπου\, των ποιητών\, των πολιτικών\, των γεωπόνων και των μηχανικών που τον διαμόρφωσαν και της εικοσάχρονης βασίλισσας που τον ονειρεύτηκε και μας τον χάρισε.\n\nΣύλληψη-Σκηνοθεσία: Θοδωρής Γκόνης\nΔραματουργία: Θοδωρής Γκόνης\, Ελένη Στρούλια\nΚοστούμια: Ματίνα Μέγκλα\nΗθοποιοί: Ελένη Ουζουνίδου\, Θανάσης Δήμου\, Ρωξάνη Καρφή\, Χριστίνα Χαλκιά\nΜουσικοί: Πάρις Κιμιωνής- Δανάη Τσιρώνη\n\nΠροτείνεται οι θεατές να φορούν άνετα ρούχα και υποδήματα\n\nΣημείο Συνάντησης: Ηλιακό ρολόι (είσοδος από Λεωφ. Αμαλίας)
URL:https://cityfestival.thisisathens.org/event/peripatos-mathiteias-20-1-staseis-4/
LOCATION:Εθνικός Κήπος\, Βασ. Αμαλίας 1\, Αθήνα\, Αθήνα\, 105 57\, Greece
CATEGORIES:ΔΩΡΕΑΝ,ΘΕΑΤΡΟ,ΠΕΡΙΗΓΗΣΗ,ΥΠΑΙΘΡΙΑ ΔΡΑΣΗ,ΨΥΧΑΓΩΓΙΑ
ATTACH;FMTTYPE=image/jpeg:https://cityfestival.thisisathens.org/wp-content/uploads/2025/03/IMG_6798-scaled.jpg
END:VEVENT
BEGIN:VEVENT
DTSTART;TZID=Europe/Athens:20250519T203000
DTEND;TZID=Europe/Athens:20250519T223000
DTSTAMP:20260419T174213
CREATED:20250327T113812Z
LAST-MODIFIED:20250506T123425Z
UID:10001281-1747686600-1747693800@cityfestival.thisisathens.org
SUMMARY:Το Ταξίδι της Καντάδας από τα Επτάνησα στην Αθήνα: Ένας Μουσικός Περίπατος με Καντάδες στα Στενά της Πλάκας
DESCRIPTION:Tο μουσικό συγκρότημα των σύγχρονων τροβαδούρων\, αδελφών Καραβιώτη\, θα παρουσιάσει το δρώμενο της καντάδας στα σοκάκια της Πλάκας.\n\nΜια νοσταλγική αναδρομή στις ερωτικές μουσικές της παλιάς Αθήνας.\n\nΟι ήχοι που άλλοτε γέμιζαν τις ταβέρνες του κέντρου της πόλης στην Πλάκα\, του Ψυρρή και την Ομόνοια\, αναβιώνουν μέσα από λάτρεις του είδους\, που με μεράκι και αγάπη συντηρούν τις παλιές μελωδίες.\n\nΣημείο συνάντησης: Αέρηδες (Μάρκου Αυρηλίου & Διογένους)
URL:https://cityfestival.thisisathens.org/event/taxidi-tis-kantadas-apo-ta-eptanisa-stin-athina-enas-mousikos-peripatos/
LOCATION:Αέρηδες\, Μάρκου Αυρηλίου & Διογένους\, Αθήνα\, Αθήνα\, 105 55\, Greece
CATEGORIES:ΔΩΡΕΑΝ,ΣΥΝΑΥΛΙΑ,ΥΠΑΙΘΡΙΑ ΔΡΑΣΗ
ATTACH;FMTTYPE=image/jpeg:https://cityfestival.thisisathens.org/wp-content/uploads/2025/03/20240506-TiACF24-TGR-ToTaxidiTisKantadas-0221-1-scaled.jpg
END:VEVENT
BEGIN:VEVENT
DTSTART;TZID=Europe/Athens:20250519T210000
DTEND;TZID=Europe/Athens:20250519T230000
DTSTAMP:20260419T174213
CREATED:20250512T192819Z
LAST-MODIFIED:20250515T072010Z
UID:10003949-1747688400-1747695600@cityfestival.thisisathens.org
SUMMARY:Συναυλία με τον Δημήτρη Μυστακίδη
DESCRIPTION:Στο πλαίσιο του Φεστιβάλ του Δήμου Αθηναίων\, τη Δευτέρα 19 Μαίου στις 21:00 ο Ελληνικός 93.2 υποδέχεται τον Δημήτρη Μυστακίδη. Μόνος επί σκηνής\, αυτοαναλύεται και αυτοσχεδιάζει σε μια σόλο πειραματική παράσταση όπου η λαϊκή κιθάρα μπλέκεται με λούπες και ατμοσφαιρικά ηχοτοπία. Μια μυσταγωγική Συνάντηση γεμάτη με τραγούδια από την δισκογραφία του\, με ρεμπέτικα και άλλα αγαπημένα του. Κάποια πειραγμένα και κάποια απείραχτα.\n\nΜια μυσταγωγική Συνάντηση γεμάτη με τραγούδια από την δισκογραφία του\, με ρεμπέτικα και άλλα αγαπημένα του\, όπου η λαϊκή κιθάρα μπλέκεται με λούπες και ατμοσφαιρικά ηχοτοπία!\n\nΤη Δευτέρα 19 Μαΐου\, στις 21:00\, στον προαύλιο χώρο του Εθνικού Αρχαιολογικού Μουσείου Αθηνών\, ο Δημήτρης Μυστακίδης\, μόνος επί σκηνής\, αυτοαναλύεται και αυτοσχεδιάζει σε μια σόλο πειραματική παράσταση!\n\nΜια μυσταγωγική Συνάντηση γεμάτη με τραγούδια από την δισκογραφία του\, με ρεμπέτικα και άλλα αγαπημένα του.
URL:https://cityfestival.thisisathens.org/event/synaulia-me-ton-dimitri-mystakidi/
LOCATION:Εθνικό Αρχαιολογικό Μουσείο\, Πατησίων 44\, Αθήνα\, Αθήνα\, 106 82\, Greece
CATEGORIES:ΣΥΝΑΥΛΙΑ,ΥΠΑΙΘΡΙΑ ΔΡΑΣΗ,ΨΥΧΑΓΩΓΙΑ
ATTACH;FMTTYPE=image/jpeg:https://cityfestival.thisisathens.org/wp-content/uploads/2025/05/900x600-copy-2.jpg
END:VEVENT
END:VCALENDAR