BEGIN:VCALENDAR
VERSION:2.0
PRODID:-//Το Φεστιβάλ του Δήμου Αθηναίων - ECPv6.12.0.1//NONSGML v1.0//EN
CALSCALE:GREGORIAN
METHOD:PUBLISH
X-ORIGINAL-URL:https://cityfestival.thisisathens.org
X-WR-CALDESC:Events for Το Φεστιβάλ του Δήμου Αθηναίων
REFRESH-INTERVAL;VALUE=DURATION:PT1H
X-Robots-Tag:noindex
X-PUBLISHED-TTL:PT1H
BEGIN:VTIMEZONE
TZID:Europe/Athens
BEGIN:DAYLIGHT
TZOFFSETFROM:+0200
TZOFFSETTO:+0300
TZNAME:EEST
DTSTART:20250330T010000
END:DAYLIGHT
BEGIN:STANDARD
TZOFFSETFROM:+0300
TZOFFSETTO:+0200
TZNAME:EET
DTSTART:20251026T010000
END:STANDARD
END:VTIMEZONE
BEGIN:VEVENT
DTSTART;TZID=Europe/Athens:20250520T100000
DTEND;TZID=Europe/Athens:20250520T180000
DTSTAMP:20260420T111628
CREATED:20250424T102622Z
LAST-MODIFIED:20250425T160020Z
UID:10003787-1747735200-1747764000@cityfestival.thisisathens.org
SUMMARY:CONQUISTADORS
DESCRIPTION:Ο Νίκος Κυριακόπουλος και οι conquistadors του\, αποβιβάζονται στη Λένορμαν.\nΔράκοι και άγρια θηρία\, ντόπιοι και conquistadors αλλά και ο Θάνατος αυτοπροσώπως\, μάχονται μέσα σε απάτητες ζούγκλες.\n\nΤα 36 έργα που απαρτίζουν την έκθεση\, δεν έχουν στόχο να υπηρετήσουν την ιστορία ή το ιστορικό genre της ζωγραφικής. Ο καλλιτέχνης αντλεί το υλικό του από τον μύθο που συνοδεύει την Εποχή των Ανακαλύψεων και πλάθει εικόνες μακριά και πέραν του νατουραλισμού\, τόσο σε μορφολογικό όσο και σε επίπεδο θεματικού περιεχομένου.\nΤα έργα έχουν δημιουργηθεί με την μέθοδο της μονοτυπίας\, τεχνική που χρονολογείται από τον 16ο αιώνα και που\, σε συνδυασμό με τις ιστορίες που περιγράφουν\, αποκτούν ένα ακόμη ιδιαίτερο ενδιαφέρον.\nΟι περιπέτειες των ηρώων αποτελούν αφορμή όχι μόνο για τις περιπέτειες της γραμμής και του χρώματος\, αλλά και αφετηρία για στοχασμό πάνω σε έννοιες όπως αυτές της επιθυμίας\, του φόβου\, της σύγκρουσης ή της πλάνης.\n\nΕγκαίνια: Πέμπτη 8 Μαΐου 2025 και ώρα 19:30 – 23:00\n\nΏρες λειτουργίας:\nΚαθημερινά 10:00 – 18:00\nΣάββατο 11:00 – 15:00\nΚυριακή κλειστά
URL:https://cityfestival.thisisathens.org/event/conquistadors/2025-05-20/
LOCATION:Πολιτιστικός Χώρος Macart\, Λένορμαν 244\, Αθήνα\, Αθήνα\, 104 43\, Greece
CATEGORIES:ΓΚΑΛΕΡΙ,ΔΩΡΕΑΝ,ΕΚΘΕΣΗ,ΨΥΧΑΓΩΓΙΑ
ATTACH;FMTTYPE=image/jpeg:https://cityfestival.thisisathens.org/wp-content/uploads/2025/04/DSC_7775-1.jpg
END:VEVENT
BEGIN:VEVENT
DTSTART;TZID=Europe/Athens:20250520T113000
DTEND;TZID=Europe/Athens:20250520T203000
DTSTAMP:20260420T111628
CREATED:20250424T085600Z
LAST-MODIFIED:20250506T132608Z
UID:10003745-1747740600-1747773000@cityfestival.thisisathens.org
SUMMARY:Βασίλης Παπαγεωργίου - Ζωγραφική και Γλυπτική: Lignea Creatura Stans
DESCRIPTION:Ο φυτικός\, ζωικός και ανθρώπινος κόσμος\, ο θρύλος\, ο μύθος\, η φαντασία και το όνειρο συνθέτουν τη νέα εικαστική θεματική του Βασίλη Παπαγεωργίου. Οι οξύμωροι ήρωες του\, τα ξυλοπλάσματα που εφευρίσκει\, βρίσκονται στον δισδιάστατο και τρισδιάστατο χώρο που μας περιβάλλει\, σε μια διαρκή περιδίνηση. Εποπτεύοντας αισθητικά\, το βάθος των συνεπειών της καταστροφής του κόσμου από την ανθρώπινη παρέμβαση\, δημιουργεί αξίες από πολιτισμικές αναφορές της παράδοσης και της φύσης\, οι οποίες ορίζουν τις παραμέτρους της συνύπαρξης.\n\nΏρες λειτουργίας: Δευτέρα-Παρασκευή 11:30- 14:30 & 17:30 – 20:30\, Σάββατο: 11:30-15:00
URL:https://cityfestival.thisisathens.org/event/vassilis-papageorgiou-zografiki-lignea-creatura-stans-2/2025-05-20/
LOCATION:Γκαλερί Έρση\, Κλεομένους 4\, Αθήνα\, Αθήνα\, 106 75\, Greece
CATEGORIES:ΓΚΑΛΕΡΙ,ΔΩΡΕΑΝ,ΕΚΘΕΣΗ,ΨΥΧΑΓΩΓΙΑ
ATTACH;FMTTYPE=image/jpeg:https://cityfestival.thisisathens.org/wp-content/uploads/2025/04/ΒΑΣΙΛΗΣ-ΠΑΠΑΓΕΩΡΓΙΟΥΑνάγνωση2023-Λάδι-σε-λινό-160-195-cm.jpg
END:VEVENT
BEGIN:VEVENT
DTSTART;TZID=Europe/Athens:20250520T190000
DTEND;TZID=Europe/Athens:20250520T203000
DTSTAMP:20260420T111628
CREATED:20250327T123045Z
LAST-MODIFIED:20250506T122429Z
UID:10001681-1747767600-1747773000@cityfestival.thisisathens.org
SUMMARY:Παραμύθια στην Πλατεία: Ταξιάρχης Μπεληγιάννης - Λήδα Ξυδιά
DESCRIPTION:Μια φορά κι έναν καιρό… ξεκινά ένα μαγικό ταξίδι! Με οδηγό τις λέξεις και συνοδεία μουσικής\, θα πετάξουμε πάνω από θάλασσες και βουνά\, θα συναντήσουμε γενναίους ήρωες και σοφές γερόντισσες\, και θα ζήσουμε απίθανες περιπέτειες. Ετοιμαστείτε για μια απογευματινή αφήγηση γεμάτη φαντασία!\n\nΑφήγηση: Ταξιάρχης Μπεληγιάννης\nΜουσική: Λήδα Ξυδιά
URL:https://cityfestival.thisisathens.org/event/paramythia-stin-plateia-taxiarxis-beligiannis-lida-xydia/
LOCATION:Πλατεία Δεξαμενής\, Πλατεία Δεξαμενής\, Αθήνα\, Αθήνα\, 106 73\, Greece
CATEGORIES:ΔΩΡΕΑΝ,ΠΑΙΔΙ,ΥΠΑΙΘΡΙΑ ΔΡΑΣΗ,ΨΥΧΑΓΩΓΙΑ
ATTACH;FMTTYPE=image/webp:https://cityfestival.thisisathens.org/wp-content/uploads/2025/03/ταξιάρχης.jpg.webp
END:VEVENT
BEGIN:VEVENT
DTSTART;TZID=Europe/Athens:20250520T200000
DTEND;TZID=Europe/Athens:20250520T210000
DTSTAMP:20260420T111628
CREATED:20250403T143128Z
LAST-MODIFIED:20250512T112113Z
UID:10003379-1747771200-1747774800@cityfestival.thisisathens.org
SUMMARY:Ακούμε τους Νέους 2025 - Εβελίνα Τσιαντζή Μαντέ
DESCRIPTION:Η Εβελίνα Τσιαντζή Μαντέ\, διακριθείσα στο διαγωνισμό «Ακούμε τους Νέους 2025»\, παρουσιάζει ένα πρόγραμμα με έργα για σόλο πιάνο\, ενώ συμπράττει με τον διακεκριμένο βιολίστα\, Ηλία Σδούκο. Θα ακουστούν έργα των Bach\, Chopin\, Prokofiev\, Rachmaninoff\, Vieuxtemps\, Rota και Shostakovich.\n\nΤο καινοτόμο πρόγραμμα «Ακούμε τους Νέους» είναι ένα ολοκληρωμένο πρόγραμμα στήριξης νεοεμφανιζόμενων μουσικών στο πεδίο της κλασικής μουσικής\, που έχει ως στόχο να συστήσει τους νέους μουσικούς στο μελλοντικό τους κοινό\, με συναυλίες\, ηχογραφήσεις και φεστιβάλ. Συγχρόνως\, επιδιώκει να πραγματοποιεί συναυλίες κλασικής μουσικής σε μη συμβατικούς χώρους\, όπως αρχαία θέατρα και εν γενεί πολιτιστικά μνημεία.\n\nΥλοποιείται χάρη στη συνέργεια του Καλογεροπούλειου Ιδρύματος με το σωματείο ΔΙΑΖΩΜΑ\, το Μέγαρο Μουσικής Αθηνών και το Τρίτο Πρόγραμμα\, ενώ συνεργάζεται με μεγάλους πολιτιστικούς φορείς της χώρας μας όπως οι Κρατικές Ορχήστρες Αθήνας και Θεσσαλονίκης\, η Underground Youth Orchestra και το Φεστιβάλ του Δήμοου Αθηναίων.\n\nΥλοποιείται με την υποστήριξη των χορηγών/εταιρικών μελών: Ίδρυμα Καπετάν Βασίλη και Κάρμεν Κωνσταντακόπουλου\, Vinci/ Ολυμπία Οδός\, Διεθνής Αερολιμένας Αθηνών\, Περιφέρεια Πελοποννήσου.
URL:https://cityfestival.thisisathens.org/event/akoume-tous-neous-2025-evelina-tsiantzi-mante/
LOCATION:Μουσείο Ιστορίας του Πανεπιστημίου Αθηνών\, Θόλου 5\, Αθήνα\, Αθήνα\, 105 56\, Greece
CATEGORIES:ΔΩΡΕΑΝ,ΣΥΝΑΥΛΙΑ,ΨΥΧΑΓΩΓΙΑ
ATTACH;FMTTYPE=image/jpeg:https://cityfestival.thisisathens.org/wp-content/uploads/2025/04/1.jpg
END:VEVENT
BEGIN:VEVENT
DTSTART;TZID=Europe/Athens:20250520T200000
DTEND;TZID=Europe/Athens:20250520T213000
DTSTAMP:20260420T111628
CREATED:20250327T132428Z
LAST-MODIFIED:20250513T063632Z
UID:10002437-1747771200-1747776600@cityfestival.thisisathens.org
SUMMARY:Dobrawa Czocher
DESCRIPTION:Η Πρεσβεία της Πολωνικής Δημοκρατίας  στην Αθήνα και το Φεστιβάλ του Δήμου Αθηναίων παρουσιάζουν για πρώτη φορά στην Ελλάδα τη διεθνούς φήμης τσελίστρια Dobrawa Czocher. Με μακρά και πολυβραβευμένη καριέρα ως σολίστ\, μουσικός δωματίου και ορχήστρας\, η Czocher εξερευνά με πάθος νέες πτυχές του ήχου του βιολοντσέλου\, συνδυάζοντας με μαεστρία την κλασική με τη σύγχρονη μουσική.\n\nΗ Czocher\, ένα από τα κορυφαία ονόματα της «modern classical» μουσικής σκηνής\, έχει στο ενεργητικό της δύο άλμπουμ με τη διάσημη πιανίστρια Hania Rani\, με την οποία έχει περιοδεύσει σε όλο τον κόσμο. Στη Ρωμαϊκή Αγορά θα εμφανιστεί με το νέο της ντουέτο\, την Natalia Czekała στα πλήκτρα να δίνει μία μοναδική ηλεκτρονική αισθητική.\n\nΑπαιτείται η κράτηση θέσης.
URL:https://cityfestival.thisisathens.org/event/dobrawa-czocher/
LOCATION:Ρωμαϊκή Αγορά της Αθήνας\, Πολυγνώτου 3\, Αθήνα\, Αθήνα\, 105 55\, Greece
CATEGORIES:ΔΩΡΕΑΝ,ΣΥΝΑΥΛΙΑ,ΥΠΑΙΘΡΙΑ ΔΡΑΣΗ,ΨΥΧΑΓΩΓΙΑ
ATTACH;FMTTYPE=image/webp:https://cityfestival.thisisathens.org/wp-content/uploads/2025/03/dobrawa-czocher-scaled-1.webp
END:VEVENT
BEGIN:VEVENT
DTSTART;TZID=Europe/Athens:20250520T200000
DTEND;TZID=Europe/Athens:20250520T230000
DTSTAMP:20260420T111628
CREATED:20250327T133755Z
LAST-MODIFIED:20250506T125141Z
UID:10002445-1747771200-1747782000@cityfestival.thisisathens.org
SUMMARY:3ο Προσβάσιμο Stand-Up Comedy Festival
DESCRIPTION:Οι Cool Crips επιστρέφουν με το Accessible Comedy Nights Vol. 3\, δυο βραδιές stand-up comedy\, που διαμορφώνονται με γνώμονα την ισότιμη πρόσβαση όλων. Η εκδήλωση θα πραγματοποιηθεί στις 20 και 21 Μαΐου στο Μηχανουργείο της Τεχνόπολης του Δήμου Αθηναίων.\n\nΤα Accessible Comedy Nights ξεκίνησαν για να αποδείξουν ότι η κωμωδία μπορεί να είναι πραγματικά για όλες\, όλους και όλα. Δεν πρόκειται για μια «ειδική» παράσταση\, αλλά για stand-up όπως το ξέρουμε\, χωρίς να αποκλείεται κανένα άτομο λόγω έλλειψης προσβασιμότητας.\n\nΗ εκδήλωση θα πραγματοποιηθεί σε χώρο προσβάσιμο σε άτομα με κινητικές αναπηρίες και θα περιλαμβάνει ζωντανή διερμηνεία στην Ελληνική Νοηματική Γλώσσα\, καθώς και ζωντανό υπερτιτλισμό στα ελληνικά. Οι κωμικές εμφανίσεις θα είναι επίσης σχεδιασμένες ώστε να είναι φιλικές προς τυφλά άτομα.\n\nΣτη σκηνή θα ανέβουν η Κατερίνα Βρανά\, ο Αριστοτέλης Ρήγας\, η Μελίνα Κόλλια\, ο Αριστείδης Ψυλλιάκος\, ο Κώστας Κρύος και ο Αλέξανδρος Τιτκώβ\, ενώ δύο νέοι ανάπηροι κωμικοί θα έχουν την δυνατότητα να παρουσιάσουν το act τους.\n\nΤο Accessible Comedy Nights Vol. 3 είναι μια ακόμα υπενθύμιση ότι η τέχνη και η ψυχαγωγία δεν μπορούν να είναι πραγματικά ανοιχτές αν δεν είναι σχεδιασμένες με γνώμονα την προσβασιμότητα.\n\nΓιατί το γέλιο ανήκει σε όλες\, όλους και όλα!
URL:https://cityfestival.thisisathens.org/event/3o-prosvasimo-stand-up-comedy-festival/
LOCATION:Τεχνόπολη Δήμου Αθηναίων\, Πειραιώς 100\, Αθήνα\, Αθήνα\, 118 54\, Greece
CATEGORIES:ΘΕΑΤΡΟ,ΨΥΧΑΓΩΓΙΑ
ATTACH;FMTTYPE=image/webp:https://cityfestival.thisisathens.org/wp-content/uploads/2025/03/20230519-OSF-AthensCityFestival-Hip-Hop-Festival-0055-X3.jpg.webp
END:VEVENT
END:VCALENDAR