BEGIN:VCALENDAR
VERSION:2.0
PRODID:-//Το Φεστιβάλ του Δήμου Αθηναίων - ECPv6.12.0.1//NONSGML v1.0//EN
CALSCALE:GREGORIAN
METHOD:PUBLISH
X-WR-CALNAME:Το Φεστιβάλ του Δήμου Αθηναίων
X-ORIGINAL-URL:https://cityfestival.thisisathens.org
X-WR-CALDESC:Events for Το Φεστιβάλ του Δήμου Αθηναίων
REFRESH-INTERVAL;VALUE=DURATION:PT1H
X-Robots-Tag:noindex
X-PUBLISHED-TTL:PT1H
BEGIN:VTIMEZONE
TZID:Europe/Athens
BEGIN:DAYLIGHT
TZOFFSETFROM:+0200
TZOFFSETTO:+0300
TZNAME:EEST
DTSTART:20250330T010000
END:DAYLIGHT
BEGIN:STANDARD
TZOFFSETFROM:+0300
TZOFFSETTO:+0200
TZNAME:EET
DTSTART:20251026T010000
END:STANDARD
END:VTIMEZONE
BEGIN:VEVENT
DTSTART;TZID=Europe/Athens:20250521T123000
DTEND;TZID=Europe/Athens:20250521T133000
DTSTAMP:20260421T134722
CREATED:20250423T120611Z
LAST-MODIFIED:20250506T122123Z
UID:10003632-1747830600-1747834200@cityfestival.thisisathens.org
SUMMARY:Από τη Μεγάλη στη Σύγχρονη Ελλάδα - Μέρος Β: Οι Πρόσφυγες
DESCRIPTION:Ξενάγηση στο δεύτερο μέρος της έκθεσης «Από τη Μεγάλη στη Σύγχρονη Ελλάδα»\, η οποία παρακολουθεί την ολοκλήρωση της δημιουργίας της χώρας από άποψη συνόρων και πληθυσμού. Το πρώτο μέρος\, που παρουσιάστηκε το 2022\, περιγράφει όσα γεγονότα οδήγησαν στην παγίωση των συνόρων μετά το τέλος του Α΄ Παγκοσμίου Πολέμου\, εστιάζοντας στη Μικρασιατική Εκστρατεία και το συλλογικό τραύμα της καταστροφής της Σμύρνης.\n\nΤο δεύτερο μέρος με τον υπότιτλο «Οι Πρόσφυγες» επικεντρώνεται στην πληθυσμιακή διαμόρφωση της Ελλάδας μέσα από τις μετακινήσεις πληθυσμών επί έναν αιώνα. Η έκθεση πραγματοποιείται με την αποκλειστική χορηγία της Τράπεζας Πειραιώς.\n\nΗ δράση απευθύνεται σε ενήλικες.\n\nΑπαιτείται η κράτηση θέσης: +210 32 22 266 (εσωτ. 109)\, Τρίτη-Παρασκευή\, 09:00-15:00.\nΟι κρατήσεις ανοίγουν μία εβδομάδα πριν τη δράση\, στις 12:00 το μεσημέρι.
URL:https://cityfestival.thisisathens.org/event/apo-ti-megali-sti-sygxroni-ellada-prosfyges/
LOCATION:Εθνικό Ιστορικό Μουσείο\, Σταδίου 13\, Αθήνα\, Αθήνα\, 105 61\, Greece
CATEGORIES:ΔΩΡΕΑΝ,ΕΚΘΕΣΗ,ΜΟΥΣΕΙΟ,ΠΕΡΙΗΓΗΣΗ
ATTACH;FMTTYPE=image/png:https://cityfestival.thisisathens.org/wp-content/uploads/2025/04/OWN-greater-contemporary-greece-2.png
END:VEVENT
END:VCALENDAR