BEGIN:VCALENDAR
VERSION:2.0
PRODID:-//Το Φεστιβάλ του Δήμου Αθηναίων - ECPv6.12.0.1//NONSGML v1.0//EN
CALSCALE:GREGORIAN
METHOD:PUBLISH
X-ORIGINAL-URL:https://cityfestival.thisisathens.org
X-WR-CALDESC:Events for Το Φεστιβάλ του Δήμου Αθηναίων
REFRESH-INTERVAL;VALUE=DURATION:PT1H
X-Robots-Tag:noindex
X-PUBLISHED-TTL:PT1H
BEGIN:VTIMEZONE
TZID:Europe/Athens
BEGIN:DAYLIGHT
TZOFFSETFROM:+0200
TZOFFSETTO:+0300
TZNAME:EEST
DTSTART:20250330T010000
END:DAYLIGHT
BEGIN:STANDARD
TZOFFSETFROM:+0300
TZOFFSETTO:+0200
TZNAME:EET
DTSTART:20251026T010000
END:STANDARD
END:VTIMEZONE
BEGIN:VEVENT
DTSTART;TZID=Europe/Athens:20250523T100000
DTEND;TZID=Europe/Athens:20250523T180000
DTSTAMP:20260420T111641
CREATED:20250424T102622Z
LAST-MODIFIED:20250425T160020Z
UID:10003790-1747994400-1748023200@cityfestival.thisisathens.org
SUMMARY:CONQUISTADORS
DESCRIPTION:Ο Νίκος Κυριακόπουλος και οι conquistadors του\, αποβιβάζονται στη Λένορμαν.\nΔράκοι και άγρια θηρία\, ντόπιοι και conquistadors αλλά και ο Θάνατος αυτοπροσώπως\, μάχονται μέσα σε απάτητες ζούγκλες.\n\nΤα 36 έργα που απαρτίζουν την έκθεση\, δεν έχουν στόχο να υπηρετήσουν την ιστορία ή το ιστορικό genre της ζωγραφικής. Ο καλλιτέχνης αντλεί το υλικό του από τον μύθο που συνοδεύει την Εποχή των Ανακαλύψεων και πλάθει εικόνες μακριά και πέραν του νατουραλισμού\, τόσο σε μορφολογικό όσο και σε επίπεδο θεματικού περιεχομένου.\nΤα έργα έχουν δημιουργηθεί με την μέθοδο της μονοτυπίας\, τεχνική που χρονολογείται από τον 16ο αιώνα και που\, σε συνδυασμό με τις ιστορίες που περιγράφουν\, αποκτούν ένα ακόμη ιδιαίτερο ενδιαφέρον.\nΟι περιπέτειες των ηρώων αποτελούν αφορμή όχι μόνο για τις περιπέτειες της γραμμής και του χρώματος\, αλλά και αφετηρία για στοχασμό πάνω σε έννοιες όπως αυτές της επιθυμίας\, του φόβου\, της σύγκρουσης ή της πλάνης.\n\nΕγκαίνια: Πέμπτη 8 Μαΐου 2025 και ώρα 19:30 – 23:00\n\nΏρες λειτουργίας:\nΚαθημερινά 10:00 – 18:00\nΣάββατο 11:00 – 15:00\nΚυριακή κλειστά
URL:https://cityfestival.thisisathens.org/event/conquistadors/2025-05-23/
LOCATION:Πολιτιστικός Χώρος Macart\, Λένορμαν 244\, Αθήνα\, Αθήνα\, 104 43\, Greece
CATEGORIES:ΓΚΑΛΕΡΙ,ΔΩΡΕΑΝ,ΕΚΘΕΣΗ,ΨΥΧΑΓΩΓΙΑ
ATTACH;FMTTYPE=image/jpeg:https://cityfestival.thisisathens.org/wp-content/uploads/2025/04/DSC_7775-1.jpg
END:VEVENT
BEGIN:VEVENT
DTSTART;TZID=Europe/Athens:20250523T113000
DTEND;TZID=Europe/Athens:20250523T203000
DTSTAMP:20260420T111641
CREATED:20250424T085600Z
LAST-MODIFIED:20250506T132608Z
UID:10003748-1747999800-1748032200@cityfestival.thisisathens.org
SUMMARY:Βασίλης Παπαγεωργίου - Ζωγραφική και Γλυπτική: Lignea Creatura Stans
DESCRIPTION:Ο φυτικός\, ζωικός και ανθρώπινος κόσμος\, ο θρύλος\, ο μύθος\, η φαντασία και το όνειρο συνθέτουν τη νέα εικαστική θεματική του Βασίλη Παπαγεωργίου. Οι οξύμωροι ήρωες του\, τα ξυλοπλάσματα που εφευρίσκει\, βρίσκονται στον δισδιάστατο και τρισδιάστατο χώρο που μας περιβάλλει\, σε μια διαρκή περιδίνηση. Εποπτεύοντας αισθητικά\, το βάθος των συνεπειών της καταστροφής του κόσμου από την ανθρώπινη παρέμβαση\, δημιουργεί αξίες από πολιτισμικές αναφορές της παράδοσης και της φύσης\, οι οποίες ορίζουν τις παραμέτρους της συνύπαρξης.\n\nΏρες λειτουργίας: Δευτέρα-Παρασκευή 11:30- 14:30 & 17:30 – 20:30\, Σάββατο: 11:30-15:00
URL:https://cityfestival.thisisathens.org/event/vassilis-papageorgiou-zografiki-lignea-creatura-stans-2/2025-05-23/
LOCATION:Γκαλερί Έρση\, Κλεομένους 4\, Αθήνα\, Αθήνα\, 106 75\, Greece
CATEGORIES:ΓΚΑΛΕΡΙ,ΔΩΡΕΑΝ,ΕΚΘΕΣΗ,ΨΥΧΑΓΩΓΙΑ
ATTACH;FMTTYPE=image/jpeg:https://cityfestival.thisisathens.org/wp-content/uploads/2025/04/ΒΑΣΙΛΗΣ-ΠΑΠΑΓΕΩΡΓΙΟΥΑνάγνωση2023-Λάδι-σε-λινό-160-195-cm.jpg
END:VEVENT
BEGIN:VEVENT
DTSTART;TZID=Europe/Athens:20250523T180000
DTEND;TZID=Europe/Athens:20250523T200000
DTSTAMP:20260420T111641
CREATED:20250422T121148Z
LAST-MODIFIED:20250506T120950Z
UID:10003606-1748023200-1748030400@cityfestival.thisisathens.org
SUMMARY:Τριάστερον Αρχιτεκτονικόν Στέμμα: Η Νεοκλασική Τριλογία των Αθηνών
DESCRIPTION:Ο αρχαιολόγος και διπλωματούχος ξεναγός Μιχάλης Γιοχάλας\, σε συνεργασία με το Φεστιβάλ του Δήμου Αθηναίων\, πραγματοποιεί μία ξενάγηση στην Αθηναϊκή Τριλογία.\n\nΠανεπιστήμιο\, Ακαδημία\, Βιβλιοθήκη: Opus Magnum των αδελφών Hans Christian και Theophilus Hansen\, η νεοκλασική τριλογία των Αθηνών\, το\, κατά τον Αλέξανδρο Φιλαδελφέα\, «τριάστερον αρχιτεκτονικόν στέμμα της ημετέρας πόλεως»\, από την ολοκλήρωσή της έως σήμερα συνιστά τοπόσημο διαχρονικό και εμβληματικό.\n\nΣτην καρδιά του αστικού ιστού\, εικονογραφικές και φιλολογικές αναφορές στην αρχαία ιστορία και μυθολογία διαπλέκονται με την κυρίαρχη ιδεολογία\, καθώς το εγγύς παρελθόν αναμετράται με το απώτερο\, αντανακλώντας την ψυχή\, τις προσδοκίες και τα οράματα μίας περασμένης εποχής.\n\nΣημείο Συνάντησης: Σταθμός Μετρό Πανεπιστήμιο – Έξοδος Πανεπιστημίου\n\nΑπαιτείται η κράτηση θέσης.
URL:https://cityfestival.thisisathens.org/event/triasteron-architektonikon-stemma-trilogia-athinon-2/
LOCATION:Αθηναϊκή Τριλογία\, Πανεπιστημίου 39\, Αθήνα\, Αθήνα\, 105 64\, Greece
CATEGORIES:ΔΩΡΕΑΝ,ΠΕΡΙΗΓΗΣΗ,ΥΠΑΙΘΡΙΑ ΔΡΑΣΗ,ΨΥΧΑΓΩΓΙΑ
ATTACH;FMTTYPE=image/jpeg:https://cityfestival.thisisathens.org/wp-content/uploads/2025/03/ΤΡΙΛΟΓΙΑ-ΜΕΡΟΣ-Β-scaled.jpg
END:VEVENT
BEGIN:VEVENT
DTSTART;TZID=Europe/Athens:20250523T203000
DTEND;TZID=Europe/Athens:20250523T220000
DTSTAMP:20260420T111641
CREATED:20250401T124726Z
LAST-MODIFIED:20250520T113142Z
UID:10003264-1748032200-1748037600@cityfestival.thisisathens.org
SUMMARY:Πατινάδα με την Αγία Φανφάρα
DESCRIPTION:Η Αγία Φανφάρα\, η 25μελής μπάντα χάλκινων\, ξύλινων πνευστών και κρουστών ανήκει στη σφαίρα των “super stars” της ελληνικής μουσικής. Όχι ως στάση\, καθώς κανένα από τα μέλη της δε γίνεται να προσαρμοστεί σε ένα τέτοιο «κοστούμι». Είναι η λατρεία του κοινού που τούς ακολουθεί φανατικά και τούς χαρίζει αυτή τη διάκριση. Η Αγία Φανφάρα δίνει το παρόν στο Φεστιβάλ του Δήμου Αθηναίων με τη συμμετοχή της στο μεγάλο street πάρτυ -μια γιορτή με μουσικές των Βαλκανίων- σε μια διαδρομή που ξεκινά από την πλατεία Αττικής και καταλήγει στην πλατεία του Αγίου Παντελεήμονα.
URL:https://cityfestival.thisisathens.org/event/patinada-me-tin-agia-fanfara/
LOCATION:Πλατεία Αττικής\, Πλατεία Αττικής\, Αθήνα\, Αθήνα\, 104 40\, Greece
CATEGORIES:ΔΩΡΕΑΝ,ΣΥΝΑΥΛΙΑ,ΥΠΑΙΘΡΙΑ ΔΡΑΣΗ,ΨΥΧΑΓΩΓΙΑ
ATTACH;FMTTYPE=image/jpeg:https://cityfestival.thisisathens.org/wp-content/uploads/2025/04/Agia-Fanfara.jpg
END:VEVENT
END:VCALENDAR