BEGIN:VCALENDAR
VERSION:2.0
PRODID:-//Το Φεστιβάλ του Δήμου Αθηναίων - ECPv6.12.0.1//NONSGML v1.0//EN
CALSCALE:GREGORIAN
METHOD:PUBLISH
X-ORIGINAL-URL:https://cityfestival.thisisathens.org
X-WR-CALDESC:Events for Το Φεστιβάλ του Δήμου Αθηναίων
REFRESH-INTERVAL;VALUE=DURATION:PT1H
X-Robots-Tag:noindex
X-PUBLISHED-TTL:PT1H
BEGIN:VTIMEZONE
TZID:Europe/Athens
BEGIN:DAYLIGHT
TZOFFSETFROM:+0200
TZOFFSETTO:+0300
TZNAME:EEST
DTSTART:20250330T010000
END:DAYLIGHT
BEGIN:STANDARD
TZOFFSETFROM:+0300
TZOFFSETTO:+0200
TZNAME:EET
DTSTART:20251026T010000
END:STANDARD
END:VTIMEZONE
BEGIN:VEVENT
DTSTART;TZID=Europe/Athens:20250524T103000
DTEND;TZID=Europe/Athens:20250524T113000
DTSTAMP:20260421T135035
CREATED:20250423T124207Z
LAST-MODIFIED:20250519T133802Z
UID:10003645-1748082600-1748086200@cityfestival.thisisathens.org
SUMMARY:Ξενάγηση στο Σπίτι του Ελύτη
DESCRIPTION:Στο νεοκλασικό κτήριο στην οδό Διοσκούρων 4 & Πολυγνώτου\, από την 1η Νοεμβρίου 2024 λειτουργεί το νέο Μουσείο «ΣΠΙΤΙ ΤΟΥ ΕΛΥΤΗ».\n\nΤο Μουσείο φιλοξενεί μία μόνιμη έκθεση αφιερωμένη στη ζωή και στο έργο του μεγάλου ποιητή. Χειρόγραφα\, εκδόσεις ελληνικές και ξένες\, εικαστικά έργα\, ποικίλα αυθεντικά τεκμήρια από το σπίτι του Ελύτη\, παρουσιάζονται μαζί με το σύνολο του γραφείου του ποιητή\, του χώρου όπου εργαζόταν από το 1962 έως το τέλος της ζωής του.\n\nΑπαιτείται η κράτηση θέσης: info@elytishousemuseum.gr\n\nΟι θέσεις έχουν καλυφθεί.
URL:https://cityfestival.thisisathens.org/event/xenagisi-spiti-elyti-2/
LOCATION:Σπίτι του Ελύτη – Μουσείο\, Πολυγνώτου 7\, Αθήνα\, Αθήνα\, 105 55\, Greece
CATEGORIES:ΔΩΡΕΑΝ,ΕΚΘΕΣΗ,ΛΟΓΟΤΕΧΝΙΑ,ΜΟΥΣΕΙΟ,ΠΕΡΙΗΓΗΣΗ
ATTACH;FMTTYPE=image/jpeg:https://cityfestival.thisisathens.org/wp-content/uploads/2025/03/elitis_banner.jpg
END:VEVENT
BEGIN:VEVENT
DTSTART;TZID=Europe/Athens:20250524T110000
DTEND;TZID=Europe/Athens:20250524T120000
DTSTAMP:20260421T135035
CREATED:20250423T122108Z
LAST-MODIFIED:20250506T120658Z
UID:10003637-1748084400-1748088000@cityfestival.thisisathens.org
SUMMARY:Κύπρος 74 - Δεν Ξεχνώ
DESCRIPTION:Ξενάγηση στην έκθεση μνήμης με αφορμή τη συμπλήρωση 50 χρόνων από την τουρκική εισβολή στην Κύπρο. Μέσα από σπάνιες αφίσες της εποχής και αντίστοιχο φωτογραφικό υλικό\, η έκθεση φιλοδοξεί να αναδείξει τα γεγονότα της κυπριακής τραγωδίας\, την πανελλήνια συμπαράσταση στον λαό της Κύπρου και τον συνεχή αγώνα του για ελευθερία και δικαιοσύνη.\n\nΑπαιτείται η κράτηση θέσης: +210 322 2266 (εσωτ. 109)\, Τρίτη-Παρασκευή\, 09:00-15:00.\nΟι κρατήσεις ανοίγουν μία εβδομάδα πριν τη δράση\, στις 12:00 το μεσημέρι.
URL:https://cityfestival.thisisathens.org/event/kypros-74-den-ksexnw-2/
LOCATION:Εθνικό Ιστορικό Μουσείο\, Σταδίου 13\, Αθήνα\, Αθήνα\, 105 61\, Greece
CATEGORIES:ΔΩΡΕΑΝ,ΕΚΘΕΣΗ,ΜΟΥΣΕΙΟ,ΠΕΡΙΗΓΗΣΗ
ATTACH;FMTTYPE=image/jpeg:https://cityfestival.thisisathens.org/wp-content/uploads/2025/04/ΚΥΠΡΟΣ.jpg
END:VEVENT
BEGIN:VEVENT
DTSTART;TZID=Europe/Athens:20250524T110000
DTEND;TZID=Europe/Athens:20250524T130000
DTSTAMP:20260421T135035
CREATED:20250509T152502Z
LAST-MODIFIED:20250509T153944Z
UID:10003937-1748084400-1748091600@cityfestival.thisisathens.org
SUMMARY:Τριάστερον Αρχιτεκτονικόν Στέμμα: Η Νεοκλασική Τριλογία των Αθηνών
DESCRIPTION:Ο αρχαιολόγος και διπλωματούχος ξεναγός Μιχάλης Γιοχάλας\, σε συνεργασία με το Φεστιβάλ του Δήμου Αθηναίων\, πραγματοποιεί μία ξενάγηση στην Αθηναϊκή Τριλογία.\n\nΠανεπιστήμιο\, Ακαδημία\, Βιβλιοθήκη: Opus Magnum των αδελφών Hans Christian και Theophilus Hansen\, η νεοκλασική τριλογία των Αθηνών\, το\, κατά τον Αλέξανδρο Φιλαδελφέα\, «τριάστερον αρχιτεκτονικόν στέμμα της ημετέρας πόλεως»\, από την ολοκλήρωσή της έως σήμερα συνιστά τοπόσημο διαχρονικό και εμβληματικό.\n\nΣτην καρδιά του αστικού ιστού\, εικονογραφικές και φιλολογικές αναφορές στην αρχαία ιστορία και μυθολογία διαπλέκονται με την κυρίαρχη ιδεολογία\, καθώς το εγγύς παρελθόν αναμετράται με το απώτερο\, αντανακλώντας την ψυχή\, τις προσδοκίες και τα οράματα μίας περασμένης εποχής.\n\nΣημείο Συνάντησης: Σταθμός Μετρό Πανεπιστήμιο – Έξοδος Πανεπιστημίου\n\nΑπαιτείται η κράτηση θέσης.
URL:https://cityfestival.thisisathens.org/event/triasteron/
LOCATION:Αθηναϊκή Τριλογία\, Πανεπιστημίου 39\, Αθήνα\, Αθήνα\, 105 64\, Greece
CATEGORIES:ΔΩΡΕΑΝ,ΙΣΤΟΡΙΑ,ΠΕΡΙΗΓΗΣΗ,ΥΠΑΙΘΡΙΑ ΔΡΑΣΗ
ATTACH;FMTTYPE=image/jpeg:https://cityfestival.thisisathens.org/wp-content/uploads/2025/03/ΤΡΙΛΟΓΙΑ-ΜΕΡΟΣ-Β-scaled.jpg
END:VEVENT
BEGIN:VEVENT
DTSTART;TZID=Europe/Athens:20250524T110000
DTEND;TZID=Europe/Athens:20250524T133000
DTSTAMP:20260421T135035
CREATED:20250407T092819Z
LAST-MODIFIED:20250506T120620Z
UID:10003391-1748084400-1748093400@cityfestival.thisisathens.org
SUMMARY:Δεκεμβριανά – Η Μάχη στου Μακρυγιάννη
DESCRIPTION:Σε αυτόν τον περίπατο\, που θα πραγματοποιήσει ο ιστορικός Μενέλαος Χαραλαμπίδης\, θα ασχοληθούμε με μια από τις πιο σημαντικές μάχες των Δεκεμβριανών\, αυτή των στρατώνων του Συντάγματος Χωροφυλακής Μακρυγιάννη.\n\nΘα δούμε τον τρόπο υλοποίησής της από τον ΕΛΑΣ\, την αγωνιώδη άμυνα των χωροφυλάκων\, την καθοριστική επέμβαση των βρετανικών δυνάμεων και τις κινήσεις αντιπερισπασμού σε άλλα μέτωπα της μάχης.\n\nΣημείο συνάντησης: Είσοδος Ζαππείου Μεγάρου\n\nΑπαιτείται η κράτηση θέσης.
URL:https://cityfestival.thisisathens.org/event/dekemvriana-maxi-makriyianni/
LOCATION:Ζάππειο Μέγαρο\, Zappeion Hall\, Αθήνα\, Αθήνα\, 105 57\, Greece
CATEGORIES:ΔΩΡΕΑΝ,ΙΣΤΟΡΙΑ,ΠΕΡΙΗΓΗΣΗ,ΥΠΑΙΘΡΙΑ ΔΡΑΣΗ
ATTACH;FMTTYPE=image/jpeg:https://cityfestival.thisisathens.org/wp-content/uploads/2025/04/image5.jpeg
GEO:37.971705378867;23.736738299693
X-APPLE-STRUCTURED-LOCATION;VALUE=URI;X-ADDRESS=Ζάππειο Μέγαρο Zappeion Hall Αθήνα Αθήνα 105 57 Greece;X-APPLE-RADIUS=500;X-TITLE=Zappeion Hall:geo:23.736738299693,37.971705378867
END:VEVENT
BEGIN:VEVENT
DTSTART;TZID=Europe/Athens:20250524T180000
DTEND;TZID=Europe/Athens:20250524T193000
DTSTAMP:20260421T135035
CREATED:20250327T112619Z
LAST-MODIFIED:20250506T120037Z
UID:10001272-1748109600-1748115000@cityfestival.thisisathens.org
SUMMARY:Ιστορικός Περίπατος
DESCRIPTION:Το Εθνικό Αρχαιολογικό Μουσείο και ο Δρ Κώστας Πασχαλίδης παρουσιάζουν σε έναν απογευματινό περίπατο το συνοπτικό χρονικό του Ελληνικού Κράτους από την ίδρυσή του μέχρι σήμερα.\n\nΜια ιστορία που ξεκινάει πριν από δύο αιώνες\, από ένα οικόπεδο που ήταν αμπέλι\, κατόπιν έγινε λέσχη των Βαυαρών στρατιωτών\, σημείο ανέγερσης του μεγαλύτερου Μουσείου του αρχαίου κόσμου\, τόπος αγωνιώδους απόκρυψης αρχαιοτήτων εν όψει πολέμου\, εμβληματικό σημείο της Εθνικής Αντίστασης στην Κατοχή\, μάρτυρας της φοιτητικής εξέγερσης του Πολυτεχνείου\, κιβωτός αστείρευτων εκθέσεων. Ένας μικρός τόπος στην «καρδιά» της Αθήνας\, που έζησε τη γέννηση και τις περιπέτειες μιας ολόκληρης χώρας.\n\nΑπαιτείται η κράτηση θέσης.
URL:https://cityfestival.thisisathens.org/event/istorikos-peripatos/
LOCATION:Εθνικό Αρχαιολογικό Μουσείο\, Πατησίων 44\, Αθήνα\, Αθήνα\, 106 82\, Greece
CATEGORIES:ΔΩΡΕΑΝ,ΙΣΤΟΡΙΑ,ΜΟΥΣΕΙΟ,ΠΕΡΙΗΓΗΣΗ,ΥΠΑΙΘΡΙΑ ΔΡΑΣΗ
ATTACH;FMTTYPE=image/jpeg:https://cityfestival.thisisathens.org/wp-content/uploads/2025/03/20230527-TGR-AthensCityFestival-PeripatosArchaelogicalMuseum-0096-scaled.jpg
END:VEVENT
BEGIN:VEVENT
DTSTART;TZID=Europe/Athens:20250524T183000
DTEND;TZID=Europe/Athens:20250524T200000
DTSTAMP:20260421T135035
CREATED:20250407T095759Z
LAST-MODIFIED:20250426T170732Z
UID:10003395-1748111400-1748116800@cityfestival.thisisathens.org
SUMMARY:Μύθοι της Πόλης από την Αρχαιότητα έως Σήμερα
DESCRIPTION:Ένα ταξίδι στους μύθους που έχτισαν και συνόδεψαν την πόλη ανά τους αιώνες\, από την αχλύ του μύθου μέχρι τις απαρχές της σύγχρονης ιστορίας. Η περιήγηση\, από τον λόφο των Μουσών μέχρι το Μοναστηράκι και την πλατεία Ασωμάτων\, αποτελεί μια βόλτα στο χώρο\, το χρόνο\, τις ιστορικές καταγραφές και τις λαϊκές δοξασίες.\n\nΣημείο συνάντησης: Περίβολος Ι.Ν Αγίας Μαρίνας\, κοντά στο Αστεροσκοπείο.\n\nΑπαιτείται η κράτηση θέσης.
URL:https://cityfestival.thisisathens.org/event/mythoi-polis-apo-tin-arxaiotita-simera/
LOCATION:Ιερός Ναός Αγίας Μαρίνας\, Αγίας Μαρίνας 1\, Αθήνα\, Αθήνα\, 118 51\, Greece
CATEGORIES:ΔΩΡΕΑΝ,ΠΕΡΙΗΓΗΣΗ,ΥΠΑΙΘΡΙΑ ΔΡΑΣΗ
ATTACH;FMTTYPE=image/jpeg:https://cityfestival.thisisathens.org/wp-content/uploads/2025/04/Tsiounis.jpg
END:VEVENT
BEGIN:VEVENT
DTSTART;TZID=Europe/Athens:20250524T200000
DTEND;TZID=Europe/Athens:20250524T200000
DTSTAMP:20260421T135035
CREATED:20250424T073639Z
LAST-MODIFIED:20250506T115817Z
UID:10003699-1748116800-1748116800@cityfestival.thisisathens.org
SUMMARY:Όλο το MOMus-Μουσείο Άλεξ Μυλωνά με μία Επίσκεψη
DESCRIPTION:Καλεσμένοι σε μια ειδική ξενάγηση σε όλους τους χώρους του Μουσείου από τον επιμελητή Γιάννη Μπόλη\, ανακαλύπτουμε την ιστορία του κτιρίου\, της ιδρύτριάς του Άλεξ Μυλωνά\, των συλλογών του και της περιοδικής έκθεσης «a Cabinets of Curiosities»\, με τα έργα 78 εικαστικών στη βάση του απροσδόκητου\, του αμφίσημου\, του αινιγματικού\, του φανταστικού και του γκροτέσκο.\n\nΑπαιτείται η κράτηση θέσης: +210 321 5717 (Τρίτη-Κυριακή 10:00-18:00\, Πέμπτη 10:00-21:00)\n\nΟι κρατήσεις ανοίγουν 17/5\, στις 12:00 το μεσημέρι.
URL:https://cityfestival.thisisathens.org/event/momus-mouseio-alex-mylona-mia-episkepsi/
LOCATION:MOMus-Μουσείο Άλεξ Μυλωνά\, Πλατεία Αγίων Ασωμάτων 5\, Αθήνα\, Αθήνα\, 105 54\, Greece
CATEGORIES:ΔΩΡΕΑΝ,ΕΚΘΕΣΗ,ΜΟΥΣΕΙΟ,ΠΕΡΙΗΓΗΣΗ
ATTACH;FMTTYPE=image/jpeg:https://cityfestival.thisisathens.org/wp-content/uploads/2025/04/momusalexmylona_curiosities_photo-Talc-Studio-5-scaled.jpg
END:VEVENT
END:VCALENDAR